* using log directory 'd:/RCompile/CRANincoming/R-devel/ubair.Rcheck' * using R Under development (unstable) (2025-01-13 r87564 ucrt) * using platform: x86_64-w64-mingw32 * R was compiled by gcc.exe (GCC) 13.3.0 GNU Fortran (GCC) 13.3.0 * running under: Windows Server 2022 x64 (build 20348) * using session charset: UTF-8 * checking for file 'ubair/DESCRIPTION' ... OK * this is package 'ubair' version '1.1.0' * package encoding: UTF-8 * checking CRAN incoming feasibility ... NOTE Maintainer: 'Imke Voss ' New submission License components with restrictions and base license permitting such: GPL (>= 3) + file LICENSE File 'LICENSE': DL-DE->BY-2.0 Data licence Germany – attribution – version 2.0 This licence refers to the sample_data_DESN025 provided in this publication. Provider of the data: Sächsisches Landesamt für Umwelt, Landwirtschaft und Geologie (LfULG) Alterations in the data: Codes for incorrect values have been removed. (1) Any use will be permitted provided it fulfils the requirements of this "Data licence Germany – attribution – Version 2.0". The data and meta-data provided may, for commercial and non-commercial use, in particular - be copied, printed, presented, altered, processed and transmitted to third parties; - be merged with own data and with the data of others and be combined to form new and independent datasets; - be integrated in internal and external business processes, products and applications in public and non-public electronic networks. (2) The user must ensure that the source note contains the following information: - the name of the provider, - the annotation "Data licence Germany – attribution – Version 2.0" or "dl-de/by-2-0" referring to the licence text available at www.govdata.de/dl-de/by-2-0, and - a reference to the dataset (URI). This applies only if the entity keeping the data provides the pieces of information 1-3 for the source note. (3) Changes, editing, new designs or other amendments must be marked as such in the source note.   URL: http://www.govdata.de/dl-de/by-2-0 Package has a VignetteBuilder field but no prebuilt vignette index. The Description field should not start with the package name, 'This package' or similar. * checking package namespace information ... OK * checking package dependencies ... OK * checking if this is a source package ... OK * checking if there is a namespace ... OK * checking for hidden files and directories ... OK * checking for portable file names ... OK * checking whether package 'ubair' can be installed ... OK * checking installed package size ... OK * checking package directory ... OK * checking for future file timestamps ... OK * checking DESCRIPTION meta-information ... OK * checking top-level files ... OK * checking for left-over files ... OK * checking index information ... OK * checking package subdirectories ... OK * checking code files for non-ASCII characters ... OK * checking R files for syntax errors ... OK * checking whether the package can be loaded ... OK * checking whether the package can be loaded with stated dependencies ... OK * checking whether the package can be unloaded cleanly ... OK * checking whether the namespace can be loaded with stated dependencies ... OK * checking whether the namespace can be unloaded cleanly ... OK * checking loading without being on the library search path ... OK * checking use of S3 registration ... OK * checking dependencies in R code ... OK * checking S3 generic/method consistency ... OK * checking replacement functions ... OK * checking foreign function calls ... OK * checking R code for possible problems ... [10s] OK * checking Rd files ... OK * checking Rd metadata ... OK * checking Rd line widths ... OK * checking Rd cross-references ... OK * checking for missing documentation entries ... OK * checking for code/documentation mismatches ... OK * checking Rd \usage sections ... OK * checking Rd contents ... OK * checking for unstated dependencies in examples ... OK * checking contents of 'data' directory ... OK * checking data for non-ASCII characters ... OK * checking LazyData ... OK * checking data for ASCII and uncompressed saves ... OK * checking installed files from 'inst/doc' ... OK * checking files in 'vignettes' ... OK * checking examples ... OK * checking for unstated dependencies in 'tests' ... OK * checking tests ... OK Running 'testthat.R' * checking for unstated dependencies in vignettes ... OK * checking package vignettes ... OK * checking re-building of vignette outputs ... OK * checking PDF version of manual ... [14s] OK * checking HTML version of manual ... OK * DONE Status: 1 NOTE