* using log directory ‘/srv/hornik/tmp/CRAN_pretest/sinimr.Rcheck’ * using R Under development (unstable) (2025-07-01 r88373) * using platform: x86_64-pc-linux-gnu * R was compiled by Debian clang version 19.1.7 (3) Debian flang-new version 19.1.7 (3) * running under: Debian GNU/Linux 13 (trixie) * using session charset: UTF-8 * checking for file ‘sinimr/DESCRIPTION’ ... OK * checking extension type ... Package * this is package ‘sinimr’ version ‘0.3.4’ * package encoding: UTF-8 * checking CRAN incoming feasibility ... [4s/8s] NOTE Maintainer: ‘Roberto Salas ’ New submission Possibly misspelled words in DESCRIPTION: SINIM (9:52) chilean (9:24) Package has a VignetteBuilder field but no prebuilt vignette index. Size of tarball: 8048392 bytes * checking package namespace information ... OK * checking package dependencies ... INFO Vignette dependency required without any vignettes: ‘knitr’ * checking if this is a source package ... OK * checking if there is a namespace ... OK * checking for executable files ... OK * checking for hidden files and directories ... NOTE Found the following hidden files and directories: .github These were most likely included in error. See section ‘Package structure’ in the ‘Writing R Extensions’ manual. CRAN-pack does not know about .github * checking for portable file names ... OK * checking for sufficient/correct file permissions ... OK * checking whether package ‘sinimr’ can be installed ... [3s/3s] OK * checking package directory ... OK * checking for future file timestamps ... OK * checking DESCRIPTION meta-information ... NOTE Malformed Description field: should contain one or more complete sentences. * checking top-level files ... NOTE File LICENSE is not mentioned in the DESCRIPTION file. Non-standard files/directories found at top level: ‘README.Rmd’ ‘_pkgdown.yml’ ‘codecov.yml’ ‘docs’ ‘sandbox’ * checking for left-over files ... OK * checking index information ... OK * checking package subdirectories ... OK * checking code files for non-ASCII characters ... OK * checking R files for syntax errors ... OK * checking whether the package can be loaded ... [1s/1s] OK * checking whether the package can be loaded with stated dependencies ... [1s/1s] OK * checking whether the package can be unloaded cleanly ... [1s/1s] OK * checking whether the namespace can be loaded with stated dependencies ... [1s/1s] OK * checking whether the namespace can be unloaded cleanly ... [1s/1s] OK * checking loading without being on the library search path ... [1s/1s] OK * checking use of S3 registration ... OK * checking dependencies in R code ... OK * checking S3 generic/method consistency ... OK * checking replacement functions ... OK * checking foreign function calls ... OK * checking R code for possible problems ... [4s/4s] NOTE geofilter: no visible binding for global variable ‘id_geo_census’ geofilter: no visible binding for global variable ‘code.reg’ geofilter: no visible binding for global variable ‘code.prov’ geofilter: no visible binding for global variable ‘code’ get_sinim: no visible binding for global variable ‘code’ get_sinim: no visible binding for global variable ‘id_geo_census’ get_sinim: no visible binding for global variable ‘census_geometry_comunas’ get_sinim: no visible binding for global variable ‘census_geometry_limites’ get_sinim_vars: no visible binding for global variable ‘id_subarea’ Undefined global functions or variables: census_geometry_comunas census_geometry_limites code code.prov code.reg id_geo_census id_subarea * checking Rd files ... [0s/0s] OK * checking Rd metadata ... OK * checking Rd line widths ... OK * checking Rd cross-references ... OK * checking for missing documentation entries ... OK * checking for code/documentation mismatches ... OK * checking Rd \usage sections ... OK * checking Rd contents ... OK * checking for unstated dependencies in examples ... OK * checking contents of ‘data’ directory ... OK * checking data for non-ASCII characters ... [0s/0s] OK * checking LazyData ... OK * checking data for ASCII and uncompressed saves ... OK * checking examples ... [3s/26s] NOTE Examples with CPU (user + system) or elapsed time > 5s user system elapsed get_sinim 1.402 0.057 21.536 * checking for unstated dependencies in ‘tests’ ... OK * checking tests ... [4s/24s] OK Running ‘testthat.R’ [4s/24s] * checking PDF version of manual ... [2s/2s] OK * checking HTML version of manual ... [0s/0s] OK * checking for non-standard things in the check directory ... OK * checking for detritus in the temp directory ... OK * DONE Status: 6 NOTEs