* using log directory ‘/srv/hornik/tmp/CRAN_pretest/sf.Rcheck’
* using R Under development (unstable) (2025-03-23 r88038)
* using platform: x86_64-pc-linux-gnu
* R was compiled by
    Debian clang version 19.1.7 (1+b1)
    Debian flang-new version 19.1.7 (1+b1)
* running under: Debian GNU/Linux trixie/sid
* using session charset: UTF-8
* checking for file ‘sf/DESCRIPTION’ ... OK
* this is package ‘sf’ version ‘1.0-20’
* package encoding: UTF-8
* checking CRAN incoming feasibility ... [5s/11s] OK
* checking package namespace information ... OK
* checking package dependencies ... OK
* checking if this is a source package ... OK
* checking if there is a namespace ... OK
* checking for executable files ... OK
* checking for hidden files and directories ... OK
* checking for portable file names ... OK
* checking for sufficient/correct file permissions ... OK
* checking serialization versions ... OK
* checking whether package ‘sf’ can be installed ... [66s/66s] OK
* used C++ compiler: ‘Debian clang version 19.1.7 (1+b1)’
* checking package directory ... OK
* checking for future file timestamps ... OK
* checking ‘build’ directory ... OK
* checking DESCRIPTION meta-information ... OK
* checking top-level files ... OK
* checking for left-over files ... OK
* checking index information ... OK
* checking package subdirectories ... OK
* checking code files for non-ASCII characters ... OK
* checking R files for syntax errors ... OK
* checking whether the package can be loaded ... [0s/0s] OK
* checking whether the package can be loaded with stated dependencies ... [0s/0s] OK
* checking whether the package can be unloaded cleanly ... [0s/0s] OK
* checking whether the namespace can be loaded with stated dependencies ... [0s/0s] OK
* checking whether the namespace can be unloaded cleanly ... [0s/0s] OK
* checking loading without being on the library search path ... [0s/0s] OK
* checking whether startup messages can be suppressed ... [0s/0s] OK
* checking use of S3 registration ... OK
* checking dependencies in R code ... OK
* checking S3 generic/method consistency ... OK
* checking replacement functions ... OK
* checking foreign function calls ... OK
* checking R code for possible problems ... [15s/15s] OK
* checking Rd files ... [0s/0s] OK
* checking Rd metadata ... OK
* checking Rd line widths ... OK
* checking Rd cross-references ... OK
* checking for missing documentation entries ... OK
* checking for code/documentation mismatches ... OK
* checking Rd \usage sections ... OK
* checking Rd contents ... OK
* checking for unstated dependencies in examples ... OK
* checking line endings in shell scripts ... OK
* checking line endings in C/C++/Fortran sources/headers ... OK
* checking line endings in Makefiles ... OK
* checking compilation flags in Makevars ... OK
* checking for GNU extensions in Makefiles ... OK
* checking for portable use of $(BLAS_LIBS) and $(LAPACK_LIBS) ... OK
* checking use of PKG_*FLAGS in Makefiles ... OK
* checking use of SHLIB_OPENMP_*FLAGS in Makefiles ... OK
* checking pragmas in C/C++ headers and code ... OK
* checking compilation flags used ... OK
* checking compiled code ... OK
* checking installed files from ‘inst/doc’ ... OK
* checking files in ‘vignettes’ ... OK
* checking examples ... [16s/16s] OK
* checking for unstated dependencies in ‘demo’ ... OK
* checking for unstated dependencies in ‘tests’ ... OK
* checking tests ... [53s/53s] OK
  Running ‘aggregate.R’ [1s/1s]
  Comparing ‘aggregate.Rout’ to ‘aggregate.Rout.save’ ... OK
  Running ‘cast.R’ [1s/1s]
  Comparing ‘cast.Rout’ to ‘cast.Rout.save’ ... OK
  Running ‘crs.R’ [1s/1s]
  Comparing ‘crs.Rout’ to ‘crs.Rout.save’ ... OK
  Running ‘dist.R’ [1s/1s]
  Comparing ‘dist.Rout’ to ‘dist.Rout.save’ ... OK
  Running ‘dplyr.R’ [2s/2s]
  Comparing ‘dplyr.Rout’ to ‘dplyr.Rout.save’ ... OK
  Running ‘empty.R’ [1s/1s]
  Comparing ‘empty.Rout’ to ‘empty.Rout.save’ ... OK
  Running ‘full.R’ [1s/1s]
  Comparing ‘full.Rout’ to ‘full.Rout.save’ ... OK
  Running ‘gdal_geom.R’ [1s/1s]
  Comparing ‘gdal_geom.Rout’ to ‘gdal_geom.Rout.save’ ... OK
  Running ‘geos.R’ [11s/11s]
  Comparing ‘geos.Rout’ to ‘geos.Rout.save’ ... OK
  Running ‘graticule.R’ [2s/2s]
  Comparing ‘graticule.Rout’ to ‘graticule.Rout.save’ ... OK
  Running ‘grid.R’ [1s/1s]
  Comparing ‘grid.Rout’ to ‘grid.Rout.save’ ... OK
  Running ‘maps.R’ [1s/1s]
  Comparing ‘maps.Rout’ to ‘maps.Rout.save’ ... OK
  Running ‘plot.R’ [4s/4s]
  Comparing ‘plot.Rout’ to ‘plot.Rout.save’ ... OK
  Running ‘read.R’ [1s/1s]
  Comparing ‘read.Rout’ to ‘read.Rout.save’ ... OK
  Running ‘roundtrip.R’ [1s/1s]
  Comparing ‘roundtrip.Rout’ to ‘roundtrip.Rout.save’ ... OK
  Running ‘s2.R’ [1s/1s]
  Comparing ‘s2.Rout’ to ‘s2.Rout.save’ ... OK
  Running ‘sample.R’ [1s/1s]
  Comparing ‘sample.Rout’ to ‘sample.Rout.save’ ... OK
  Running ‘sfc.R’ [6s/6s]
  Comparing ‘sfc.Rout’ to ‘sfc.Rout.save’ ... OK
  Running ‘sfg.R’ [0s/0s]
  Comparing ‘sfg.Rout’ to ‘sfg.Rout.save’ ... OK
  Running ‘spatstat.R’ [2s/2s]
  Comparing ‘spatstat.Rout’ to ‘spatstat.Rout.save’ ... OK
  Running ‘stars.R’ [2s/2s]
  Comparing ‘stars.Rout’ to ‘stars.Rout.save’ ... OK
  Running ‘testthat.R’ [10s/10s]
  Running ‘units.R’ [1s/1s]
  Comparing ‘units.Rout’ to ‘units.Rout.save’ ... OK
  Running ‘wkb.R’ [1s/1s]
  Comparing ‘wkb.Rout’ to ‘wkb.Rout.save’ ... OK
* checking for unstated dependencies in vignettes ... OK
* checking package vignettes ... OK
* checking re-building of vignette outputs ... [31s/31s] OK
* checking PDF version of manual ... [5s/4s] OK
* checking HTML version of manual ... [2s/2s] OK
* checking for non-standard things in the check directory ... OK
* checking for detritus in the temp directory ... OK
* DONE
Status: OK