* using log directory ‘/srv/hornik/tmp/CRAN_pretest/seqtrie.Rcheck’
* using R Under development (unstable) (2025-10-19 r88945)
* using platform: x86_64-pc-linux-gnu
* R was compiled by
Debian clang version 19.1.7 (7)
Debian flang-new version 19.1.7 (7)
* running under: Debian GNU/Linux forky/sid
* using session charset: UTF-8
* checking for file ‘seqtrie/DESCRIPTION’ ... OK
* this is package ‘seqtrie’ version ‘0.3.5’
* package encoding: UTF-8
* checking CRAN incoming feasibility ... [4s/5s] OK
* checking package namespace information ... OK
* checking package dependencies ... OK
* checking if this is a source package ... OK
* checking if there is a namespace ... OK
* checking for executable files ... OK
* checking for hidden files and directories ... OK
* checking for portable file names ... OK
* checking for sufficient/correct file permissions ... OK
* checking whether package ‘seqtrie’ can be installed ... [22s/22s] OK
* used C++ compiler: ‘Debian clang version 19.1.7 (7)’
* checking C++ specification ... OK
* checking package directory ... OK
* checking for future file timestamps ... OK
* checking ‘build’ directory ... OK
* checking DESCRIPTION meta-information ... OK
* checking top-level files ... OK
* checking for left-over files ... OK
* checking index information ... OK
* checking package subdirectories ... OK
* checking code files for non-ASCII characters ... OK
* checking R files for syntax errors ... OK
* checking whether the package can be loaded ... [0s/0s] OK
* checking whether the package can be loaded with stated dependencies ... [0s/0s] OK
* checking whether the package can be unloaded cleanly ... [0s/0s] OK
* checking whether the namespace can be loaded with stated dependencies ... [0s/0s] OK
* checking whether the namespace can be unloaded cleanly ... [0s/0s] OK
* checking loading without being on the library search path ... [0s/0s] OK
* checking whether startup messages can be suppressed ... [0s/0s] OK
* checking use of S3 registration ... OK
* checking dependencies in R code ... OK
* checking S3 generic/method consistency ... OK
* checking replacement functions ... OK
* checking foreign function calls ... OK
* checking R code for possible problems ... [3s/3s] OK
* checking Rd files ... [0s/0s] OK
* checking Rd metadata ... OK
* checking Rd line widths ... OK
* checking Rd cross-references ... OK
* checking for missing documentation entries ... OK
* checking for code/documentation mismatches ... OK
* checking Rd \usage sections ... OK
* checking Rd contents ... OK
* checking for unstated dependencies in examples ... OK
* checking contents of ‘data’ directory ... OK
* checking data for non-ASCII characters ... [0s/0s] OK
* checking LazyData ... OK
* checking data for ASCII and uncompressed saves ... OK
* checking line endings in C/C++/Fortran sources/headers ... OK
* checking line endings in Makefiles ... OK
* checking compilation flags in Makevars ... OK
* checking for GNU extensions in Makefiles ... OK
* checking for portable use of $(BLAS_LIBS) and $(LAPACK_LIBS) ... OK
* checking use of PKG_*FLAGS in Makefiles ... OK
* checking use of SHLIB_OPENMP_*FLAGS in Makefiles ... OK
* checking pragmas in C/C++ headers and code ... OK
* checking compilation flags used ... OK
* checking compiled code ... OK
* checking installed files from ‘inst/doc’ ... OK
* checking files in ‘vignettes’ ... OK
* checking examples ... [1s/1s] OK
* checking for unstated dependencies in ‘tests’ ... OK
* checking tests ... [173s/129s] OK
Running ‘test_RadixForest.R’ [12s/12s]
Running ‘test_RadixTree.R’ [53s/33s]
Running ‘test_pairwise.R’ [107s/83s]
Running ‘test_single_gap_search.R’ [2s/1s]
* checking for unstated dependencies in vignettes ... OK
* checking package vignettes ... OK
* checking re-building of vignette outputs ... [3s/3s] OK
* checking PDF version of manual ... [4s/4s] OK
* checking HTML version of manual ... [0s/0s] NOTE
Found the following HTML validation problems:
RadixForest.html:137:1 (RadixForest.Rd:76): Warning:
anchor "Usage" already defined
RadixForest.html:153:1 (RadixForest.Rd:86): Warning: anchor "Usage" already defined
RadixForest.html:169:1 (RadixForest.Rd:96): Warning: anchor "Usage" already defined
RadixForest.html:175:1 (RadixForest.Rd:100): Warning: anchor "Arguments" already defined
RadixForest.html:209:1 (RadixForest.Rd:120): Warning: anchor "Usage" already defined
RadixForest.html:215:1 (RadixForest.Rd:124): Warning: anchor "Returns" already defined
RadixForest.html:232:1 (RadixForest.Rd:133): Warning: anchor "Usage" already defined
RadixForest.html:238:1 (RadixForest.Rd:137): Warning: anchor "Returns" already defined
RadixForest.html:255:1 (RadixForest.Rd:146): Warning: anchor "Usage" already defined
RadixForest.html:261:1 (RadixForest.Rd:150): Warning: anchor "Arguments" already defined
RadixForest.html:274:1 (RadixForest.Rd:157): Warning: anchor "Returns" already defined
RadixForest.html:291:1 (RadixForest.Rd:166): Warning: anchor "Usage" already defined
RadixForest.html:297:1 (RadixForest.Rd:170): Warning: anchor "Arguments" already defined
RadixForest.html:310:1 (RadixForest.Rd:177): Warning: anchor "Returns" already defined
RadixForest.html:327:1 (RadixForest.Rd:186): Warning: anchor "Usage" already defined
RadixForest.html:333:1 (RadixForest.Rd:190): Warning: anchor "Arguments" already defined
RadixForest.html:346:1 (RadixForest.Rd:197): Warning: anchor "Returns" already defined
RadixForest.html:364:1 (RadixForest.Rd:207): Warning: anchor "Usage" already defined
RadixForest.html:370:1 (RadixForest.Rd:211): Warning: anchor "Arguments" already defined
RadixForest.html:383:1 (RadixForest.Rd:218): Warning: anchor "Returns" already defined
RadixForest.html:400:1 (RadixForest.Rd:227): Warning: anchor "Usage" already defined
RadixForest.html:413:1 (RadixForest.Rd:238): Warning: anchor "Arguments" already defined
RadixForest.html:436:1 (RadixForest.Rd:255): Warning: anchor "Returns" already defined
RadixForest.html:453:1 (RadixForest.Rd:264): Warning: anchor "Usage" already defined
RadixForest.html:459:1 (RadixForest.Rd:268): Warning: anchor "Returns" already defined
RadixTree.html:152:1 (RadixTree.Rd:92): Warning: anchor "Usage" already defined
RadixTree.html:168:1 (RadixTree.Rd:102): Warning: anchor "Usage" already defined
RadixTree.html:191:1 (RadixTree.Rd:115): Warning: anchor "Usage" already defined
RadixTree.html:197:1 (RadixTree.Rd:119): Warning: anchor "Arguments" already defined
RadixTree.html:214:1 (RadixTree.Rd:130): Warning: anchor "Returns" already defined
RadixTree.html:231:1 (RadixTree.Rd:139): Warning: anchor "Usage" already defined
RadixTree.html:237:1 (RadixTree.Rd:143): Warning: anchor "Returns" already defined
RadixTree.html:254:1 (RadixTree.Rd:152): Warning: anchor "Usage" already defined
RadixTree.html:260:1 (RadixTree.Rd:156): Warning: anchor "Returns" already defined
RadixTree.html:277:1 (RadixTree.Rd:165): Warning: anchor "Usage" already defined
RadixTree.html:283:1 (RadixTree.Rd:169): Warning: anchor "Arguments" already defined
RadixTree.html:296:1 (RadixTree.Rd:176): Warning: anchor "Returns" already defined
RadixTree.html:313:1 (RadixTree.Rd:185): Warning: anchor "Usage" already defined
RadixTree.html:319:1 (RadixTree.Rd:189): Warning: anchor "Arguments" already defined
RadixTree.html:332:1 (RadixTree.Rd:196): Warning: anchor "Returns" already defined
RadixTree.html:349:1 (RadixTree.Rd:205): Warning: anchor "Usage" already defined
RadixTree.html:355:1 (RadixTree.Rd:209): Warning: anchor "Arguments" already defined
RadixTree.html:368:1 (RadixTree.Rd:216): Warning: anchor "Returns" already defined
RadixTree.html:386:1 (RadixTree.Rd:226): Warning: anchor "Usage" already defined
RadixTree.html:392:1 (RadixTree.Rd:230): Warning: anchor "Arguments" already defined
RadixTree.html:405:1 (RadixTree.Rd:237): Warning: anchor "Returns" already defined
RadixTree.html:422:1 (RadixTree.Rd:246): Warning: anchor "Usage" already defined
RadixTree.html:438:1 (RadixTree.Rd:260): Warning: anchor "Arguments" already defined
RadixTree.html:467:1 (RadixTree.Rd:283): Warning: anchor "Returns" already defined
RadixTree.html:485:1 (RadixTree.Rd:293): Warning: anchor "Usage" already defined
RadixTree.html:497:1 (RadixTree.Rd:303): Warning: anchor "Arguments" already defined
RadixTree.html:518:1 (RadixTree.Rd:318): Warning: anchor "Returns" already defined
RadixTree.html:535:1 (RadixTree.Rd:327): Warning: anchor "Usage" already defined
RadixTree.html:541:1 (RadixTree.Rd:331): Warning: anchor "Returns" already defined
* checking for non-standard things in the check directory ... OK
* checking for detritus in the temp directory ... OK
* DONE
Status: 1 NOTE