* using log directory ‘/home/hornik/tmp/CRAN_special_donttest/sentopics.Rcheck’ * using R Under development (unstable) (2025-10-13 r88918) * using platform: x86_64-pc-linux-gnu * R was compiled by gcc-15 (Debian 15.2.0-4) 15.2.0 GNU Fortran (Debian 15.2.0-4) 15.2.0 * running under: Debian GNU/Linux forky/sid * using session charset: UTF-8 * using option ‘--run-donttest’ * checking for file ‘sentopics/DESCRIPTION’ ... OK * checking extension type ... Package * this is package ‘sentopics’ version ‘0.7.6’ * package encoding: UTF-8 * checking CRAN incoming feasibility ... [6s/8s] OK * checking package namespace information ... OK * checking package dependencies ... OK * checking if this is a source package ... OK * checking if there is a namespace ... OK * checking for executable files ... OK * checking for hidden files and directories ... OK * checking for portable file names ... OK * checking for sufficient/correct file permissions ... OK * checking whether package ‘sentopics’ can be installed ... [30s/30s] OK * used C++ compiler: ‘g++-15 (Debian 15.2.0-4) 15.2.0’ * checking package directory ... OK * checking for future file timestamps ... OK * checking ‘build’ directory ... OK * checking DESCRIPTION meta-information ... OK * checking top-level files ... OK * checking for left-over files ... OK * checking index information ... OK * checking package subdirectories ... OK * checking code files for non-ASCII characters ... OK * checking R files for syntax errors ... OK * checking whether the package can be loaded ... [1s/1s] OK * checking whether the package can be loaded with stated dependencies ... [1s/1s] OK * checking whether the package can be unloaded cleanly ... [1s/1s] OK * checking whether the namespace can be loaded with stated dependencies ... [1s/1s] OK * checking whether the namespace can be unloaded cleanly ... [1s/1s] OK * checking loading without being on the library search path ... [1s/1s] OK * checking whether startup messages can be suppressed ... [1s/1s] OK * checking use of S3 registration ... OK * checking dependencies in R code ... OK * checking S3 generic/method consistency ... OK * checking replacement functions ... OK * checking foreign function calls ... OK * checking R code for possible problems ... [14s/14s] OK * checking Rd files ... [0s/0s] OK * checking Rd metadata ... OK * checking Rd line widths ... OK * checking Rd cross-references ... OK * checking for missing documentation entries ... OK * checking for code/documentation mismatches ... OK * checking Rd \usage sections ... OK * checking Rd contents ... OK * checking for unstated dependencies in examples ... OK * checking contents of ‘data’ directory ... OK * checking data for non-ASCII characters ... [2s/2s] OK * checking LazyData ... OK * checking data for ASCII and uncompressed saves ... OK * checking line endings in C/C++/Fortran sources/headers ... OK * checking line endings in Makefiles ... OK * checking compilation flags in Makevars ... OK * checking for GNU extensions in Makefiles ... OK * checking for portable use of $(BLAS_LIBS) and $(LAPACK_LIBS) ... OK * checking use of PKG_*FLAGS in Makefiles ... OK * checking use of SHLIB_OPENMP_*FLAGS in Makefiles ... OK * checking pragmas in C/C++ headers and code ... OK * checking compilation flags used ... OK * checking compiled code ... OK * checking installed files from ‘inst/doc’ ... OK * checking files in ‘vignettes’ ... OK * checking examples ... [187s/114s] NOTE Examples with CPU time > 2.5 times elapsed time user system elapsed ratio LDA 3.767 0.005 0.948 3.979 plot.sentopicmodel 4.469 0.069 1.238 3.666 LDAvis 3.977 0.022 1.161 3.444 sentiment_series 2.586 0.108 0.813 3.314 plot.multiChains 2.049 0.001 0.633 3.239 sentiment_breakdown 12.423 0.416 4.019 3.195 sentiment_topics 13.294 0.151 4.259 3.157 mergeTopics 9.793 0.115 3.232 3.066 melt.sentopicmodel 1.249 0.001 0.414 3.019 sentopics_sentiment 13.046 0.424 4.498 2.995 proportion_topics 12.474 0.250 4.538 2.804 chainsDistances 2.154 0.042 0.821 2.675 JST 4.974 0.361 2.115 2.522 * checking for unstated dependencies in ‘tests’ ... OK * checking tests ... [89s/75s] OK Running ‘testthat.R’ [88s/75s] * checking for unstated dependencies in vignettes ... OK * checking package vignettes ... OK * checking re-building of vignette outputs ... [59s/23s] OK * checking PDF version of manual ... [5s/4s] OK * checking HTML version of manual ... [1s/1s] OK * checking for non-standard things in the check directory ... OK * checking for detritus in the temp directory ... OK * DONE Status: 1 NOTE