* using log directory ‘/srv/hornik/tmp/CRAN_pretest/satin.Rcheck’ * using R Under development (unstable) (2025-09-27 r88882) * using platform: x86_64-pc-linux-gnu * R was compiled by Debian clang version 19.1.7 (3+b1) Debian flang-new version 19.1.7 (3+b1) * running under: Debian GNU/Linux forky/sid * using session charset: UTF-8 * checking for file ‘satin/DESCRIPTION’ ... OK * checking extension type ... Package * this is package ‘satin’ version ‘1.2.0’ * package encoding: UTF-8 * checking CRAN incoming feasibility ... [5s/16s] NOTE Maintainer: ‘Héctor Villalobos ’ No Authors@R field in DESCRIPTION. Please add one, modifying Authors@R: c(person(given = "Héctor", family = "Villalobos", role = c("aut", "cre"), email = "hvillalo@ipn.mx"), person(given = "Eduardo", family = "González-Rodríguez", role = "aut", email = "egonzale@cicese.mx")) as necessary. Found the following (possibly) invalid URLs: URL: http://sites.science.oregonstate.edu/ocean.productivity/ From: DESCRIPTION README.md Status: Error Message: SSL peer certificate or SSH remote key was not OK [orca.science.oregonstate.edu]: server verification failed: certificate signer not trusted. (CAfile: /etc/ssl/certs/ca-certificates.crt CRLfile: none) URL: http://sites.science.oregonstate.edu/ocean.productivity/standard.product.php From: man/dnpp.Rd man/read.osunpp.Rd Status: Error Message: SSL peer certificate or SSH remote key was not OK [orca.science.oregonstate.edu]: server verification failed: certificate signer not trusted. (CAfile: /etc/ssl/certs/ca-certificates.crt CRLfile: none) URL: https://oceancolor.gsfc.nasa.gov/cgi/l3 From: man/dchl.Rd man/dsst.Rd Status: 404 Message: Not Found URL: https://podaac-opendap.jpl.nasa.gov/opendap/allData/ghrsst/data/GDS2/L4/GLOB/JPL/MUR/v4.1/ From: man/read.ghrsst.Rd Status: Error Message: Could not resolve hostname [podaac-opendap.jpl.nasa.gov]: Could not resolve host: podaac-opendap.jpl.nasa.gov URL: https://portal.hdfgroup.org/display/support/Download+h4h5tools From: man/read.osunpp.Rd Status: 404 Message: Not Found URL: https://resources.marine.copernicus.eu/?option=com_csw&task=results (moved to https://data.marine.copernicus.eu/?option=com_csw&task=results) From: man/read.cmems.Rd Status: 301 Message: Moved Permanently URL: https://support.hdfgroup.org/products/hdf5_tools/h4toh5/download.html From: man/dnpp.Rd Status: 404 Message: Not Found For content that is 'Moved Permanently', please change http to https, add trailing slashes, or replace the old by the new URL. * checking package namespace information ... OK * checking package dependencies ... OK * checking if this is a source package ... OK * checking if there is a namespace ... OK * checking for executable files ... OK * checking for hidden files and directories ... OK * checking for portable file names ... OK * checking for sufficient/correct file permissions ... OK * checking whether package ‘satin’ can be installed ... [3s/3s] OK * checking package directory ... OK * checking for future file timestamps ... OK * checking DESCRIPTION meta-information ... OK * checking top-level files ... OK * checking for left-over files ... OK * checking index information ... OK * checking package subdirectories ... OK * checking code files for non-ASCII characters ... OK * checking R files for syntax errors ... OK * checking whether the package can be loaded ... [0s/0s] OK * checking whether the package can be loaded with stated dependencies ... [0s/0s] OK * checking whether the package can be unloaded cleanly ... [0s/0s] OK * checking whether the namespace can be loaded with stated dependencies ... [0s/0s] OK * checking whether the namespace can be unloaded cleanly ... [0s/0s] OK * checking loading without being on the library search path ... [0s/0s] OK * checking use of S3 registration ... OK * checking dependencies in R code ... OK * checking S3 generic/method consistency ... OK * checking replacement functions ... OK * checking foreign function calls ... OK * checking R code for possible problems ... [4s/4s] OK * checking Rd files ... [0s/0s] OK * checking Rd metadata ... OK * checking Rd line widths ... OK * checking Rd cross-references ... OK * checking for missing documentation entries ... OK * checking for code/documentation mismatches ... OK * checking Rd \usage sections ... OK * checking Rd contents ... OK * checking for unstated dependencies in examples ... OK * checking contents of ‘data’ directory ... OK * checking data for non-ASCII characters ... [0s/0s] OK * checking data for ASCII and uncompressed saves ... OK * checking examples ... [5s/5s] OK * checking PDF version of manual ... [4s/4s] OK * checking HTML version of manual ... [0s/0s] OK * checking for non-standard things in the check directory ... OK * checking for detritus in the temp directory ... OK * DONE Status: 1 NOTE