* using log directory ‘/srv/hornik/tmp/CRAN_pretest/rob.Rcheck’
* using R Under development (unstable) (2025-03-24 r88048)
* using platform: x86_64-pc-linux-gnu
* R was compiled by
    Debian clang version 19.1.7 (1+b1)
    Debian flang-new version 19.1.7 (1+b1)
* running under: Debian GNU/Linux trixie/sid
* using session charset: UTF-8
* checking for file ‘rob/DESCRIPTION’ ... OK
* this is package ‘rob’ version ‘0.1.0’
* package encoding: UTF-8
* checking CRAN incoming feasibility ... [3s/4s] NOTE
Maintainer: ‘Romario Conto <racontol@unal.edu.co>’

New submission

Authors@R field gives persons with deprecated or bad elements:
  Warning in person1(given = given[[i]], family = family[[i]], middle = middle[[i]],  :
    Invalid ORCID iD: ‘YOUR-ORCID-ID’.
  Calls: <Anonymous> ... FUN -> with -> with.default -> eval -> eval -> person1

The Title field should be in title case. Current version is:
  ‘Run orders with Assignment-Expansion method’
In title case that is:
  ‘Run Orders with Assignment-Expansion Method’
* checking package namespace information ... OK
* checking package dependencies ... OK
* checking if this is a source package ... OK
* checking if there is a namespace ... OK
* checking for executable files ... OK
* checking for hidden files and directories ... OK
* checking for portable file names ... OK
* checking for sufficient/correct file permissions ... OK
* checking serialization versions ... OK
* checking whether package ‘rob’ can be installed ... [1s/1s] OK
* checking package directory ... OK
* checking for future file timestamps ... OK
* checking DESCRIPTION meta-information ... NOTE
Authors@R field gives persons with invalid ORCID identifiers:
  Romario Conto <racontol@unal.edu.co> [aut, cre] (ORCID: YOUR-ORCID-ID)
Author field differs from that derived from Authors@R
  Author:    ‘Romario Conto [aut, cre] (YOUR-ORCID-ID)’
  Authors@R: ‘Romario Conto [aut, cre] (ORCID: YOUR-ORCID-ID)’

* checking top-level files ... OK
* checking for left-over files ... OK
* checking index information ... OK
* checking package subdirectories ... OK
* checking code files for non-ASCII characters ... OK
* checking R files for syntax errors ... OK
* checking whether the package can be loaded ... [0s/0s] OK
* checking whether the package can be loaded with stated dependencies ... [0s/0s] OK
* checking whether the package can be unloaded cleanly ... [0s/0s] OK
* checking whether the namespace can be loaded with stated dependencies ... [0s/0s] OK
* checking whether the namespace can be unloaded cleanly ... [0s/0s] OK
* checking loading without being on the library search path ... [0s/0s] OK
* checking use of S3 registration ... OK
* checking dependencies in R code ... OK
* checking S3 generic/method consistency ... OK
* checking replacement functions ... OK
* checking foreign function calls ... OK
* checking R code for possible problems ... [2s/2s] OK
* checking Rd files ... [0s/0s] OK
* checking Rd metadata ... OK
* checking Rd line widths ... OK
* checking Rd cross-references ... OK
* checking for missing documentation entries ... OK
* checking for code/documentation mismatches ... OK
* checking Rd \usage sections ... OK
* checking Rd contents ... OK
* checking for unstated dependencies in examples ... OK
* checking examples ... [0s/0s] OK
* checking PDF version of manual ... [2s/2s] OK
* checking HTML version of manual ... [0s/0s] OK
* checking for non-standard things in the check directory ... OK
* checking for detritus in the temp directory ... OK
* DONE
Status: 2 NOTEs