* using log directory 'd:/RCompile/CRANincoming/R-devel/rgeoda.Rcheck' * using R Under development (unstable) (2024-10-21 r87258 ucrt) * using platform: x86_64-w64-mingw32 * R was compiled by gcc.exe (GCC) 13.2.0 GNU Fortran (GCC) 13.2.0 * running under: Windows Server 2022 x64 (build 20348) * using session charset: UTF-8 * checking for file 'rgeoda/DESCRIPTION' ... OK * checking extension type ... Package * this is package 'rgeoda' version '0.0.10-5' * package encoding: UTF-8 * checking CRAN incoming feasibility ... NOTE Maintainer: 'Xun Li ' Size of tarball: 16412832 bytes * checking package namespace information ... OK * checking package dependencies ... OK * checking if this is a source package ... OK * checking if there is a namespace ... OK * checking for hidden files and directories ... NOTE Found the following hidden files and directories: inst/boost-develop/.git inst/boost-develop/.github These were most likely included in error. See section 'Package structure' in the 'Writing R Extensions' manual. CRAN-pack does not know about inst/boost-develop/.git inst/boost-develop/.github * checking for portable file names ... NOTE Found the following non-portable file paths: rgeoda/inst/boost-develop/boost_1_86_0/boost/accumulators/framework/accumulators/droppable_accumulator.hpp rgeoda/inst/boost-develop/boost_1_86_0/boost/accumulators/framework/accumulators/external_accumulator.hpp rgeoda/inst/boost-develop/boost_1_86_0/boost/accumulators/framework/accumulators/reference_accumulator.hpp rgeoda/inst/boost-develop/boost_1_86_0/boost/accumulators/framework/accumulators/value_accumulator.hpp rgeoda/inst/boost-develop/boost_1_86_0/boost/accumulators/statistics/p_square_cumulative_distribution.hpp rgeoda/inst/boost-develop/boost_1_86_0/boost/accumulators/statistics/parameters/quantile_probability.hpp rgeoda/inst/boost-develop/boost_1_86_0/boost/accumulators/statistics/weighted_p_square_cumul_dist.hpp rgeoda/inst/boost-develop/boost_1_86_0/boost/accumulators/statistics/weighted_p_square_cumulative_distribution.hpp rgeoda/inst/boost-develop/boost_1_86_0/boost/accumulators/statistics/weighted_peaks_over_threshold.hpp rgeoda/inst/boost-develop/boost_1_86_0/boost/atomic/detail/type_traits/has_unique_object_representations.hpp rgeoda/inst/boost-develop/boost_1_86_0/boost/atomic/detail/type_traits/is_nothrow_default_constructible.hpp rgeoda/inst/boost-develop/boost_1_86_0/boost/atomic/detail/type_traits/is_trivially_default_constructible.hpp rgeoda/inst/boost-develop/boost_1_86_0/boost/beast/_experimental/unit_test/detail/const_container.hpp rgeoda/inst/boost-develop/boost_1_86_0/boost/bimap/container_adaptor/associative_container_adaptor.hpp rgeoda/inst/boost-develop/boost_1_86_0/boost/bimap/container_adaptor/detail/non_unique_container_helper.hpp rgeoda/inst/boost-develop/boost_1_86_0/boost/bimap/container_adaptor/ordered_associative_container_adaptor.hpp rgeoda/inst/boost-develop/boost_1_86_0/boost/bimap/container_adaptor/support/iterator_facade_converters.hpp rgeoda/inst/boost-develop/boost_1_86_0/boost/bimap/container_adaptor/unordered_associative_container_adaptor.hpp rgeoda/inst/boost-develop/boost_1_86_0/boost/callable_traits/detail/polyfills/make_index_sequence.hpp rgeoda/inst/boost-develop/boost_1_86_0/boost/callable_traits/detail/unguarded/function_ptr_varargs.hpp rgeoda/inst/boost-develop/boost_1_86_0/boost/callable_traits/detail/unguarded/function_ptr_varargs_2.hpp rgeoda/inst/boost-develop/boost_1_86_0/boost/callable_traits/detail/unguarded/function_ptr_varargs_3.hpp rgeoda/inst/boost-develop/boost_1_86_0/boost/function_types/detail/pp_retag_default_cc/preprocessed.hpp rgeoda/inst/boost-develop/boost_1_86_0/boost/fusion/adapted/adt/detail/adapt_base_assoc_attr_filler.hpp rgeoda/inst/boost-develop/boost_1_86_0/boost/fusion/adapted/struct/detail/adapt_base_assoc_attr_filler.hpp rgeoda/inst/boost-develop/boost_1_86_0/boost/fusion/algorithm/iteration/detail/preprocessed/iter_fold.hpp rgeoda/inst/boost-develop/boost_1_86_0/boost/fusion/algorithm/iteration/detail/preprocessed/reverse_fold.hpp rgeoda/inst/boost-develop/boost_1_86_0/boost/fusion/algorithm/iteration/detail/preprocessed/reverse_iter_fold.hpp rgeoda/inst/boost-develop/boost_1_86_0/boost/fusion/algorithm/iteration/detail/segmented_for_each.hpp rgeoda/inst/boost-develop/boost_1_86_0/boost/fusion/algorithm/transformation/detail/preprocessed/zip.hpp rgeoda/inst/boost-develop/boost_1_86_0/boost/fusion/algorithm/transformation/detail/preprocessed/zip10.hpp rgeoda/inst/boost-develop/boost_1_86_0/boost/fusion/algorithm/transformation/detail/preprocessed/zip20.hpp rgeoda/inst/boost-develop/boost_1_86_0/boost/fusion/algorithm/transformation/detail/preprocessed/zip30.hpp rgeoda/inst/boost-develop/boost_1_86_0/boost/fusion/algorithm/transformation/detail/preprocessed/zip40.hpp rgeoda/inst/boost-develop/boost_1_86_0/boost/fusion/algorithm/transformation/detail/preprocessed/zip50.hpp rgeoda/inst/boost-develop/boost_1_86_0/boost/fusion/container/deque/detail/cpp03/deque_forward_ctor.hpp rgeoda/inst/boost-develop/boost_1_86_0/boost/fusion/container/deque/detail/cpp03/deque_initial_size.hpp rgeoda/inst/boost-develop/boost_1_86_0/boost/fusion/container/deque/detail/cpp03/deque_keyed_values.hpp rgeoda/inst/boost-develop/boost_1_86_0/boost/fusion/container/deque/detail/cpp03/deque_keyed_values_call.hpp rgeoda/inst/boost-develop/boost_1_86_0/boost/fusion/container/deque/detail/cpp03/preprocessed/as_deque.hpp rgeoda/inst/boost-develop/boost_1_86_0/boost/fusion/container/deque/detail/cpp03/preprocessed/as_deque10.hpp rgeoda/inst/boost-develop/boost_1_86_0/boost/fusion/container/deque/detail/cpp03/preprocessed/as_deque20.hpp rgeoda/inst/boost-develop/boost_1_86_0/boost/fusion/container/deque/detail/cpp03/preprocessed/as_deque30.hpp rgeoda/inst/boost-develop/boost_1_86_0/boost/fusion/container/deque/detail/cpp03/preprocessed/as_deque40.hpp rgeoda/inst/boost-develop/boost_1_86_0/boost/fusion/container/deque/detail/cpp03/preprocessed/as_deque50.hpp rgeoda/inst/boost-develop/boost_1_86_0/boost/fusion/container/deque/detail/cpp03/preprocessed/deque.hpp rgeoda/inst/boost-develop/boost_1_86_0/boost/fusion/container/deque/detail/cpp03/preprocessed/deque10.hpp rgeoda/inst/boost-develop/boost_1_86_0/boost/fusion/container/deque/detail/cpp03/preprocessed/deque10_fwd.hpp rgeoda/inst/boost-develop/boost_1_86_0/boost/fusion/container/deque/detail/cpp03/preprocessed/deque20.hpp rgeoda/inst/boost-develop/boost_1_86_0/boost/fusion/container/deque/detail/cpp03/preprocessed/deque20_fwd.hpp rgeoda/inst/boost-develop/boost_1_86_0/boost/fusion/container/deque/detail/cpp03/preprocessed/deque30.hpp rgeoda/inst/boost-develop/boost_1_86_0/boost/fusion/container/deque/detail/cpp03/preprocessed/deque30_fwd.hpp rgeoda/inst/boost-develop/boost_1_86_0/boost/fusion/container/deque/detail/cpp03/preprocessed/deque40.hpp rgeoda/inst/boost-develop/boost_1_86_0/boost/fusion/container/deque/detail/cpp03/preprocessed/deque40_fwd.hpp rgeoda/inst/boost-develop/boost_1_86_0/boost/fusion/container/deque/detail/cpp03/preprocessed/deque50.hpp rgeoda/inst/boost-develop/boost_1_86_0/boost/fusion/container/deque/detail/cpp03/preprocessed/deque50_fwd.hpp rgeoda/inst/boost-develop/boost_1_86_0/boost/fusion/container/deque/detail/cpp03/preprocessed/deque_fwd.hpp rgeoda/inst/boost-develop/boost_1_86_0/boost/fusion/container/deque/detail/cpp03/preprocessed/deque_initial_size.hpp rgeoda/inst/boost-develop/boost_1_86_0/boost/fusion/container/deque/detail/cpp03/preprocessed/deque_initial_size10.hpp rgeoda/inst/boost-develop/boost_1_86_0/boost/fusion/container/deque/detail/cpp03/preprocessed/deque_initial_size20.hpp rgeoda/inst/boost-develop/boost_1_86_0/boost/fusion/container/deque/detail/cpp03/preprocessed/deque_initial_size30.hpp rgeoda/inst/boost-develop/boost_1_86_0/boost/fusion/container/deque/detail/cpp03/preprocessed/deque_initial_size40.hpp rgeoda/inst/boost-develop/boost_1_86_0/boost/fusion/container/deque/detail/cpp03/preprocessed/deque_initial_size50.hpp rgeoda/inst/boost-develop/boost_1_86_0/boost/fusion/container/deque/detail/cpp03/preprocessed/deque_keyed_values.hpp rgeoda/inst/boost-develop/boost_1_86_0/boost/fusion/container/deque/detail/cpp03/preprocessed/deque_keyed_values10.hpp rgeoda/inst/boost-develop/boost_1_86_0/boost/fusion/container/deque/detail/cpp03/preprocessed/deque_keyed_values20.hpp rgeoda/inst/boost-develop/boost_1_86_0/boost/fusion/container/deque/detail/cpp03/preprocessed/deque_keyed_values30.hpp rgeoda/inst/boost-develop/boost_1_86_0/boost/fusion/container/deque/detail/cpp03/preprocessed/deque_keyed_values40.hpp rgeoda/inst/boost-develop/boost_1_86_0/boost/fusion/container/deque/detail/cpp03/preprocessed/deque_keyed_values50.hpp rgeoda/inst/boost-develop/boost_1_86_0/boost/fusion/container/generation/detail/preprocessed/deque_tie.hpp rgeoda/inst/boost-develop/boost_1_86_0/boost/fusion/container/generation/detail/preprocessed/deque_tie10.hpp rgeoda/inst/boost-develop/boost_1_86_0/boost/fusion/container/generation/detail/preprocessed/deque_tie20.hpp rgeoda/inst/boost-develop/boost_1_86_0/boost/fusion/container/generation/detail/preprocessed/deque_tie30.hpp rgeoda/inst/boost-develop/boost_1_86_0/boost/fusion/container/generation/detail/preprocessed/deque_tie40.hpp rgeoda/inst/boost-develop/boost_1_86_0/boost/fusion/container/generation/detail/preprocessed/deque_tie50.hpp rgeoda/inst/boost-develop/boost_1_86_0/boost/fusion/container/generation/detail/preprocessed/list_tie.hpp rgeoda/inst/boost-develop/boost_1_86_0/boost/fusion/container/generation/detail/preprocessed/list_tie10.hpp rgeoda/inst/boost-develop/boost_1_86_0/boost/fusion/container/generation/detail/preprocessed/list_tie20.hpp rgeoda/inst/boost-develop/boost_1_86_0/boost/fusion/container/generation/detail/preprocessed/list_tie30.hpp rgeoda/inst/boost-develop/boost_1_86_0/boost/fusion/container/generation/detail/preprocessed/list_tie40.hpp rgeoda/inst/boost-develop/boost_1_86_0/boost/fusion/container/generation/detail/preprocessed/list_tie50.hpp rgeoda/inst/boost-develop/boost_1_86_0/boost/fusion/container/generation/detail/preprocessed/make_deque.hpp rgeoda/inst/boost-develop/boost_1_86_0/boost/fusion/container/generation/detail/preprocessed/make_deque10.hpp rgeoda/inst/boost-develop/boost_1_86_0/boost/fusion/container/generation/detail/preprocessed/make_deque20.hpp rgeoda/inst/boost-develop/boost_1_86_0/boost/fusion/container/generation/detail/preprocessed/make_deque30.hpp rgeoda/inst/boost-develop/boost_1_86_0/boost/fusion/container/generation/detail/preprocessed/make_deque40.hpp rgeoda/inst/boost-develop/boost_1_86_0/boost/fusion/container/generation/detail/preprocessed/make_deque50.hpp rgeoda/inst/boost-develop/boost_1_86_0/boost/fusion/container/generation/detail/preprocessed/make_list.hpp rgeoda/inst/boost-develop/boost_1_86_0/boost/fusion/container/generation/detail/preprocessed/make_list10.hpp rgeoda/inst/boost-develop/boost_1_86_0/boost/fusion/container/generation/detail/preprocessed/make_list20.hpp rgeoda/inst/boost-develop/boost_1_86_0/boost/fusion/container/generation/detail/preprocessed/make_list30.hpp rgeoda/inst/boost-develop/boost_1_86_0/boost/fusion/container/generation/detail/preprocessed/make_list40.hpp rgeoda/inst/boost-develop/boost_1_86_0/boost/fusion/container/generation/detail/preprocessed/make_list50.hpp rgeoda/inst/boost-develop/boost_1_86_0/boost/fusion/container/generation/detail/preprocessed/make_map.hpp rgeoda/inst/boost-develop/boost_1_86_0/boost/fusion/container/generation/detail/preprocessed/make_map10.hpp rgeoda/inst/boost-develop/boost_1_86_0/boost/fusion/container/generation/detail/preprocessed/make_map20.hpp rgeoda/inst/boost-develop/boost_1_86_0/boost/fusion/container/generation/detail/preprocessed/make_map30.hpp rgeoda/inst/boost-develop/boost_1_86_0/boost/fusion/container/generation/detail/preprocessed/make_map40.hpp rgeoda/inst/boost-develop/boost_1_86_0/boost/fusion/container/generation/detail/preprocessed/make_map50.hpp rgeoda/inst/boost-develop/boost_1_86_0/boost/fusion/container/generation/detail/preprocessed/make_set.hpp rgeoda/inst/boost-develop/boost_1_86_0/boost/fusion/container/generation/detail/preprocessed/make_set10.hpp rgeoda/inst/boost-develop/boost_1_86_0/boost/fusion/container/generation/detail/preprocessed/make_set20.hpp rgeoda/inst/boost-develop/boost_1_86_0/boost/fusion/container/generation/detail/preprocessed/make_set30.hpp rgeoda/inst/boost-develop/boost_1_86_0/boost/fusion/container/generation/detail/preprocessed/make_set40.hpp rgeoda/inst/boost-develop/boost_1_86_0/boost/fusion/container/generation/detail/preprocessed/make_set50.hpp rgeoda/inst/boost-develop/boost_1_86_0/boost/fusion/container/generation/detail/preprocessed/make_vector.hpp rgeoda/inst/boost-develop/boost_1_86_0/boost/fusion/container/generation/detail/preprocessed/make_vector10.hpp rgeoda/inst/boost-develop/boost_1_86_0/boost/fusion/container/generation/detail/preprocessed/make_vector20.hpp rgeoda/inst/boost-develop/boost_1_86_0/boost/fusion/container/generation/detail/preprocessed/make_vector30.hpp rgeoda/inst/boost-develop/boost_1_86_0/boost/fusion/container/generation/detail/preprocessed/make_vector40.hpp rgeoda/inst/boost-develop/boost_1_86_0/boost/fusion/container/generation/detail/preprocessed/make_vector50.hpp rgeoda/inst/boost-develop/boost_1_86_0/boost/fusion/container/generation/detail/preprocessed/map_tie.hpp rgeoda/inst/boost-develop/boost_1_86_0/boost/fusion/container/generation/detail/preprocessed/map_tie10.hpp rgeoda/inst/boost-develop/boost_1_86_0/boost/fusion/container/generation/detail/preprocessed/map_tie20.hpp rgeoda/inst/boost-develop/boost_1_86_0/boost/fusion/container/generation/detail/preprocessed/map_tie30.hpp rgeoda/inst/boost-develop/boost_1_86_0/boost/fusion/container/generation/detail/preprocessed/map_tie40.hpp rgeoda/inst/boost-develop/boost_1_86_0/boost/fusion/container/generation/detail/preprocessed/map_tie50.hpp rgeoda/inst/boost-develop/boost_1_86_0/boost/fusion/container/generation/detail/preprocessed/vector_tie.hpp rgeoda/inst/boost-develop/boost_1_86_0/boost/fusion/container/generation/detail/preprocessed/vector_tie10.hpp rgeoda/inst/boost-develop/boost_1_86_0/boost/fusion/container/generation/detail/preprocessed/vector_tie20.hpp rgeoda/inst/boost-develop/boost_1_86_0/boost/fusion/container/generation/detail/preprocessed/vector_tie30.hpp rgeoda/inst/boost-develop/boost_1_86_0/boost/fusion/container/generation/detail/preprocessed/vector_tie40.hpp rgeoda/inst/boost-develop/boost_1_86_0/boost/fusion/container/generation/detail/preprocessed/vector_tie50.hpp rgeoda/inst/boost-develop/boost_1_86_0/boost/fusion/container/list/detail/cpp03/list_forward_ctor.hpp rgeoda/inst/boost-develop/boost_1_86_0/boost/fusion/container/list/detail/cpp03/list_to_cons_call.hpp rgeoda/inst/boost-develop/boost_1_86_0/boost/fusion/container/list/detail/cpp03/preprocessed/list.hpp rgeoda/inst/boost-develop/boost_1_86_0/boost/fusion/container/list/detail/cpp03/preprocessed/list10.hpp rgeoda/inst/boost-develop/boost_1_86_0/boost/fusion/container/list/detail/cpp03/preprocessed/list10_fwd.hpp rgeoda/inst/boost-develop/boost_1_86_0/boost/fusion/container/list/detail/cpp03/preprocessed/list20.hpp rgeoda/inst/boost-develop/boost_1_86_0/boost/fusion/container/list/detail/cpp03/preprocessed/list20_fwd.hpp rgeoda/inst/boost-develop/boost_1_86_0/boost/fusion/container/list/detail/cpp03/preprocessed/list30.hpp rgeoda/inst/boost-develop/boost_1_86_0/boost/fusion/container/list/detail/cpp03/preprocessed/list30_fwd.hpp rgeoda/inst/boost-develop/boost_1_86_0/boost/fusion/container/list/detail/cpp03/preprocessed/list40.hpp rgeoda/inst/boost-develop/boost_1_86_0/boost/fusion/container/list/detail/cpp03/preprocessed/list40_fwd.hpp rgeoda/inst/boost-develop/boost_1_86_0/boost/fusion/container/list/detail/cpp03/preprocessed/list50.hpp rgeoda/inst/boost-develop/boost_1_86_0/boost/fusion/container/list/detail/cpp03/preprocessed/list50_fwd.hpp rgeoda/inst/boost-develop/boost_1_86_0/boost/fusion/container/list/detail/cpp03/preprocessed/list_fwd.hpp rgeoda/inst/boost-develop/boost_1_86_0/boost/fusion/container/list/detail/cpp03/preprocessed/list_to_cons.hpp rgeoda/inst/boost-develop/boost_1_86_0/boost/fusion/container/list/detail/cpp03/preprocessed/list_to_cons10.hpp rgeoda/inst/boost-develop/boost_1_86_0/boost/fusion/container/list/detail/cpp03/preprocessed/list_to_cons20.hpp rgeoda/inst/boost-develop/boost_1_86_0/boost/fusion/container/list/detail/cpp03/preprocessed/list_to_cons30.hpp rgeoda/inst/boost-develop/boost_1_86_0/boost/fusion/container/list/detail/cpp03/preprocessed/list_to_cons40.hpp rgeoda/inst/boost-develop/boost_1_86_0/boost/fusion/container/list/detail/cpp03/preprocessed/list_to_cons50.hpp rgeoda/inst/boost-develop/boost_1_86_0/boost/fusion/container/map/detail/cpp03/preprocessed/as_map.hpp rgeoda/inst/boost-develop/boost_1_86_0/boost/fusion/container/map/detail/cpp03/preprocessed/as_map10.hpp rgeoda/inst/boost-develop/boost_1_86_0/boost/fusion/container/map/detail/cpp03/preprocessed/as_map20.hpp rgeoda/inst/boost-develop/boost_1_86_0/boost/fusion/container/map/detail/cpp03/preprocessed/as_map30.hpp rgeoda/inst/boost-develop/boost_1_86_0/boost/fusion/container/map/detail/cpp03/preprocessed/as_map40.hpp rgeoda/inst/boost-develop/boost_1_86_0/boost/fusion/container/map/detail/cpp03/preprocessed/as_map50.hpp rgeoda/inst/boost-develop/boost_1_86_0/boost/fusion/container/map/detail/cpp03/preprocessed/map10.hpp rgeoda/inst/boost-develop/boost_1_86_0/boost/fusion/container/map/detail/cpp03/preprocessed/map10_fwd.hpp rgeoda/inst/boost-develop/boost_1_86_0/boost/fusion/container/map/detail/cpp03/preprocessed/map20.hpp rgeoda/inst/boost-develop/boost_1_86_0/boost/fusion/container/map/detail/cpp03/preprocessed/map20_fwd.hpp rgeoda/inst/boost-develop/boost_1_86_0/boost/fusion/container/map/detail/cpp03/preprocessed/map30.hpp rgeoda/inst/boost-develop/boost_1_86_0/boost/fusion/container/map/detail/cpp03/preprocessed/map30_fwd.hpp rgeoda/inst/boost-develop/boost_1_86_0/boost/fusion/container/map/detail/cpp03/preprocessed/map40.hpp rgeoda/inst/boost-develop/boost_1_86_0/boost/fusion/container/map/detail/cpp03/preprocessed/map40_fwd.hpp rgeoda/inst/boost-develop/boost_1_86_0/boost/fusion/container/map/detail/cpp03/preprocessed/map50.hpp rgeoda/inst/boost-develop/boost_1_86_0/boost/fusion/container/map/detail/cpp03/preprocessed/map50_fwd.hpp rgeoda/inst/boost-develop/boost_1_86_0/boost/fusion/container/map/detail/cpp03/preprocessed/map_fwd.hpp rgeoda/inst/boost-develop/boost_1_86_0/boost/fusion/container/map/detail/cpp03/value_of_data_impl.hpp rgeoda/inst/boost-develop/boost_1_86_0/boost/fusion/container/set/detail/cpp03/preprocessed/as_set.hpp rgeoda/inst/boost-develop/boost_1_86_0/boost/fusion/container/set/detail/cpp03/preprocessed/as_set10.hpp rgeoda/inst/boost-develop/boost_1_86_0/boost/fusion/container/set/detail/cpp03/preprocessed/as_set20.hpp rgeoda/inst/boost-develop/boost_1_86_0/boost/fusion/container/set/detail/cpp03/preprocessed/as_set30.hpp rgeoda/inst/boost-develop/boost_1_86_0/boost/fusion/container/set/detail/cpp03/preprocessed/as_set40.hpp rgeoda/inst/boost-develop/boost_1_86_0/boost/fusion/container/set/detail/cpp03/preprocessed/as_set50.hpp rgeoda/inst/boost-develop/boost_1_86_0/boost/fusion/container/set/detail/cpp03/preprocessed/set10.hpp rgeoda/inst/boost-develop/boost_1_86_0/boost/fusion/container/set/detail/cpp03/preprocessed/set10_fwd.hpp rgeoda/inst/boost-develop/boost_1_86_0/boost/fusion/container/set/detail/cpp03/preprocessed/set20.hpp rgeoda/inst/boost-develop/boost_1_86_0/boost/fusion/container/set/detail/cpp03/preprocessed/set20_fwd.hpp rgeoda/inst/boost-develop/boost_1_86_0/boost/fusion/container/set/detail/cpp03/preprocessed/set30.hpp rgeoda/inst/boost-develop/boost_1_86_0/boost/fusion/container/set/detail/cpp03/preprocessed/set30_fwd.hpp rgeoda/inst/boost-develop/boost_1_86_0/boost/fusion/container/set/detail/cpp03/preprocessed/set40.hpp rgeoda/inst/boost-develop/boost_1_86_0/boost/fusion/container/set/detail/cpp03/preprocessed/set40_fwd.hpp rgeoda/inst/boost-develop/boost_1_86_0/boost/fusion/container/set/detail/cpp03/preprocessed/set50.hpp rgeoda/inst/boost-develop/boost_1_86_0/boost/fusion/container/set/detail/cpp03/preprocessed/set50_fwd.hpp rgeoda/inst/boost-develop/boost_1_86_0/boost/fusion/container/set/detail/cpp03/preprocessed/set_fwd.hpp rgeoda/inst/boost-develop/boost_1_86_0/boost/fusion/container/vector/detail/cpp03/preprocessed/as_vector.hpp rgeoda/inst/boost-develop/boost_1_86_0/boost/fusion/container/vector/detail/cpp03/preprocessed/as_vector10.hpp rgeoda/inst/boost-develop/boost_1_86_0/boost/fusion/container/vector/detail/cpp03/preprocessed/as_vector20.hpp rgeoda/inst/boost-develop/boost_1_86_0/boost/fusion/container/vector/detail/cpp03/preprocessed/as_vector30.hpp rgeoda/inst/boost-develop/boost_1_86_0/boost/fusion/container/vector/detail/cpp03/preprocessed/as_vector40.hpp rgeoda/inst/boost-develop/boost_1_86_0/boost/fusion/container/vector/detail/cpp03/preprocessed/as_vector50.hpp rgeoda/inst/boost-develop/boost_1_86_0/boost/fusion/container/vector/detail/cpp03/preprocessed/vector.hpp rgeoda/inst/boost-develop/boost_1_86_0/boost/fusion/container/vector/detail/cpp03/preprocessed/vector10.hpp rgeoda/inst/boost-develop/boost_1_86_0/boost/fusion/container/vector/detail/cpp03/preprocessed/vector10_fwd.hpp rgeoda/inst/boost-develop/boost_1_86_0/boost/fusion/container/vector/detail/cpp03/preprocessed/vector20.hpp rgeoda/inst/boost-develop/boost_1_86_0/boost/fusion/container/vector/detail/cpp03/preprocessed/vector20_fwd.hpp rgeoda/inst/boost-develop/boost_1_86_0/boost/fusion/container/vector/detail/cpp03/preprocessed/vector30.hpp rgeoda/inst/boost-develop/boost_1_86_0/boost/fusion/container/vector/detail/cpp03/preprocessed/vector30_fwd.hpp rgeoda/inst/boost-develop/boost_1_86_0/boost/fusion/container/vector/detail/cpp03/preprocessed/vector40.hpp rgeoda/inst/boost-develop/boost_1_86_0/boost/fusion/container/vector/detail/cpp03/preprocessed/vector40_fwd.hpp rgeoda/inst/boost-develop/boost_1_86_0/boost/fusion/container/vector/detail/cpp03/preprocessed/vector50.hpp rgeoda/inst/boost-develop/boost_1_86_0/boost/fusion/container/vector/detail/cpp03/preprocessed/vector50_fwd.hpp rgeoda/inst/boost-develop/boost_1_86_0/boost/fusion/container/vector/detail/cpp03/preprocessed/vector_chooser.hpp rgeoda/inst/boost-develop/boost_1_86_0/boost/fusion/container/vector/detail/cpp03/preprocessed/vector_chooser10.hpp rgeoda/inst/boost-develop/boost_1_86_0/boost/fusion/container/vector/detail/cpp03/preprocessed/vector_chooser20.hpp rgeoda/inst/boost-develop/boost_1_86_0/boost/fusion/container/vector/detail/cpp03/preprocessed/vector_chooser30.hpp rgeoda/inst/boost-develop/boost_1_86_0/boost/fusion/container/vector/detail/cpp03/preprocessed/vector_chooser40.hpp rgeoda/inst/boost-develop/boost_1_86_0/boost/fusion/container/vector/detail/cpp03/preprocessed/vector_chooser50.hpp rgeoda/inst/boost-develop/boost_1_86_0/boost/fusion/container/vector/detail/cpp03/preprocessed/vector_fwd.hpp rgeoda/inst/boost-develop/boost_1_86_0/boost/fusion/container/vector/detail/cpp03/preprocessed/vvector10.hpp rgeoda/inst/boost-develop/boost_1_86_0/boost/fusion/container/vector/detail/cpp03/preprocessed/vvector10_fwd.hpp rgeoda/inst/boost-develop/boost_1_86_0/boost/fusion/container/vector/detail/cpp03/preprocessed/vvector20.hpp rgeoda/inst/boost-develop/boost_1_86_0/boost/fusion/container/vector/detail/cpp03/preprocessed/vvector20_fwd.hpp rgeoda/inst/boost-develop/boost_1_86_0/boost/fusion/container/vector/detail/cpp03/preprocessed/vvector30.hpp rgeoda/inst/boost-develop/boost_1_86_0/boost/fusion/container/vector/detail/cpp03/preprocessed/vvector30_fwd.hpp rgeoda/inst/boost-develop/boost_1_86_0/boost/fusion/container/vector/detail/cpp03/preprocessed/vvector40.hpp rgeoda/inst/boost-develop/boost_1_86_0/boost/fusion/container/vector/detail/cpp03/preprocessed/vvector40_fwd.hpp rgeoda/inst/boost-develop/boost_1_86_0/boost/fusion/container/vector/detail/cpp03/preprocessed/vvector50.hpp rgeoda/inst/boost-develop/boost_1_86_0/boost/fusion/container/vector/detail/cpp03/preprocessed/vvector50_fwd.hpp rgeoda/inst/boost-develop/boost_1_86_0/boost/fusion/container/vector/detail/cpp03/vector_forward_ctor.hpp rgeoda/inst/boost-develop/boost_1_86_0/boost/fusion/container/vector/detail/cpp03/vector_n_chooser.hpp rgeoda/inst/boost-develop/boost_1_86_0/boost/fusion/functional/generation/detail/gen_make_adapter.hpp rgeoda/inst/boost-develop/boost_1_86_0/boost/fusion/functional/generation/make_fused_function_object.hpp rgeoda/inst/boost-develop/boost_1_86_0/boost/fusion/sequence/intrinsic/detail/segmented_begin_impl.hpp rgeoda/inst/boost-develop/boost_1_86_0/boost/fusion/view/iterator_range/detail/segmented_iterator_range.hpp rgeoda/inst/boost-develop/boost_1_86_0/boost/fusion/view/repetitive_view/repetitive_view_iterator.hpp rgeoda/inst/boost-develop/boost_1_86_0/boost/fusion/view/transform_view/detail/value_of_data_impl.hpp rgeoda/inst/boost-develop/boost_1_86_0/boost/geometry/algorithms/detail/buffer/buffered_piece_collection.hpp rgeoda/inst/boost-develop/boost_1_86_0/boost/geometry/algorithms/detail/buffer/line_line_intersection.hpp rgeoda/inst/boost-develop/boost_1_86_0/boost/geometry/algorithms/detail/buffer/turn_in_original_visitor.hpp rgeoda/inst/boost-develop/boost_1_86_0/boost/geometry/algorithms/detail/buffer/turn_in_piece_visitor.hpp rgeoda/inst/boost-develop/boost_1_86_0/boost/geometry/algorithms/detail/centroid/translating_transformer.hpp rgeoda/inst/boost-develop/boost_1_86_0/boost/geometry/algorithms/detail/closest_feature/geometry_to_range.hpp rgeoda/inst/boost-develop/boost_1_86_0/boost/geometry/algorithms/detail/closest_feature/point_to_range.hpp rgeoda/inst/boost-develop/boost_1_86_0/boost/geometry/algorithms/detail/closest_feature/range_to_range.hpp rgeoda/inst/boost-develop/boost_1_86_0/boost/geometry/algorithms/detail/closest_points/implementation.hpp rgeoda/inst/boost-develop/boost_1_86_0/boost/geometry/algorithms/detail/closest_points/linear_or_areal_to_areal.hpp rgeoda/inst/boost-develop/boost_1_86_0/boost/geometry/algorithms/detail/closest_points/linear_to_linear.hpp rgeoda/inst/boost-develop/boost_1_86_0/boost/geometry/algorithms/detail/closest_points/multipoint_to_geometry.hpp rgeoda/inst/boost-develop/boost_1_86_0/boost/geometry/algorithms/detail/closest_points/point_to_geometry.hpp rgeoda/inst/boost-develop/boost_1_86_0/boost/geometry/algorithms/detail/closest_points/range_to_geometry_rtree.hpp rgeoda/inst/boost-develop/boost_1_86_0/boost/geometry/algorithms/detail/closest_points/segment_to_segment.hpp rgeoda/inst/boost-develop/boost_1_86_0/boost/geometry/algorithms/detail/comparable_distance/implementation.hpp rgeoda/inst/boost-develop/boost_1_86_0/boost/geometry/algorithms/detail/comparable_distance/interface.hpp rgeoda/inst/boost-develop/boost_1_86_0/boost/geometry/algorithms/detail/convert_indexed_to_indexed.hpp rgeoda/inst/boost-develop/boost_1_86_0/boost/geometry/algorithms/detail/convex_hull/graham_andrew.hpp rgeoda/inst/boost-develop/boost_1_86_0/boost/geometry/algorithms/detail/covered_by/implementation.hpp rgeoda/inst/boost-develop/boost_1_86_0/boost/geometry/algorithms/detail/covered_by/implementation_gc.hpp rgeoda/inst/boost-develop/boost_1_86_0/boost/geometry/algorithms/detail/disjoint/linear_segment_or_box.hpp rgeoda/inst/boost-develop/boost_1_86_0/boost/geometry/algorithms/detail/disjoint/multipoint_geometry.hpp rgeoda/inst/boost-develop/boost_1_86_0/boost/geometry/algorithms/detail/disjoint/multirange_geometry.hpp rgeoda/inst/boost-develop/boost_1_86_0/boost/geometry/algorithms/detail/distance/geometry_collection.hpp rgeoda/inst/boost-develop/boost_1_86_0/boost/geometry/algorithms/detail/distance/geometry_to_segment_or_box.hpp rgeoda/inst/boost-develop/boost_1_86_0/boost/geometry/algorithms/detail/distance/iterator_selector.hpp rgeoda/inst/boost-develop/boost_1_86_0/boost/geometry/algorithms/detail/distance/linear_or_areal_to_areal.hpp rgeoda/inst/boost-develop/boost_1_86_0/boost/geometry/algorithms/detail/distance/linear_to_linear.hpp rgeoda/inst/boost-develop/boost_1_86_0/boost/geometry/algorithms/detail/distance/multipoint_to_geometry.hpp rgeoda/inst/boost-develop/boost_1_86_0/boost/geometry/algorithms/detail/distance/point_to_geometry.hpp rgeoda/inst/boost-develop/boost_1_86_0/boost/geometry/algorithms/detail/distance/range_to_geometry_rtree.hpp rgeoda/inst/boost-develop/boost_1_86_0/boost/geometry/algorithms/detail/distance/segment_to_segment.hpp rgeoda/inst/boost-develop/boost_1_86_0/boost/geometry/algorithms/detail/envelope/geometry_collection.hpp rgeoda/inst/boost-develop/boost_1_86_0/boost/geometry/algorithms/detail/envelope/intersects_antimeridian.hpp rgeoda/inst/boost-develop/boost_1_86_0/boost/geometry/algorithms/detail/intersection/box_box_implementation.hpp rgeoda/inst/boost-develop/boost_1_86_0/boost/geometry/algorithms/detail/intersection/implementation.hpp rgeoda/inst/boost-develop/boost_1_86_0/boost/geometry/algorithms/detail/intersects/implementation.hpp rgeoda/inst/boost-develop/boost_1_86_0/boost/geometry/algorithms/detail/is_simple/debug_print_boundary_points.hpp rgeoda/inst/boost-develop/boost_1_86_0/boost/geometry/algorithms/detail/is_valid/complement_graph.hpp rgeoda/inst/boost-develop/boost_1_86_0/boost/geometry/algorithms/detail/is_valid/debug_complement_graph.hpp rgeoda/inst/boost-develop/boost_1_86_0/boost/geometry/algorithms/detail/is_valid/debug_print_turns.hpp rgeoda/inst/boost-develop/boost_1_86_0/boost/geometry/algorithms/detail/is_valid/debug_validity_phase.hpp rgeoda/inst/boost-develop/boost_1_86_0/boost/geometry/algorithms/detail/is_valid/has_invalid_coordinate.hpp rgeoda/inst/boost-develop/boost_1_86_0/boost/geometry/algorithms/detail/is_valid/has_valid_self_turns.hpp rgeoda/inst/boost-develop/boost_1_86_0/boost/geometry/algorithms/detail/is_valid/is_acceptable_turn.hpp rgeoda/inst/boost-develop/boost_1_86_0/boost/geometry/algorithms/detail/multi_modify_with_predicate.hpp rgeoda/inst/boost-develop/boost_1_86_0/boost/geometry/algorithms/detail/num_distinct_consecutive_points.hpp rgeoda/inst/boost-develop/boost_1_86_0/boost/geometry/algorithms/detail/overlay/append_no_duplicates.hpp rgeoda/inst/boost-develop/boost_1_86_0/boost/geometry/algorithms/detail/overlay/append_no_dups_or_spikes.hpp rgeoda/inst/boost-develop/boost_1_86_0/boost/geometry/algorithms/detail/overlay/approximately_equals.hpp rgeoda/inst/boost-develop/boost_1_86_0/boost/geometry/algorithms/detail/overlay/backtrack_check_si.hpp rgeoda/inst/boost-develop/boost_1_86_0/boost/geometry/algorithms/detail/overlay/colocate_clusters.hpp rgeoda/inst/boost-develop/boost_1_86_0/boost/geometry/algorithms/detail/overlay/copy_segment_point.hpp rgeoda/inst/boost-develop/boost_1_86_0/boost/geometry/algorithms/detail/overlay/discard_duplicate_turns.hpp rgeoda/inst/boost-develop/boost_1_86_0/boost/geometry/algorithms/detail/overlay/enrich_intersection_points.hpp rgeoda/inst/boost-develop/boost_1_86_0/boost/geometry/algorithms/detail/overlay/follow_linear_linear.hpp rgeoda/inst/boost-develop/boost_1_86_0/boost/geometry/algorithms/detail/overlay/get_distance_measure.hpp rgeoda/inst/boost-develop/boost_1_86_0/boost/geometry/algorithms/detail/overlay/get_intersection_points.hpp rgeoda/inst/boost-develop/boost_1_86_0/boost/geometry/algorithms/detail/overlay/get_relative_order.hpp rgeoda/inst/boost-develop/boost_1_86_0/boost/geometry/algorithms/detail/overlay/get_turn_info_for_endpoint.hpp rgeoda/inst/boost-develop/boost_1_86_0/boost/geometry/algorithms/detail/overlay/get_turn_info_helpers.hpp rgeoda/inst/boost-develop/boost_1_86_0/boost/geometry/algorithms/detail/overlay/handle_colocations.hpp rgeoda/inst/boost-develop/boost_1_86_0/boost/geometry/algorithms/detail/overlay/handle_self_turns.hpp rgeoda/inst/boost-develop/boost_1_86_0/boost/geometry/algorithms/detail/overlay/inconsistent_turns_exception.hpp rgeoda/inst/boost-develop/boost_1_86_0/boost/geometry/algorithms/detail/overlay/intersection_insert.hpp rgeoda/inst/boost-develop/boost_1_86_0/boost/geometry/algorithms/detail/overlay/less_by_segment_ratio.hpp rgeoda/inst/boost-develop/boost_1_86_0/boost/geometry/algorithms/detail/overlay/pointlike_pointlike.hpp rgeoda/inst/boost-develop/boost_1_86_0/boost/geometry/algorithms/detail/overlay/range_in_geometry.hpp rgeoda/inst/boost-develop/boost_1_86_0/boost/geometry/algorithms/detail/overlay/segment_as_subrange.hpp rgeoda/inst/boost-develop/boost_1_86_0/boost/geometry/algorithms/detail/overlay/segment_identifier.hpp rgeoda/inst/boost-develop/boost_1_86_0/boost/geometry/algorithms/detail/overlay/traversal_ring_creator.hpp rgeoda/inst/boost-develop/boost_1_86_0/boost/geometry/algorithms/detail/overlay/traversal_switch_detector.hpp rgeoda/inst/boost-develop/boost_1_86_0/boost/geometry/algorithms/detail/relate/multi_point_geometry.hpp rgeoda/inst/boost-develop/boost_1_86_0/boost/geometry/algorithms/detail/sections/range_by_section.hpp rgeoda/inst/boost-develop/boost_1_86_0/boost/geometry/algorithms/detail/sections/section_box_policies.hpp rgeoda/inst/boost-develop/boost_1_86_0/boost/geometry/algorithms/detail/sections/section_functions.hpp rgeoda/inst/boost-develop/boost_1_86_0/boost/geometry/algorithms/detail/turns/filter_continue_turns.hpp rgeoda/inst/boost-develop/boost_1_86_0/boost/geometry/algorithms/detail/turns/remove_duplicate_turns.hpp rgeoda/inst/boost-develop/boost_1_86_0/boost/geometry/geometries/adapted/boost_polygon/hole_iterator.hpp rgeoda/inst/boost-develop/boost_1_86_0/boost/geometry/geometries/adapted/boost_polygon/holes_proxy.hpp rgeoda/inst/boost-develop/boost_1_86_0/boost/geometry/geometries/adapted/boost_polygon/ring_proxy.hpp rgeoda/inst/boost-develop/boost_1_86_0/boost/geometry/geometries/adapted/boost_range/adjacent_filtered.hpp rgeoda/inst/boost-develop/boost_1_86_0/boost/geometry/geometries/concepts/dynamic_geometry_concept.hpp rgeoda/inst/boost-develop/boost_1_86_0/boost/geometry/geometries/concepts/geometry_collection_concept.hpp rgeoda/inst/boost-develop/boost_1_86_0/boost/geometry/geometries/concepts/multi_linestring_concept.hpp rgeoda/inst/boost-develop/boost_1_86_0/boost/geometry/index/detail/algorithms/comparable_distance_centroid.hpp rgeoda/inst/boost-develop/boost_1_86_0/boost/geometry/index/detail/algorithms/comparable_distance_far.hpp rgeoda/inst/boost-develop/boost_1_86_0/boost/geometry/index/detail/algorithms/comparable_distance_near.hpp rgeoda/inst/boost-develop/boost_1_86_0/boost/geometry/index/detail/algorithms/intersection_content.hpp rgeoda/inst/boost-develop/boost_1_86_0/boost/geometry/index/detail/algorithms/segment_intersection.hpp rgeoda/inst/boost-develop/boost_1_86_0/boost/geometry/index/detail/algorithms/smallest_for_indexable.hpp rgeoda/inst/boost-develop/boost_1_86_0/boost/geometry/index/detail/rtree/linear/redistribute_elements.hpp rgeoda/inst/boost-develop/boost_1_86_0/boost/geometry/index/detail/rtree/quadratic/redistribute_elements.hpp rgeoda/inst/boost-develop/boost_1_86_0/boost/geometry/index/detail/rtree/rstar/redistribute_elements.hpp rgeoda/inst/boost-develop/boost_1_86_0/boost/geometry/iterators/detail/point_iterator/inner_range_type.hpp rgeoda/inst/boost-develop/boost_1_86_0/boost/geometry/iterators/detail/point_iterator/iterator_type.hpp rgeoda/inst/boost-develop/boost_1_86_0/boost/geometry/iterators/detail/segment_iterator/iterator_type.hpp rgeoda/inst/boost-develop/boost_1_86_0/boost/geometry/iterators/detail/segment_iterator/range_segment_iterator.hpp rgeoda/inst/boost-develop/boost_1_86_0/boost/geometry/iterators/detail/segment_iterator/value_type.hpp rgeoda/inst/boost-develop/boost_1_86_0/boost/geometry/multi/algorithms/detail/modify_with_predicate.hpp rgeoda/inst/boost-develop/boost_1_86_0/boost/geometry/multi/algorithms/detail/overlay/copy_segment_point.hpp rgeoda/inst/boost-develop/boost_1_86_0/boost/geometry/multi/algorithms/detail/overlay/copy_segments.hpp rgeoda/inst/boost-develop/boost_1_86_0/boost/geometry/multi/algorithms/detail/overlay/self_turn_points.hpp rgeoda/inst/boost-develop/boost_1_86_0/boost/geometry/multi/algorithms/detail/sections/range_by_section.hpp rgeoda/inst/boost-develop/boost_1_86_0/boost/geometry/multi/algorithms/detail/sections/sectionalize.hpp rgeoda/inst/boost-develop/boost_1_86_0/boost/geometry/multi/geometries/concepts/multi_linestring_concept.hpp rgeoda/inst/boost-develop/boost_1_86_0/boost/geometry/multi/geometries/concepts/multi_point_concept.hpp rgeoda/inst/boost-develop/boost_1_86_0/boost/geometry/multi/geometries/concepts/multi_polygon_concept.hpp rgeoda/inst/boost-develop/boost_1_86_0/boost/geometry/multi/strategies/cartesian/centroid_average.hpp rgeoda/inst/boost-develop/boost_1_86_0/boost/geometry/strategies/agnostic/buffer_distance_asymmetric.hpp rgeoda/inst/boost-develop/boost_1_86_0/boost/geometry/strategies/agnostic/buffer_distance_symmetric.hpp rgeoda/inst/boost-develop/boost_1_86_0/boost/geometry/strategies/agnostic/point_in_poly_oriented_winding.hpp rgeoda/inst/boost-develop/boost_1_86_0/boost/geometry/strategies/agnostic/simplify_douglas_peucker.hpp rgeoda/inst/boost-develop/boost_1_86_0/boost/geometry/strategies/cartesian/buffer_join_round_by_divide.hpp rgeoda/inst/boost-develop/boost_1_86_0/boost/geometry/strategies/cartesian/centroid_bashein_detmer.hpp rgeoda/inst/boost-develop/boost_1_86_0/boost/geometry/strategies/cartesian/centroid_weighted_length.hpp rgeoda/inst/boost-develop/boost_1_86_0/boost/geometry/strategies/cartesian/distance_projected_point.hpp rgeoda/inst/boost-develop/boost_1_86_0/boost/geometry/strategies/cartesian/distance_projected_point_ax.hpp rgeoda/inst/boost-develop/boost_1_86_0/boost/geometry/strategies/cartesian/distance_pythagoras_box_box.hpp rgeoda/inst/boost-develop/boost_1_86_0/boost/geometry/strategies/cartesian/distance_pythagoras_point_box.hpp rgeoda/inst/boost-develop/boost_1_86_0/boost/geometry/strategies/cartesian/point_in_poly_crossings_multiply.hpp rgeoda/inst/boost-develop/boost_1_86_0/boost/geometry/strategies/cartesian/point_in_poly_franklin.hpp rgeoda/inst/boost-develop/boost_1_86_0/boost/geometry/strategies/concepts/segment_intersect_concept.hpp rgeoda/inst/boost-develop/boost_1_86_0/boost/geometry/strategies/default_comparable_distance_result.hpp rgeoda/inst/boost-develop/boost_1_86_0/boost/geometry/strategies/geographic/closest_points_pt_seg.hpp rgeoda/inst/boost-develop/boost_1_86_0/boost/geometry/strategies/geographic/distance_cross_track_box_box.hpp rgeoda/inst/boost-develop/boost_1_86_0/boost/geometry/strategies/geographic/distance_cross_track_point_box.hpp rgeoda/inst/boost-develop/boost_1_86_0/boost/geometry/strategies/geographic/intersection_elliptic.hpp rgeoda/inst/boost-develop/boost_1_86_0/boost/geometry/strategies/geographic/point_in_poly_winding.hpp rgeoda/inst/boost-develop/boost_1_86_0/boost/geometry/strategies/spherical/distance_cross_track_box_box.hpp rgeoda/inst/boost-develop/boost_1_86_0/boost/geometry/strategies/spherical/distance_cross_track_point_box.hpp rgeoda/inst/boost-develop/boost_1_86_0/boost/gil/extension/toolbox/color_converters/rgb_to_luminance.hpp rgeoda/inst/boost-develop/boost_1_86_0/boost/gil/image_processing/adaptive_histogram_equalization.hpp rgeoda/inst/boost-develop/boost_1_86_0/boost/graph/distributed/connected_components_parallel_search.hpp rgeoda/inst/boost-develop/boost_1_86_0/boost/interprocess/smart_ptr/detail/sp_counted_base_atomic.hpp rgeoda/inst/boost-develop/boost_1_86_0/boost/iostreams/detail/broken_overload_resolution/stream_buffer.hpp rgeoda/inst/boost-develop/boost_1_86_0/boost/json/detail/charconv/detail/fast_float/constexpr_feature_detect.hpp rgeoda/inst/boost-develop/boost_1_86_0/boost/json/detail/charconv/detail/fast_float/decimal_to_binary.hpp rgeoda/inst/boost-develop/boost_1_86_0/boost/json/detail/charconv/detail/fast_float/digit_comparison.hpp rgeoda/inst/boost-develop/boost_1_86_0/boost/local_function/aux_/preprocessor/traits/decl_/append.hpp rgeoda/inst/boost-develop/boost_1_86_0/boost/local_function/aux_/preprocessor/traits/decl_/set_error.hpp rgeoda/inst/boost-develop/boost_1_86_0/boost/local_function/aux_/preprocessor/traits/decl_/validate.hpp rgeoda/inst/boost-develop/boost_1_86_0/boost/local_function/aux_/preprocessor/traits/decl_/validate_/return_count.hpp rgeoda/inst/boost-develop/boost_1_86_0/boost/local_function/aux_/preprocessor/traits/decl_/validate_/this_count.hpp rgeoda/inst/boost-develop/boost_1_86_0/boost/local_function/aux_/preprocessor/traits/decl_const_binds.hpp rgeoda/inst/boost-develop/boost_1_86_0/boost/local_function/aux_/preprocessor/traits/decl_returns.hpp rgeoda/inst/boost-develop/boost_1_86_0/boost/local_function/aux_/preprocessor/traits/decl_sign_/any_bind_type.hpp rgeoda/inst/boost-develop/boost_1_86_0/boost/local_function/aux_/preprocessor/traits/decl_sign_/sign.hpp rgeoda/inst/boost-develop/boost_1_86_0/boost/local_function/aux_/preprocessor/traits/decl_sign_/validate.hpp rgeoda/inst/boost-develop/boost_1_86_0/boost/local_function/aux_/preprocessor/traits/decl_sign_/validate_/defaults.hpp rgeoda/inst/boost-develop/boost_1_86_0/boost/local_function/aux_/preprocessor/traits/decl_sign_/validate_/this.hpp rgeoda/inst/boost-develop/boost_1_86_0/boost/local_function/detail/preprocessor/keyword/const_bind.hpp rgeoda/inst/boost-develop/boost_1_86_0/boost/local_function/detail/preprocessor/keyword/facility/add.hpp rgeoda/inst/boost-develop/boost_1_86_0/boost/local_function/detail/preprocessor/keyword/facility/is.hpp rgeoda/inst/boost-develop/boost_1_86_0/boost/local_function/detail/preprocessor/keyword/facility/remove.hpp rgeoda/inst/boost-develop/boost_1_86_0/boost/local_function/detail/preprocessor/keyword/recursive.hpp rgeoda/inst/boost-develop/boost_1_86_0/boost/local_function/detail/preprocessor/keyword/thisunderscore.hpp rgeoda/inst/boost-develop/boost_1_86_0/boost/math/distributions/empirical_cumulative_distribution_function.hpp rgeoda/inst/boost-develop/boost_1_86_0/boost/math/interpolators/detail/barycentric_rational_detail.hpp rgeoda/inst/boost-develop/boost_1_86_0/boost/math/interpolators/detail/cardinal_cubic_b_spline_detail.hpp rgeoda/inst/boost-develop/boost_1_86_0/boost/math/interpolators/detail/cardinal_quadratic_b_spline_detail.hpp rgeoda/inst/boost-develop/boost_1_86_0/boost/math/interpolators/detail/cardinal_quintic_b_spline_detail.hpp rgeoda/inst/boost-develop/boost_1_86_0/boost/math/interpolators/detail/cardinal_trigonometric_detail.hpp rgeoda/inst/boost-develop/boost_1_86_0/boost/math/interpolators/detail/vector_barycentric_rational_detail.hpp rgeoda/inst/boost-develop/boost_1_86_0/boost/math/quadrature/detail/ooura_fourier_integrals_detail.hpp rgeoda/inst/boost-develop/boost_1_86_0/boost/math/special_functions/detail/bessel_derivatives_linear.hpp rgeoda/inst/boost-develop/boost_1_86_0/boost/math/special_functions/detail/bessel_jy_derivatives_asym.hpp rgeoda/inst/boost-develop/boost_1_86_0/boost/math/special_functions/detail/bessel_jy_derivatives_series.hpp rgeoda/inst/boost-develop/boost_1_86_0/boost/math/special_functions/detail/daubechies_scaling_integer_grid.hpp rgeoda/inst/boost-develop/boost_1_86_0/boost/math/special_functions/detail/hypergeometric_0F1_bessel.hpp rgeoda/inst/boost-develop/boost_1_86_0/boost/math/special_functions/detail/hypergeometric_1F1_addition_theorems_on_z.hpp rgeoda/inst/boost-develop/boost_1_86_0/boost/math/special_functions/detail/hypergeometric_1F1_bessel.hpp rgeoda/inst/boost-develop/boost_1_86_0/boost/math/special_functions/detail/hypergeometric_1F1_by_ratios.hpp rgeoda/inst/boost-develop/boost_1_86_0/boost/math/special_functions/detail/hypergeometric_1F1_large_a.hpp rgeoda/inst/boost-develop/boost_1_86_0/boost/math/special_functions/detail/hypergeometric_1F1_large_abz.hpp rgeoda/inst/boost-develop/boost_1_86_0/boost/math/special_functions/detail/hypergeometric_1F1_negative_b_regions.hpp rgeoda/inst/boost-develop/boost_1_86_0/boost/math/special_functions/detail/hypergeometric_1F1_recurrence.hpp rgeoda/inst/boost-develop/boost_1_86_0/boost/math/special_functions/detail/hypergeometric_1F1_scaled_series.hpp rgeoda/inst/boost-develop/boost_1_86_0/boost/math/special_functions/detail/hypergeometric_1F1_small_a_negative_b_by_ratio.hpp rgeoda/inst/boost-develop/boost_1_86_0/boost/math/special_functions/detail/hypergeometric_pFq_checked_series.hpp rgeoda/inst/boost-develop/boost_1_86_0/boost/math/special_functions/detail/hypergeometric_rational.hpp rgeoda/inst/boost-develop/boost_1_86_0/boost/math/special_functions/detail/hypergeometric_separated_series.hpp rgeoda/inst/boost-develop/boost_1_86_0/boost/math/special_functions/detail/lambert_w_lookup_table.ipp rgeoda/inst/boost-develop/boost_1_86_0/boost/metaparse/v1/foldl_reject_incomplete_start_with_parser.hpp rgeoda/inst/boost-develop/boost_1_86_0/boost/mpl/aux_/preprocessed/bcc_pre590/reverse_iter_fold_impl.hpp rgeoda/inst/boost-develop/boost_1_86_0/boost/mpl/aux_/preprocessed/no_ctps/reverse_iter_fold_impl.hpp rgeoda/inst/boost-develop/boost_1_86_0/boost/mpl/vector/aux_/preprocessed/typeof_based/vector10_c.hpp rgeoda/inst/boost-develop/boost_1_86_0/boost/mpl/vector/aux_/preprocessed/typeof_based/vector20_c.hpp rgeoda/inst/boost-develop/boost_1_86_0/boost/mpl/vector/aux_/preprocessed/typeof_based/vector30_c.hpp rgeoda/inst/boost-develop/boost_1_86_0/boost/mpl/vector/aux_/preprocessed/typeof_based/vector40_c.hpp rgeoda/inst/boost-develop/boost_1_86_0/boost/mpl/vector/aux_/preprocessed/typeof_based/vector50_c.hpp rgeoda/inst/boost-develop/boost_1_86_0/boost/mysql/detail/execution_processor/execution_processor.hpp rgeoda/inst/boost-develop/boost_1_86_0/boost/mysql/detail/execution_processor/execution_state_impl.hpp rgeoda/inst/boost-develop/boost_1_86_0/boost/mysql/detail/execution_processor/static_execution_state_impl.hpp rgeoda/inst/boost-develop/boost_1_86_0/boost/mysql/detail/execution_processor/static_results_impl.hpp rgeoda/inst/boost-develop/boost_1_86_0/boost/mysql/impl/internal/connection_pool/connection_pool_impl.hpp rgeoda/inst/boost-develop/boost_1_86_0/boost/mysql/impl/internal/connection_pool/internal_pool_params.hpp rgeoda/inst/boost-develop/boost_1_86_0/boost/mysql/impl/internal/connection_pool/run_with_timeout.hpp rgeoda/inst/boost-develop/boost_1_86_0/boost/mysql/impl/internal/connection_pool/sansio_connection_node.hpp rgeoda/inst/boost-develop/boost_1_86_0/boost/mysql/impl/internal/protocol/impl/bit_deserialization.hpp rgeoda/inst/boost-develop/boost_1_86_0/boost/mysql/impl/internal/protocol/impl/deserialization_context.hpp rgeoda/inst/boost-develop/boost_1_86_0/boost/mysql/impl/internal/protocol/impl/protocol_field_type.hpp rgeoda/inst/boost-develop/boost_1_86_0/boost/mysql/impl/internal/protocol/impl/serialization_context.hpp rgeoda/inst/boost-develop/boost_1_86_0/boost/numeric/conversion/detail/preprocessed/numeric_cast_traits_common.hpp rgeoda/inst/boost-develop/boost_1_86_0/boost/numeric/conversion/detail/preprocessed/numeric_cast_traits_long_long.hpp rgeoda/inst/boost-develop/boost_1_86_0/boost/numeric/odeint/external/blaze/blaze_algebra_dispatcher.hpp rgeoda/inst/boost-develop/boost_1_86_0/boost/numeric/odeint/external/compute/compute_algebra_dispatcher.hpp rgeoda/inst/boost-develop/boost_1_86_0/boost/numeric/odeint/external/compute/compute_operations_dispatcher.hpp rgeoda/inst/boost-develop/boost_1_86_0/boost/numeric/odeint/external/eigen/eigen_algebra_dispatcher.hpp rgeoda/inst/boost-develop/boost_1_86_0/boost/numeric/odeint/external/mtl4/mtl4_algebra_dispatcher.hpp rgeoda/inst/boost-develop/boost_1_86_0/boost/numeric/odeint/external/openmp/openmp_nested_algebra.hpp rgeoda/inst/boost-develop/boost_1_86_0/boost/numeric/odeint/external/thrust/thrust_algebra_dispatcher.hpp rgeoda/inst/boost-develop/boost_1_86_0/boost/numeric/odeint/external/thrust/thrust_operations_dispatcher.hpp rgeoda/inst/boost-develop/boost_1_86_0/boost/numeric/odeint/external/vexcl/vexcl_algebra_dispatcher.hpp rgeoda/inst/boost-develop/boost_1_86_0/boost/numeric/odeint/external/viennacl/viennacl_operations.hpp rgeoda/inst/boost-develop/boost_1_86_0/boost/numeric/odeint/iterator/impl/const_step_iterator_impl.hpp rgeoda/inst/boost-develop/boost_1_86_0/boost/numeric/odeint/iterator/integrate/detail/integrate_adaptive.hpp rgeoda/inst/boost-develop/boost_1_86_0/boost/numeric/odeint/iterator/integrate/detail/integrate_const.hpp rgeoda/inst/boost-develop/boost_1_86_0/boost/numeric/odeint/iterator/integrate/detail/integrate_n_steps.hpp rgeoda/inst/boost-develop/boost_1_86_0/boost/numeric/odeint/iterator/integrate/detail/integrate_times.hpp rgeoda/inst/boost-develop/boost_1_86_0/boost/numeric/odeint/iterator/integrate/integrate_adaptive.hpp rgeoda/inst/boost-develop/boost_1_86_0/boost/numeric/odeint/iterator/integrate/observer_collection.hpp rgeoda/inst/boost-develop/boost_1_86_0/boost/numeric/odeint/stepper/adaptive_adams_bashforth_moulton.hpp rgeoda/inst/boost-develop/boost_1_86_0/boost/numeric/odeint/stepper/base/explicit_error_stepper_base.hpp rgeoda/inst/boost-develop/boost_1_86_0/boost/numeric/odeint/stepper/base/explicit_error_stepper_fsal_base.hpp rgeoda/inst/boost-develop/boost_1_86_0/boost/numeric/odeint/stepper/base/symplectic_rkn_stepper_base.hpp rgeoda/inst/boost-develop/boost_1_86_0/boost/numeric/odeint/stepper/controlled_adams_bashforth_moulton.hpp rgeoda/inst/boost-develop/boost_1_86_0/boost/numeric/odeint/stepper/detail/adams_bashforth_call_algebra.hpp rgeoda/inst/boost-develop/boost_1_86_0/boost/numeric/odeint/stepper/detail/adams_bashforth_coefficients.hpp rgeoda/inst/boost-develop/boost_1_86_0/boost/numeric/odeint/stepper/detail/adams_moulton_call_algebra.hpp rgeoda/inst/boost-develop/boost_1_86_0/boost/numeric/odeint/stepper/detail/adams_moulton_coefficients.hpp rgeoda/inst/boost-develop/boost_1_86_0/boost/numeric/odeint/stepper/detail/adaptive_adams_coefficients.hpp rgeoda/inst/boost-develop/boost_1_86_0/boost/numeric/odeint/stepper/detail/generic_rk_call_algebra.hpp rgeoda/inst/boost-develop/boost_1_86_0/boost/numeric/odeint/stepper/detail/pid_step_adjuster_coefficients.hpp rgeoda/inst/boost-develop/boost_1_86_0/boost/numeric/odeint/stepper/generation/generation_controlled_adams_bashforth_moulton.hpp rgeoda/inst/boost-develop/boost_1_86_0/boost/numeric/odeint/stepper/generation/generation_controlled_runge_kutta.hpp rgeoda/inst/boost-develop/boost_1_86_0/boost/numeric/odeint/stepper/generation/generation_dense_output_runge_kutta.hpp rgeoda/inst/boost-develop/boost_1_86_0/boost/numeric/odeint/stepper/generation/generation_rosenbrock4.hpp rgeoda/inst/boost-develop/boost_1_86_0/boost/numeric/odeint/stepper/generation/generation_runge_kutta_cash_karp54.hpp rgeoda/inst/boost-develop/boost_1_86_0/boost/numeric/odeint/stepper/generation/generation_runge_kutta_cash_karp54_classic.hpp rgeoda/inst/boost-develop/boost_1_86_0/boost/numeric/odeint/stepper/generation/generation_runge_kutta_dopri5.hpp rgeoda/inst/boost-develop/boost_1_86_0/boost/numeric/odeint/stepper/generation/generation_runge_kutta_fehlberg78.hpp rgeoda/inst/boost-develop/boost_1_86_0/boost/numeric/odeint/stepper/runge_kutta_cash_karp54_classic.hpp rgeoda/inst/boost-develop/boost_1_86_0/boost/numeric/odeint/stepper/symplectic_rkn_sb3a_m4_mclachlan.hpp rgeoda/inst/boost-develop/boost_1_86_0/boost/numeric/odeint/stepper/symplectic_rkn_sb3a_mclachlan.hpp rgeoda/inst/boost-develop/boost_1_86_0/boost/outcome/detail/basic_outcome_exception_observers_impl.hpp rgeoda/inst/boost-develop/boost_1_86_0/boost/outcome/experimental/status-code/detail/nt_code_to_generic_code.ipp rgeoda/inst/boost-develop/boost_1_86_0/boost/outcome/experimental/status-code/detail/nt_code_to_win32_code.ipp rgeoda/inst/boost-develop/boost_1_86_0/boost/outcome/experimental/status-code/detail/win32_code_to_generic_code.ipp rgeoda/inst/boost-develop/boost_1_86_0/boost/outcome/experimental/status-code/errored_status_code.hpp rgeoda/inst/boost-develop/boost_1_86_0/boost/outcome/experimental/status-code/quick_status_code_from_enum.hpp rgeoda/inst/boost-develop/boost_1_86_0/boost/outcome/experimental/status-code/system_code_from_exception.hpp rgeoda/inst/boost-develop/boost_1_86_0/boost/outcome/policy/outcome_error_code_throw_as_system_error.hpp rgeoda/inst/boost-develop/boost_1_86_0/boost/outcome/policy/result_error_code_throw_as_system_error.hpp rgeoda/inst/boost-develop/boost_1_86_0/boost/parameter/aux_/preprocessor/impl/forwarding_overloads.hpp rgeoda/inst/boost-develop/boost_1_86_0/boost/parameter/aux_/preprocessor/impl/function_dispatch_layer.hpp rgeoda/inst/boost-develop/boost_1_86_0/boost/parameter/aux_/preprocessor/impl/function_dispatch_tuple.hpp rgeoda/inst/boost-develop/boost_1_86_0/boost/parameter/aux_/preprocessor/impl/function_forward_match.hpp rgeoda/inst/boost-develop/boost_1_86_0/boost/parameter/aux_/preprocessor/impl/parenthesized_return_type.hpp rgeoda/inst/boost-develop/boost_1_86_0/boost/parameter/aux_/preprocessor/no_perfect_forwarding_begin.hpp rgeoda/inst/boost-develop/boost_1_86_0/boost/parameter/aux_/preprocessor/no_perfect_forwarding_end.hpp rgeoda/inst/boost-develop/boost_1_86_0/boost/phoenix/bind/detail/cpp03/preprocessed/bind_function.hpp rgeoda/inst/boost-develop/boost_1_86_0/boost/phoenix/bind/detail/cpp03/preprocessed/bind_function_10.hpp rgeoda/inst/boost-develop/boost_1_86_0/boost/phoenix/bind/detail/cpp03/preprocessed/bind_function_20.hpp rgeoda/inst/boost-develop/boost_1_86_0/boost/phoenix/bind/detail/cpp03/preprocessed/bind_function_30.hpp rgeoda/inst/boost-develop/boost_1_86_0/boost/phoenix/bind/detail/cpp03/preprocessed/bind_function_40.hpp rgeoda/inst/boost-develop/boost_1_86_0/boost/phoenix/bind/detail/cpp03/preprocessed/bind_function_50.hpp rgeoda/inst/boost-develop/boost_1_86_0/boost/phoenix/bind/detail/cpp03/preprocessed/bind_function_object.hpp rgeoda/inst/boost-develop/boost_1_86_0/boost/phoenix/bind/detail/cpp03/preprocessed/bind_function_object_10.hpp rgeoda/inst/boost-develop/boost_1_86_0/boost/phoenix/bind/detail/cpp03/preprocessed/bind_function_object_20.hpp rgeoda/inst/boost-develop/boost_1_86_0/boost/phoenix/bind/detail/cpp03/preprocessed/bind_function_object_30.hpp rgeoda/inst/boost-develop/boost_1_86_0/boost/phoenix/bind/detail/cpp03/preprocessed/bind_function_object_40.hpp rgeoda/inst/boost-develop/boost_1_86_0/boost/phoenix/bind/detail/cpp03/preprocessed/bind_function_object_50.hpp rgeoda/inst/boost-develop/boost_1_86_0/boost/phoenix/bind/detail/cpp03/preprocessed/bind_member_function.hpp rgeoda/inst/boost-develop/boost_1_86_0/boost/phoenix/bind/detail/cpp03/preprocessed/bind_member_function_10.hpp rgeoda/inst/boost-develop/boost_1_86_0/boost/phoenix/bind/detail/cpp03/preprocessed/bind_member_function_20.hpp rgeoda/inst/boost-develop/boost_1_86_0/boost/phoenix/bind/detail/cpp03/preprocessed/bind_member_function_30.hpp rgeoda/inst/boost-develop/boost_1_86_0/boost/phoenix/bind/detail/cpp03/preprocessed/bind_member_function_40.hpp rgeoda/inst/boost-develop/boost_1_86_0/boost/phoenix/bind/detail/cpp03/preprocessed/bind_member_function_50.hpp rgeoda/inst/boost-develop/boost_1_86_0/boost/phoenix/bind/detail/cpp03/preprocessed/function_ptr_10.hpp rgeoda/inst/boost-develop/boost_1_86_0/boost/phoenix/bind/detail/cpp03/preprocessed/function_ptr_20.hpp rgeoda/inst/boost-develop/boost_1_86_0/boost/phoenix/bind/detail/cpp03/preprocessed/function_ptr_30.hpp rgeoda/inst/boost-develop/boost_1_86_0/boost/phoenix/bind/detail/cpp03/preprocessed/function_ptr_40.hpp rgeoda/inst/boost-develop/boost_1_86_0/boost/phoenix/bind/detail/cpp03/preprocessed/function_ptr_50.hpp rgeoda/inst/boost-develop/boost_1_86_0/boost/phoenix/bind/detail/cpp03/preprocessed/member_function_ptr.hpp rgeoda/inst/boost-develop/boost_1_86_0/boost/phoenix/bind/detail/cpp03/preprocessed/member_function_ptr_10.hpp rgeoda/inst/boost-develop/boost_1_86_0/boost/phoenix/bind/detail/cpp03/preprocessed/member_function_ptr_20.hpp rgeoda/inst/boost-develop/boost_1_86_0/boost/phoenix/bind/detail/cpp03/preprocessed/member_function_ptr_30.hpp rgeoda/inst/boost-develop/boost_1_86_0/boost/phoenix/bind/detail/cpp03/preprocessed/member_function_ptr_40.hpp rgeoda/inst/boost-develop/boost_1_86_0/boost/phoenix/bind/detail/cpp03/preprocessed/member_function_ptr_50.hpp rgeoda/inst/boost-develop/boost_1_86_0/boost/phoenix/core/detail/cpp03/preprocessed/actor_operator.hpp rgeoda/inst/boost-develop/boost_1_86_0/boost/phoenix/core/detail/cpp03/preprocessed/actor_operator_10.hpp rgeoda/inst/boost-develop/boost_1_86_0/boost/phoenix/core/detail/cpp03/preprocessed/actor_operator_20.hpp rgeoda/inst/boost-develop/boost_1_86_0/boost/phoenix/core/detail/cpp03/preprocessed/actor_operator_30.hpp rgeoda/inst/boost-develop/boost_1_86_0/boost/phoenix/core/detail/cpp03/preprocessed/actor_operator_40.hpp rgeoda/inst/boost-develop/boost_1_86_0/boost/phoenix/core/detail/cpp03/preprocessed/actor_operator_50.hpp rgeoda/inst/boost-develop/boost_1_86_0/boost/phoenix/core/detail/cpp03/preprocessed/actor_result_of.hpp rgeoda/inst/boost-develop/boost_1_86_0/boost/phoenix/core/detail/cpp03/preprocessed/actor_result_of_10.hpp rgeoda/inst/boost-develop/boost_1_86_0/boost/phoenix/core/detail/cpp03/preprocessed/actor_result_of_20.hpp rgeoda/inst/boost-develop/boost_1_86_0/boost/phoenix/core/detail/cpp03/preprocessed/actor_result_of_30.hpp rgeoda/inst/boost-develop/boost_1_86_0/boost/phoenix/core/detail/cpp03/preprocessed/actor_result_of_40.hpp rgeoda/inst/boost-develop/boost_1_86_0/boost/phoenix/core/detail/cpp03/preprocessed/actor_result_of_50.hpp rgeoda/inst/boost-develop/boost_1_86_0/boost/phoenix/core/detail/cpp03/preprocessed/argument_no_predefined_10.hpp rgeoda/inst/boost-develop/boost_1_86_0/boost/phoenix/core/detail/cpp03/preprocessed/argument_no_predefined_20.hpp rgeoda/inst/boost-develop/boost_1_86_0/boost/phoenix/core/detail/cpp03/preprocessed/argument_no_predefined_30.hpp rgeoda/inst/boost-develop/boost_1_86_0/boost/phoenix/core/detail/cpp03/preprocessed/argument_no_predefined_40.hpp rgeoda/inst/boost-develop/boost_1_86_0/boost/phoenix/core/detail/cpp03/preprocessed/argument_no_predefined_50.hpp rgeoda/inst/boost-develop/boost_1_86_0/boost/phoenix/core/detail/cpp03/preprocessed/argument_predefined_10.hpp rgeoda/inst/boost-develop/boost_1_86_0/boost/phoenix/core/detail/cpp03/preprocessed/argument_predefined_20.hpp rgeoda/inst/boost-develop/boost_1_86_0/boost/phoenix/core/detail/cpp03/preprocessed/argument_predefined_30.hpp rgeoda/inst/boost-develop/boost_1_86_0/boost/phoenix/core/detail/cpp03/preprocessed/argument_predefined_40.hpp rgeoda/inst/boost-develop/boost_1_86_0/boost/phoenix/core/detail/cpp03/preprocessed/argument_predefined_50.hpp rgeoda/inst/boost-develop/boost_1_86_0/boost/phoenix/core/detail/cpp03/preprocessed/expression_10.hpp rgeoda/inst/boost-develop/boost_1_86_0/boost/phoenix/core/detail/cpp03/preprocessed/expression_20.hpp rgeoda/inst/boost-develop/boost_1_86_0/boost/phoenix/core/detail/cpp03/preprocessed/expression_30.hpp rgeoda/inst/boost-develop/boost_1_86_0/boost/phoenix/core/detail/cpp03/preprocessed/expression_40.hpp rgeoda/inst/boost-develop/boost_1_86_0/boost/phoenix/core/detail/cpp03/preprocessed/expression_50.hpp rgeoda/inst/boost-develop/boost_1_86_0/boost/phoenix/core/detail/cpp03/preprocessed/function_eval.hpp rgeoda/inst/boost-develop/boost_1_86_0/boost/phoenix/core/detail/cpp03/preprocessed/function_eval_10.hpp rgeoda/inst/boost-develop/boost_1_86_0/boost/phoenix/core/detail/cpp03/preprocessed/function_eval_20.hpp rgeoda/inst/boost-develop/boost_1_86_0/boost/phoenix/core/detail/cpp03/preprocessed/function_eval_30.hpp rgeoda/inst/boost-develop/boost_1_86_0/boost/phoenix/core/detail/cpp03/preprocessed/function_eval_40.hpp rgeoda/inst/boost-develop/boost_1_86_0/boost/phoenix/core/detail/cpp03/preprocessed/function_eval_50.hpp rgeoda/inst/boost-develop/boost_1_86_0/boost/phoenix/core/detail/cpp03/preprocessed/function_eval_expr.hpp rgeoda/inst/boost-develop/boost_1_86_0/boost/phoenix/core/detail/cpp03/preprocessed/function_eval_expr_10.hpp rgeoda/inst/boost-develop/boost_1_86_0/boost/phoenix/core/detail/cpp03/preprocessed/function_eval_expr_20.hpp rgeoda/inst/boost-develop/boost_1_86_0/boost/phoenix/core/detail/cpp03/preprocessed/function_eval_expr_30.hpp rgeoda/inst/boost-develop/boost_1_86_0/boost/phoenix/core/detail/cpp03/preprocessed/function_eval_expr_40.hpp rgeoda/inst/boost-develop/boost_1_86_0/boost/phoenix/core/detail/cpp03/preprocessed/function_eval_expr_50.hpp rgeoda/inst/boost-develop/boost_1_86_0/boost/phoenix/function/detail/cpp03/preprocessed/function_operator.hpp rgeoda/inst/boost-develop/boost_1_86_0/boost/phoenix/function/detail/cpp03/preprocessed/function_operator_10.hpp rgeoda/inst/boost-develop/boost_1_86_0/boost/phoenix/function/detail/cpp03/preprocessed/function_operator_20.hpp rgeoda/inst/boost-develop/boost_1_86_0/boost/phoenix/function/detail/cpp03/preprocessed/function_operator_30.hpp rgeoda/inst/boost-develop/boost_1_86_0/boost/phoenix/function/detail/cpp03/preprocessed/function_operator_40.hpp rgeoda/inst/boost-develop/boost_1_86_0/boost/phoenix/function/detail/cpp03/preprocessed/function_operator_50.hpp rgeoda/inst/boost-develop/boost_1_86_0/boost/phoenix/object/detail/cpp03/preprocessed/construct_10.hpp rgeoda/inst/boost-develop/boost_1_86_0/boost/phoenix/object/detail/cpp03/preprocessed/construct_20.hpp rgeoda/inst/boost-develop/boost_1_86_0/boost/phoenix/object/detail/cpp03/preprocessed/construct_30.hpp rgeoda/inst/boost-develop/boost_1_86_0/boost/phoenix/object/detail/cpp03/preprocessed/construct_40.hpp rgeoda/inst/boost-develop/boost_1_86_0/boost/phoenix/object/detail/cpp03/preprocessed/construct_50.hpp rgeoda/inst/boost-develop/boost_1_86_0/boost/phoenix/object/detail/cpp03/preprocessed/construct_eval.hpp rgeoda/inst/boost-develop/boost_1_86_0/boost/phoenix/object/detail/cpp03/preprocessed/construct_eval_10.hpp rgeoda/inst/boost-develop/boost_1_86_0/boost/phoenix/object/detail/cpp03/preprocessed/construct_eval_20.hpp rgeoda/inst/boost-develop/boost_1_86_0/boost/phoenix/object/detail/cpp03/preprocessed/construct_eval_30.hpp rgeoda/inst/boost-develop/boost_1_86_0/boost/phoenix/object/detail/cpp03/preprocessed/construct_eval_40.hpp rgeoda/inst/boost-develop/boost_1_86_0/boost/phoenix/object/detail/cpp03/preprocessed/construct_eval_50.hpp rgeoda/inst/boost-develop/boost_1_86_0/boost/phoenix/object/detail/cpp03/preprocessed/construct_expr.hpp rgeoda/inst/boost-develop/boost_1_86_0/boost/phoenix/object/detail/cpp03/preprocessed/construct_expr_10.hpp rgeoda/inst/boost-develop/boost_1_86_0/boost/phoenix/object/detail/cpp03/preprocessed/construct_expr_20.hpp rgeoda/inst/boost-develop/boost_1_86_0/boost/phoenix/object/detail/cpp03/preprocessed/construct_expr_30.hpp rgeoda/inst/boost-develop/boost_1_86_0/boost/phoenix/object/detail/cpp03/preprocessed/construct_expr_40.hpp rgeoda/inst/boost-develop/boost_1_86_0/boost/phoenix/object/detail/cpp03/preprocessed/construct_expr_50.hpp rgeoda/inst/boost-develop/boost_1_86_0/boost/phoenix/object/detail/cpp03/preprocessed/new_eval_10.hpp rgeoda/inst/boost-develop/boost_1_86_0/boost/phoenix/object/detail/cpp03/preprocessed/new_eval_20.hpp rgeoda/inst/boost-develop/boost_1_86_0/boost/phoenix/object/detail/cpp03/preprocessed/new_eval_30.hpp rgeoda/inst/boost-develop/boost_1_86_0/boost/phoenix/object/detail/cpp03/preprocessed/new_eval_40.hpp rgeoda/inst/boost-develop/boost_1_86_0/boost/phoenix/object/detail/cpp03/preprocessed/new_eval_50.hpp rgeoda/inst/boost-develop/boost_1_86_0/boost/phoenix/object/detail/cpp03/preprocessed/new_expr_10.hpp rgeoda/inst/boost-develop/boost_1_86_0/boost/phoenix/object/detail/cpp03/preprocessed/new_expr_20.hpp rgeoda/inst/boost-develop/boost_1_86_0/boost/phoenix/object/detail/cpp03/preprocessed/new_expr_30.hpp rgeoda/inst/boost-develop/boost_1_86_0/boost/phoenix/object/detail/cpp03/preprocessed/new_expr_40.hpp rgeoda/inst/boost-develop/boost_1_86_0/boost/phoenix/object/detail/cpp03/preprocessed/new_expr_50.hpp rgeoda/inst/boost-develop/boost_1_86_0/boost/phoenix/operator/detail/cpp03/mem_fun_ptr_eval_result_of.hpp rgeoda/inst/boost-develop/boost_1_86_0/boost/phoenix/operator/detail/cpp03/preprocessed/mem_fun_ptr_eval.hpp rgeoda/inst/boost-develop/boost_1_86_0/boost/phoenix/operator/detail/cpp03/preprocessed/mem_fun_ptr_eval_10.hpp rgeoda/inst/boost-develop/boost_1_86_0/boost/phoenix/operator/detail/cpp03/preprocessed/mem_fun_ptr_eval_20.hpp rgeoda/inst/boost-develop/boost_1_86_0/boost/phoenix/operator/detail/cpp03/preprocessed/mem_fun_ptr_eval_30.hpp rgeoda/inst/boost-develop/boost_1_86_0/boost/phoenix/operator/detail/cpp03/preprocessed/mem_fun_ptr_eval_40.hpp rgeoda/inst/boost-develop/boost_1_86_0/boost/phoenix/operator/detail/cpp03/preprocessed/mem_fun_ptr_eval_50.hpp rgeoda/inst/boost-develop/boost_1_86_0/boost/phoenix/operator/detail/cpp03/preprocessed/mem_fun_ptr_eval_result_of.hpp rgeoda/inst/boost-develop/boost_1_86_0/boost/phoenix/operator/detail/cpp03/preprocessed/mem_fun_ptr_eval_result_of_10.hpp rgeoda/inst/boost-develop/boost_1_86_0/boost/phoenix/operator/detail/cpp03/preprocessed/mem_fun_ptr_eval_result_of_20.hpp rgeoda/inst/boost-develop/boost_1_86_0/boost/phoenix/operator/detail/cpp03/preprocessed/mem_fun_ptr_eval_result_of_30.hpp rgeoda/inst/boost-develop/boost_1_86_0/boost/phoenix/operator/detail/cpp03/preprocessed/mem_fun_ptr_eval_result_of_40.hpp rgeoda/inst/boost-develop/boost_1_86_0/boost/phoenix/operator/detail/cpp03/preprocessed/mem_fun_ptr_eval_result_of_50.hpp rgeoda/inst/boost-develop/boost_1_86_0/boost/phoenix/operator/detail/cpp03/preprocessed/mem_fun_ptr_expr.hpp rgeoda/inst/boost-develop/boost_1_86_0/boost/phoenix/operator/detail/cpp03/preprocessed/mem_fun_ptr_expr_10.hpp rgeoda/inst/boost-develop/boost_1_86_0/boost/phoenix/operator/detail/cpp03/preprocessed/mem_fun_ptr_expr_20.hpp rgeoda/inst/boost-develop/boost_1_86_0/boost/phoenix/operator/detail/cpp03/preprocessed/mem_fun_ptr_expr_30.hpp rgeoda/inst/boost-develop/boost_1_86_0/boost/phoenix/operator/detail/cpp03/preprocessed/mem_fun_ptr_expr_40.hpp rgeoda/inst/boost-develop/boost_1_86_0/boost/phoenix/operator/detail/cpp03/preprocessed/mem_fun_ptr_expr_50.hpp rgeoda/inst/boost-develop/boost_1_86_0/boost/phoenix/operator/detail/cpp03/preprocessed/mem_fun_ptr_gen.hpp rgeoda/inst/boost-develop/boost_1_86_0/boost/phoenix/operator/detail/cpp03/preprocessed/mem_fun_ptr_gen_10.hpp rgeoda/inst/boost-develop/boost_1_86_0/boost/phoenix/operator/detail/cpp03/preprocessed/mem_fun_ptr_gen_20.hpp rgeoda/inst/boost-develop/boost_1_86_0/boost/phoenix/operator/detail/cpp03/preprocessed/mem_fun_ptr_gen_30.hpp rgeoda/inst/boost-develop/boost_1_86_0/boost/phoenix/operator/detail/cpp03/preprocessed/mem_fun_ptr_gen_40.hpp rgeoda/inst/boost-develop/boost_1_86_0/boost/phoenix/operator/detail/cpp03/preprocessed/mem_fun_ptr_gen_50.hpp rgeoda/inst/boost-develop/boost_1_86_0/boost/phoenix/statement/detail/preprocessed/catch_push_back.hpp rgeoda/inst/boost-develop/boost_1_86_0/boost/phoenix/statement/detail/preprocessed/catch_push_back_10.hpp rgeoda/inst/boost-develop/boost_1_86_0/boost/phoenix/statement/detail/preprocessed/catch_push_back_20.hpp rgeoda/inst/boost-develop/boost_1_86_0/boost/phoenix/statement/detail/preprocessed/catch_push_back_30.hpp rgeoda/inst/boost-develop/boost_1_86_0/boost/phoenix/statement/detail/preprocessed/catch_push_back_40.hpp rgeoda/inst/boost-develop/boost_1_86_0/boost/phoenix/statement/detail/preprocessed/catch_push_back_50.hpp rgeoda/inst/boost-develop/boost_1_86_0/boost/phoenix/statement/detail/preprocessed/try_catch_eval.hpp rgeoda/inst/boost-develop/boost_1_86_0/boost/phoenix/statement/detail/preprocessed/try_catch_eval_10.hpp rgeoda/inst/boost-develop/boost_1_86_0/boost/phoenix/statement/detail/preprocessed/try_catch_eval_20.hpp rgeoda/inst/boost-develop/boost_1_86_0/boost/phoenix/statement/detail/preprocessed/try_catch_eval_30.hpp rgeoda/inst/boost-develop/boost_1_86_0/boost/phoenix/statement/detail/preprocessed/try_catch_eval_40.hpp rgeoda/inst/boost-develop/boost_1_86_0/boost/phoenix/statement/detail/preprocessed/try_catch_eval_50.hpp rgeoda/inst/boost-develop/boost_1_86_0/boost/phoenix/statement/detail/preprocessed/try_catch_expression.hpp rgeoda/inst/boost-develop/boost_1_86_0/boost/phoenix/statement/detail/preprocessed/try_catch_expression_10.hpp rgeoda/inst/boost-develop/boost_1_86_0/boost/phoenix/statement/detail/preprocessed/try_catch_expression_20.hpp rgeoda/inst/boost-develop/boost_1_86_0/boost/phoenix/statement/detail/preprocessed/try_catch_expression_30.hpp rgeoda/inst/boost-develop/boost_1_86_0/boost/phoenix/statement/detail/preprocessed/try_catch_expression_40.hpp rgeoda/inst/boost-develop/boost_1_86_0/boost/phoenix/statement/detail/preprocessed/try_catch_expression_50.hpp rgeoda/inst/boost-develop/boost_1_86_0/boost/phoenix/stl/algorithm/detail/is_unordered_set_or_map.hpp rgeoda/inst/boost-develop/boost_1_86_0/boost/preprocessor/iteration/detail/iter/limits/forward1_1024.hpp rgeoda/inst/boost-develop/boost_1_86_0/boost/preprocessor/iteration/detail/iter/limits/forward1_256.hpp rgeoda/inst/boost-develop/boost_1_86_0/boost/preprocessor/iteration/detail/iter/limits/forward1_512.hpp rgeoda/inst/boost-develop/boost_1_86_0/boost/preprocessor/iteration/detail/iter/limits/forward2_1024.hpp rgeoda/inst/boost-develop/boost_1_86_0/boost/preprocessor/iteration/detail/iter/limits/forward2_256.hpp rgeoda/inst/boost-develop/boost_1_86_0/boost/preprocessor/iteration/detail/iter/limits/forward2_512.hpp rgeoda/inst/boost-develop/boost_1_86_0/boost/preprocessor/iteration/detail/iter/limits/forward3_1024.hpp rgeoda/inst/boost-develop/boost_1_86_0/boost/preprocessor/iteration/detail/iter/limits/forward3_256.hpp rgeoda/inst/boost-develop/boost_1_86_0/boost/preprocessor/iteration/detail/iter/limits/forward3_512.hpp rgeoda/inst/boost-develop/boost_1_86_0/boost/preprocessor/iteration/detail/iter/limits/forward4_1024.hpp rgeoda/inst/boost-develop/boost_1_86_0/boost/preprocessor/iteration/detail/iter/limits/forward4_256.hpp rgeoda/inst/boost-develop/boost_1_86_0/boost/preprocessor/iteration/detail/iter/limits/forward4_512.hpp rgeoda/inst/boost-develop/boost_1_86_0/boost/preprocessor/iteration/detail/iter/limits/forward5_1024.hpp rgeoda/inst/boost-develop/boost_1_86_0/boost/preprocessor/iteration/detail/iter/limits/forward5_256.hpp rgeoda/inst/boost-develop/boost_1_86_0/boost/preprocessor/iteration/detail/iter/limits/forward5_512.hpp rgeoda/inst/boost-develop/boost_1_86_0/boost/preprocessor/iteration/detail/iter/limits/reverse1_1024.hpp rgeoda/inst/boost-develop/boost_1_86_0/boost/preprocessor/iteration/detail/iter/limits/reverse1_256.hpp rgeoda/inst/boost-develop/boost_1_86_0/boost/preprocessor/iteration/detail/iter/limits/reverse1_512.hpp rgeoda/inst/boost-develop/boost_1_86_0/boost/preprocessor/iteration/detail/iter/limits/reverse2_1024.hpp rgeoda/inst/boost-develop/boost_1_86_0/boost/preprocessor/iteration/detail/iter/limits/reverse2_256.hpp rgeoda/inst/boost-develop/boost_1_86_0/boost/preprocessor/iteration/detail/iter/limits/reverse2_512.hpp rgeoda/inst/boost-develop/boost_1_86_0/boost/preprocessor/iteration/detail/iter/limits/reverse3_1024.hpp rgeoda/inst/boost-develop/boost_1_86_0/boost/preprocessor/iteration/detail/iter/limits/reverse3_256.hpp rgeoda/inst/boost-develop/boost_1_86_0/boost/preprocessor/iteration/detail/iter/limits/reverse3_512.hpp rgeoda/inst/boost-develop/boost_1_86_0/boost/preprocessor/iteration/detail/iter/limits/reverse4_1024.hpp rgeoda/inst/boost-develop/boost_1_86_0/boost/preprocessor/iteration/detail/iter/limits/reverse4_256.hpp rgeoda/inst/boost-develop/boost_1_86_0/boost/preprocessor/iteration/detail/iter/limits/reverse4_512.hpp rgeoda/inst/boost-develop/boost_1_86_0/boost/preprocessor/iteration/detail/iter/limits/reverse5_1024.hpp rgeoda/inst/boost-develop/boost_1_86_0/boost/preprocessor/iteration/detail/iter/limits/reverse5_256.hpp rgeoda/inst/boost-develop/boost_1_86_0/boost/preprocessor/iteration/detail/iter/limits/reverse5_512.hpp rgeoda/inst/boost-develop/boost_1_86_0/boost/proto/transform/detail/preprocessed/construct_pod_funop.hpp rgeoda/inst/boost-develop/boost_1_86_0/boost/proto/transform/detail/preprocessed/default_function_impl.hpp rgeoda/inst/boost-develop/boost_1_86_0/boost/proto/transform/detail/preprocessed/make_gcc_workaround.hpp rgeoda/inst/boost-develop/boost_1_86_0/boost/proto/transform/detail/preprocessed/pass_through_impl.hpp rgeoda/inst/boost-develop/boost_1_86_0/boost/ptr_container/detail/ptr_container_disable_deprecated.hpp rgeoda/inst/boost-develop/boost_1_86_0/boost/spirit/home/classic/core/composite/impl/exclusive_or.ipp rgeoda/inst/boost-develop/boost_1_86_0/boost/spirit/home/classic/core/composite/impl/intersection.ipp rgeoda/inst/boost-develop/boost_1_86_0/boost/spirit/home/classic/core/composite/impl/sequential_and.ipp rgeoda/inst/boost-develop/boost_1_86_0/boost/spirit/home/classic/core/composite/impl/sequential_or.ipp rgeoda/inst/boost-develop/boost_1_86_0/boost/spirit/home/classic/core/non_terminal/impl/object_with_id.ipp rgeoda/inst/boost-develop/boost_1_86_0/boost/spirit/home/classic/core/non_terminal/parser_context.hpp rgeoda/inst/boost-develop/boost_1_86_0/boost/spirit/home/karma/nonterminal/detail/generator_binder.hpp rgeoda/inst/boost-develop/boost_1_86_0/boost/spirit/home/support/char_encoding/unicode/category_table.hpp rgeoda/inst/boost-develop/boost_1_86_0/boost/spirit/home/support/char_encoding/unicode/lowercase_table.hpp rgeoda/inst/boost-develop/boost_1_86_0/boost/spirit/home/support/char_encoding/unicode/script_table.hpp rgeoda/inst/boost-develop/boost_1_86_0/boost/spirit/home/support/char_encoding/unicode/uppercase_table.hpp rgeoda/inst/boost-develop/boost_1_86_0/boost/spirit/home/support/detail/lexer/containers/ptr_list.hpp rgeoda/inst/boost-develop/boost_1_86_0/boost/spirit/home/support/detail/lexer/containers/ptr_vector.hpp rgeoda/inst/boost-develop/boost_1_86_0/boost/spirit/home/support/detail/lexer/conversion/char_state_machine.hpp rgeoda/inst/boost-develop/boost_1_86_0/boost/spirit/home/support/detail/lexer/parser/tokeniser/num_token.hpp rgeoda/inst/boost-develop/boost_1_86_0/boost/spirit/home/support/detail/lexer/parser/tokeniser/re_tokeniser.hpp rgeoda/inst/boost-develop/boost_1_86_0/boost/spirit/home/support/detail/lexer/parser/tokeniser/re_tokeniser_helper.hpp rgeoda/inst/boost-develop/boost_1_86_0/boost/spirit/home/support/detail/lexer/parser/tokeniser/re_tokeniser_state.hpp rgeoda/inst/boost-develop/boost_1_86_0/boost/spirit/home/support/detail/lexer/parser/tree/end_node.hpp rgeoda/inst/boost-develop/boost_1_86_0/boost/spirit/home/support/detail/lexer/parser/tree/iteration_node.hpp rgeoda/inst/boost-develop/boost_1_86_0/boost/spirit/home/support/detail/lexer/parser/tree/leaf_node.hpp rgeoda/inst/boost-develop/boost_1_86_0/boost/spirit/home/support/detail/lexer/parser/tree/selection_node.hpp rgeoda/inst/boost-develop/boost_1_86_0/boost/spirit/home/support/detail/lexer/parser/tree/sequence_node.hpp rgeoda/inst/boost-develop/boost_1_86_0/boost/spirit/home/support/iterators/detail/buf_id_check_policy.hpp rgeoda/inst/boost-develop/boost_1_86_0/boost/spirit/home/support/iterators/detail/buffering_input_iterator_policy.hpp rgeoda/inst/boost-develop/boost_1_86_0/boost/spirit/home/support/iterators/detail/combine_policies.hpp rgeoda/inst/boost-develop/boost_1_86_0/boost/spirit/home/support/iterators/detail/first_owner_policy.hpp rgeoda/inst/boost-develop/boost_1_86_0/boost/spirit/home/support/iterators/detail/fixed_size_queue.hpp rgeoda/inst/boost-develop/boost_1_86_0/boost/spirit/home/support/iterators/detail/fixed_size_queue_policy.hpp rgeoda/inst/boost-develop/boost_1_86_0/boost/spirit/home/support/iterators/detail/functor_input_policy.hpp rgeoda/inst/boost-develop/boost_1_86_0/boost/spirit/home/support/iterators/detail/input_iterator_policy.hpp rgeoda/inst/boost-develop/boost_1_86_0/boost/spirit/home/support/iterators/detail/lex_input_policy.hpp rgeoda/inst/boost-develop/boost_1_86_0/boost/spirit/home/support/iterators/detail/no_check_policy.hpp rgeoda/inst/boost-develop/boost_1_86_0/boost/spirit/home/support/iterators/detail/ref_counted_policy.hpp rgeoda/inst/boost-develop/boost_1_86_0/boost/spirit/home/support/iterators/detail/split_functor_input_policy.hpp rgeoda/inst/boost-develop/boost_1_86_0/boost/spirit/home/support/iterators/detail/split_std_deque_policy.hpp rgeoda/inst/boost-develop/boost_1_86_0/boost/spirit/home/x3/nonterminal/detail/transform_attribute.hpp rgeoda/inst/boost-develop/boost_1_86_0/boost/spirit/home/x3/support/numeric_utils/detail/extract_int.hpp rgeoda/inst/boost-develop/boost_1_86_0/boost/spirit/home/x3/support/traits/variant_find_substitute.hpp rgeoda/inst/boost-develop/boost_1_86_0/boost/spirit/home/x3/support/traits/variant_has_substitute.hpp rgeoda/inst/boost-develop/boost_1_86_0/boost/spirit/repository/home/qi/primitive/flush_multi_pass.hpp rgeoda/inst/boost-develop/boost_1_86_0/boost/type_traits/detail/is_member_function_pointer_cxx_03.hpp rgeoda/inst/boost-develop/boost_1_86_0/boost/type_traits/detail/is_member_function_pointer_cxx_11.hpp rgeoda/inst/boost-develop/boost_1_86_0/boost/xpressive/detail/core/matcher/logical_newline_matcher.hpp rgeoda/inst/boost-develop/boost_1_86_0/boost/local_function/aux_/preprocessor/traits/decl_sign_/validate_ Tarballs are only required to store paths of up to 100 bytes and cannot store those of more than 256 bytes, with restrictions including to 100 bytes for the final component. See section 'Package structure' in the 'Writing R Extensions' manual. * checking whether package 'rgeoda' can be installed ... OK * used C++ compiler: 'g++.exe (GCC) 13.2.0' * checking C++ specification ... OK * checking installed package size ... INFO installed size is 177.4Mb sub-directories of 1Mb or more: boost-develop 173.5Mb libs 2.7Mb * checking package directory ... OK * checking for future file timestamps ... OK * checking DESCRIPTION meta-information ... OK * checking top-level files ... OK * checking for left-over files ... OK * checking index information ... OK * checking package subdirectories ... OK * checking code files for non-ASCII characters ... OK * checking R files for syntax errors ... OK * checking whether the package can be loaded ... OK * checking whether the package can be loaded with stated dependencies ... OK * checking whether the package can be unloaded cleanly ... OK * checking whether the namespace can be loaded with stated dependencies ... OK * checking whether the namespace can be unloaded cleanly ... OK * checking loading without being on the library search path ... OK * checking use of S3 registration ... OK * checking dependencies in R code ... OK * checking S3 generic/method consistency ... OK * checking replacement functions ... OK * checking foreign function calls ... OK * checking R code for possible problems ... OK * checking Rd files ... OK * checking Rd metadata ... OK * checking Rd line widths ... OK * checking Rd cross-references ... OK * checking for missing documentation entries ... OK * checking for code/documentation mismatches ... OK * checking Rd \usage sections ... OK * checking Rd contents ... OK * checking for unstated dependencies in examples ... OK * checking line endings in C/C++/Fortran sources/headers ... OK * checking line endings in Makefiles ... OK * checking compilation flags in Makevars ... OK * checking for GNU extensions in Makefiles ... OK * checking for portable use of $(BLAS_LIBS) and $(LAPACK_LIBS) ... OK * checking use of PKG_*FLAGS in Makefiles ... OK * checking use of SHLIB_OPENMP_*FLAGS in Makefiles ... OK * checking pragmas in C/C++ headers and code ... OK * checking compilation flags used ... OK * checking compiled code ... OK * checking examples ... OK * checking PDF version of manual ... [17s] OK * checking HTML version of manual ... [12s] OK * DONE Status: 3 NOTEs