* using log directory 'd:/RCompile/CRANincoming/R-devel/rGEDI.Rcheck' * using R Under development (unstable) (2025-09-22 r88868 ucrt) * using platform: x86_64-w64-mingw32 * R was compiled by gcc.exe (GCC) 14.2.0 GNU Fortran (GCC) 14.2.0 * running under: Windows Server 2022 x64 (build 20348) * using session charset: UTF-8 * checking for file 'rGEDI/DESCRIPTION' ... OK * checking extension type ... Package * this is package 'rGEDI' version '0.5.3' * package encoding: UTF-8 * checking CRAN incoming feasibility ... [12s] NOTE Maintainer: 'Caio Hamamura ' New submission Package was archived on CRAN Possibly misspelled words in DESCRIPTION: GEDI (3:56, 20:80) CRAN repository db overrides: X-CRAN-Comment: Archived on 2021-11-05 as check problems were not corrected in time. Found the following (possibly) invalid URLs: URL: https://lpdaac.usgs.gov/products/gedi01_bv002/ (moved to https://www.earthdata.nasa.gov/data/catalog/lpcloud-gedi01-b-002) From: man/clipLevel1B.Rd man/clipLevel1BGeo.Rd man/clipLevel1BGeoGeometry.Rd man/clipLevel2B.Rd man/clipLevel2BGeometry.Rd man/gedi.level1b-class.Rd man/getLevel1BGeo.Rd man/getLevel1BWF.Rd man/readLevel1B.Rd Status: 301 Message: Moved Permanently URL: https://lpdaac.usgs.gov/products/gedi02_av002/ (moved to https://www.earthdata.nasa.gov/data/catalog/lpcloud-gedi02-a-002) From: man/clipLevel2A.Rd man/clipLevel2AGeometry.Rd man/clipLevel2AM.Rd man/gedi.level2a-class.Rd man/getLevel2AM.Rd man/gridStatsLevel2AM.Rd man/polyStatsLevel2AM.Rd man/readLevel2A.Rd Status: 301 Message: Moved Permanently URL: https://lpdaac.usgs.gov/products/gedi02_bv002/ (moved to https://www.earthdata.nasa.gov/data/catalog/lpcloud-gedi02-b-002) From: man/clipLevel2BPAIProfile.Rd man/clipLevel2BPAIProfileGeometry.Rd man/clipLevel2BPAVDProfile.Rd man/clipLevel2BPAVDProfileGeometry.Rd man/clipLevel2BVPM.Rd man/clipLevel2BVPMGeometry.Rd man/gedi.level2b-class.Rd man/getLevel2BPAIProfile.Rd man/getLevel2BPAVDProfile.Rd man/getLevel2BVPM.Rd man/gridStatsLevel2BVPM.Rd man/plotPAIProfile.Rd man/plotPAVDProfile.Rd man/plotWFMetrics.Rd man/polyStatsLevel2BVPM.Rd Status: 301 Message: Moved Permanently URL: https://travis-ci.com/carlos-alberto-silva/rGEDI (moved to https://www.travis-ci.com/carlos-alberto-silva/rGEDI) From: README.md Status: 301 Message: Moved Permanently For content that is 'Moved Permanently', please change http to https, add trailing slashes, or replace the old by the new URL. * checking package namespace information ... OK * checking package dependencies ... OK * checking if this is a source package ... OK * checking if there is a namespace ... OK * checking for hidden files and directories ... OK * checking for portable file names ... OK * checking serialization versions ... OK * checking whether package 'rGEDI' can be installed ... OK * checking installed package size ... OK * checking package directory ... OK * checking for future file timestamps ... OK * checking DESCRIPTION meta-information ... OK * checking top-level files ... OK * checking for left-over files ... OK * checking index information ... OK * checking package subdirectories ... OK * checking code files for non-ASCII characters ... OK * checking R files for syntax errors ... OK * checking whether the package can be loaded ... OK * checking whether the package can be loaded with stated dependencies ... OK * checking whether the package can be unloaded cleanly ... OK * checking whether the namespace can be loaded with stated dependencies ... OK * checking whether the namespace can be unloaded cleanly ... OK * checking loading without being on the library search path ... OK * checking use of S3 registration ... OK * checking dependencies in R code ... OK * checking S3 generic/method consistency ... OK * checking replacement functions ... OK * checking foreign function calls ... OK * checking R code for possible problems ... [18s] OK * checking Rd files ... OK * checking Rd metadata ... OK * checking Rd line widths ... OK * checking Rd cross-references ... OK * checking for missing documentation entries ... OK * checking for code/documentation mismatches ... OK * checking Rd \usage sections ... OK * checking Rd contents ... OK * checking for unstated dependencies in examples ... OK * checking examples ... [47s] OK * checking PDF version of manual ... [21s] OK * checking HTML version of manual ... OK * DONE Status: 1 NOTE