* using log directory ‘/srv/hornik/tmp/CRAN_pretest/rFIA.Rcheck’
* using R Under development (unstable) (2025-03-03 r87871)
* using platform: x86_64-pc-linux-gnu
* R was compiled by
    Debian clang version 19.1.7 (1+b1)
    Debian flang-new version 19.1.7 (1+b1)
* running under: Debian GNU/Linux trixie/sid
* using session charset: UTF-8
* checking for file ‘rFIA/DESCRIPTION’ ... OK
* checking extension type ... Package
* this is package ‘rFIA’ version ‘1.1.0’
* package encoding: UTF-8
* checking CRAN incoming feasibility ... [4s/18s] NOTE
Maintainer: ‘Jeffrey Doser <jwdoser@ncsu.edu>’

New submission

Package was archived on CRAN

Possibly misspelled words in DESCRIPTION:
  Bechtold (8:990)
  FIA (3:49, 8:149, 8:241, 8:380, 8:497, 8:604, 8:1117)
  USFS (8:112)

CRAN repository db overrides:
  X-CRAN-Comment: Archived on 2023-03-12 as issues were not corrected
    in time.
* checking package namespace information ... OK
* checking package dependencies ... OK
* checking if this is a source package ... OK
* checking if there is a namespace ... OK
* checking for executable files ... OK
* checking for hidden files and directories ... OK
* checking for portable file names ... OK
* checking for sufficient/correct file permissions ... OK
* checking whether package ‘rFIA’ can be installed ... [10s/10s] OK
* checking package directory ... OK
* checking for future file timestamps ... OK
* checking DESCRIPTION meta-information ... OK
* checking top-level files ... OK
* checking for left-over files ... OK
* checking index information ... OK
* checking package subdirectories ... OK
* checking code files for non-ASCII characters ... OK
* checking R files for syntax errors ... OK
* checking whether the package can be loaded ... [1s/1s] OK
* checking whether the package can be loaded with stated dependencies ... [1s/1s] OK
* checking whether the package can be unloaded cleanly ... [1s/1s] OK
* checking whether the namespace can be loaded with stated dependencies ... [1s/1s] OK
* checking whether the namespace can be unloaded cleanly ... [1s/1s] OK
* checking loading without being on the library search path ... [1s/1s] OK
* checking whether startup messages can be suppressed ... [1s/1s] OK
* checking use of S3 registration ... OK
* checking dependencies in R code ... OK
* checking S3 generic/method consistency ... OK
* checking replacement functions ... OK
* checking foreign function calls ... OK
* checking R code for possible problems ... [17s/17s] OK
* checking Rd files ... [0s/0s] OK
* checking Rd metadata ... OK
* checking Rd line widths ... OK
* checking Rd cross-references ... OK
* checking for missing documentation entries ... OK
* checking for code/documentation mismatches ... OK
* checking Rd \usage sections ... OK
* checking Rd contents ... OK
* checking for unstated dependencies in examples ... OK
* checking contents of ‘data’ directory ... OK
* checking data for non-ASCII characters ... [0s/0s] OK
* checking LazyData ... OK
* checking data for ASCII and uncompressed saves ... OK
* checking R/sysdata.rda ... OK
* checking examples ... [13s/13s] OK
* checking PDF version of manual ... [4s/4s] OK
* checking HTML version of manual ... [1s/1s] OK
* checking for non-standard things in the check directory ... OK
* checking for detritus in the temp directory ... OK
* DONE
Status: 1 NOTE