* using log directory 'd:/RCompile/CRANincoming/R-devel/progressr.Rcheck' * using R Under development (unstable) (2025-10-13 r88918 ucrt) * using platform: x86_64-w64-mingw32 * R was compiled by gcc.exe (GCC) 14.2.0 GNU Fortran (GCC) 14.2.0 * running under: Windows Server 2022 x64 (build 20348) * using session charset: UTF-8 * checking for file 'progressr/DESCRIPTION' ... OK * this is package 'progressr' version '0.17.0' * package encoding: UTF-8 * checking CRAN incoming feasibility ... OK * checking package namespace information ... OK * checking package dependencies ... OK * checking if this is a source package ... OK * checking if there is a namespace ... OK * checking for hidden files and directories ... OK * checking for portable file names ... OK * checking whether package 'progressr' can be installed ... OK * checking installed package size ... OK * checking package directory ... OK * checking for future file timestamps ... OK * checking 'build' directory ... OK * checking DESCRIPTION meta-information ... OK * checking top-level files ... OK * checking for left-over files ... OK * checking index information ... OK * checking package subdirectories ... OK * checking code files for non-ASCII characters ... OK * checking R files for syntax errors ... OK * checking whether the package can be loaded ... OK * checking whether the package can be loaded with stated dependencies ... OK * checking whether the package can be unloaded cleanly ... OK * checking whether the namespace can be loaded with stated dependencies ... OK * checking whether the namespace can be unloaded cleanly ... OK * checking loading without being on the library search path ... OK * checking whether startup messages can be suppressed ... OK * checking use of S3 registration ... OK * checking dependencies in R code ... OK * checking S3 generic/method consistency ... OK * checking replacement functions ... OK * checking foreign function calls ... OK * checking R code for possible problems ... OK * checking Rd files ... OK * checking Rd metadata ... OK * checking Rd line widths ... OK * checking Rd cross-references ... OK * checking for missing documentation entries ... OK * checking for code/documentation mismatches ... OK * checking Rd \usage sections ... OK * checking Rd contents ... OK * checking for unstated dependencies in examples ... OK * checking line endings in Makefiles ... OK * checking for GNU extensions in Makefiles ... OK * checking include directives in Makefiles ... OK * checking installed files from 'inst/doc' ... OK * checking files in 'vignettes' ... OK * checking examples ... OK * checking for unstated dependencies in 'tests' ... OK * checking tests ... [115s] OK Running 'test-debug.R' Running 'test-demo.R' Running 'test-exceptions.R' Running 'test-globals,relay.R' Running 'test-handler_cli.R' Running 'test-handler_filesize.R' Running 'test-handler_make_progression.R' Running 'test-handler_pbmcapply.R' Running 'test-handler_progress.R' Running 'test-handler_rstudio.R' Running 'test-handler_shiny.R' Running 'test-handler_tkprogressbar.R' Running 'test-handler_txtprogressbar.R' Running 'test-handlers.R' Running 'test-progress_aggregator.R' Running 'test-progression.R' Running 'test-progressor.R' Running 'test-utils.R' Running 'test-with_progress,delay.R' Running 'test-with_progress,relay.R' Running 'test-with_progress.R' Running 'test-without_progress.R' Running 'test-zzz,doFuture.R' [27s] Running 'test-zzz,foreach_do.R' Running 'test-zzz,furrr.R' [27s] Running 'test-zzz,future.apply.R' [27s] Running 'test-zzz,plyr.R' Running 'test-zzz,purrr.R' Running 'test-zzz,shiny.R' * checking for unstated dependencies in vignettes ... OK * checking package vignettes ... OK * checking re-building of vignette outputs ... OK * checking PDF version of manual ... [13s] OK * checking HTML version of manual ... OK * DONE Status: OK