* using log directory 'd:/RCompile/CRANincoming/R-devel/pleioh2g.Rcheck' * using R Under development (unstable) (2025-10-21 r88963 ucrt) * using platform: x86_64-w64-mingw32 * R was compiled by gcc.exe (GCC) 14.2.0 GNU Fortran (GCC) 14.2.0 * running under: Windows Server 2022 x64 (build 20348) * using session charset: UTF-8 * checking for file 'pleioh2g/DESCRIPTION' ... OK * checking extension type ... Package * this is package 'pleioh2g' version '0.1.0' * package encoding: UTF-8 * checking CRAN incoming feasibility ... NOTE Maintainer: 'Yujie Zhao ' New submission Possibly misspelled words in DESCRIPTION: Bulik (12:331) Heritability (3:34) Pleiotropic (3:22) al (12:349) et (12:346) heritability (12:61, 12:192) pleiotropic (12:49, 12:180) Found the following (possibly) invalid URLs: URL: https://alkesgroup.broadinstitute.org/PHBC/ From: inst/doc/pleioh2g-tutorial.html Status: 404 Message: Not Found URL: https://data.broadinstitute.org/alkesgroup/LDSCORE (moved to https://alkesgroup.broadinstitute.org/LDSCORE) From: inst/doc/pleioh2g-tutorial.html Status: 301 Message: Moved Permanently For content that is 'Moved Permanently', please change http to https, add trailing slashes, or replace the old by the new URL. The Title field should be in title case. Current version is: 'Estimation of Pleiotropic Heritability from genome-wide association studies (GWAS) Summary Statistics' In title case that is: 'Estimation of Pleiotropic Heritability from Genome-Wide Association Studies (GWAS) Summary Statistics' Size of tarball: 56520111 bytes * checking package namespace information ... OK * checking package dependencies ... OK * checking if this is a source package ... OK * checking if there is a namespace ... OK * checking for hidden files and directories ... OK * checking for portable file names ... OK * checking serialization versions ... OK * checking whether package 'pleioh2g' can be installed ... OK * checking installed package size ... INFO installed size is 65.7Mb sub-directories of 1Mb or more: extdata 65.3Mb * checking package directory ... OK * checking for future file timestamps ... OK * checking 'build' directory ... OK * checking DESCRIPTION meta-information ... OK * checking top-level files ... OK * checking for left-over files ... OK * checking index information ... OK * checking package subdirectories ... OK * checking code files for non-ASCII characters ... OK * checking R files for syntax errors ... OK * checking whether the package can be loaded ... OK * checking whether the package can be loaded with stated dependencies ... OK * checking whether the package can be unloaded cleanly ... OK * checking whether the namespace can be loaded with stated dependencies ... OK * checking whether the namespace can be unloaded cleanly ... OK * checking loading without being on the library search path ... OK * checking use of S3 registration ... OK * checking dependencies in R code ... OK * checking S3 generic/method consistency ... OK * checking replacement functions ... OK * checking foreign function calls ... OK * checking R code for possible problems ... OK * checking Rd files ... OK * checking Rd metadata ... OK * checking Rd line widths ... OK * checking Rd cross-references ... OK * checking for missing documentation entries ... OK * checking for code/documentation mismatches ... OK * checking Rd \usage sections ... OK * checking Rd contents ... OK * checking for unstated dependencies in examples ... OK * checking contents of 'data' directory ... OK * checking data for non-ASCII characters ... OK * checking LazyData ... OK * checking data for ASCII and uncompressed saves ... OK * checking installed files from 'inst/doc' ... OK * checking files in 'vignettes' ... OK * checking examples ... [12s] OK * checking for unstated dependencies in 'tests' ... OK * checking tests ... OK Running 'testthat.R' * checking for unstated dependencies in vignettes ... OK * checking package vignettes ... OK * checking re-building of vignette outputs ... OK * checking PDF version of manual ... [12s] OK * checking HTML version of manual ... OK * DONE Status: 1 NOTE