* using log directory ‘/srv/hornik/tmp/CRAN_pretest/netmem.Rcheck’ * using R Under development (unstable) (2025-10-16 r88927) * using platform: x86_64-pc-linux-gnu * R was compiled by Debian clang version 19.1.7 (7) Debian flang-new version 19.1.7 (7) * running under: Debian GNU/Linux forky/sid * using session charset: UTF-8 * checking for file ‘netmem/DESCRIPTION’ ... OK * this is package ‘netmem’ version ‘1.0-3’ * package encoding: UTF-8 * checking CRAN incoming feasibility ... [5s/125s] NOTE Maintainer: ‘Alejandro Espinosa-Rada ’ New submission License components with restrictions and base license permitting such: GPL-3 + file LICENSE File 'LICENSE': YEAR: 2020 COPYRIGHT HOLDER: Alejandro Espinosa-Rada Found the following (possibly) invalid URLs: URL: From: README.md Message: Empty URL URL: (https://github.com/anespinosa/netmem) From: inst/doc/multilayer.html Message: Invalid URI scheme URL: http://digital.library.okstate.edu/etd/umi-okstate-1334.pdf From: man/minmax_overlap.Rd Status: Error Message: Could not resolve hostname [digital.library.okstate.edu]: Could not resolve host: digital.library.okstate.edu URL: http://sds.hss.cmu.edu/faculty/carley/carley.htm From: inst/doc/multilayer.html Status: Error Message: Timeout was reached [sds.hss.cmu.edu]: Connection timed out after 60002 milliseconds URL: https://codecov.io/gh/anespinosa/netmem?branch=master (moved to https://app.codecov.io/gh/anespinosa/netmem?branch=master) From: README.md Status: 301 Message: Moved Permanently URL: https://github.com/https://github.com/anespinosa/netmem From: README.md Status: 404 Message: Not Found URL: https://github.com/snlab-ch/migraph (moved to https://github.com/stocnet/migraph) From: README.md Status: 301 Message: Moved Permanently URL: https://www.gnu.org/licenses/gpl-3.0 From: README.md Status: Error Message: Timeout was reached [www.gnu.org]: Connection timed out after 60002 milliseconds URL: https://www.springer.com/gp/book/9783319245188 (moved to https://link.springer.com/book/10.1007/978-3-319-24520-1) From: inst/doc/multilayer.html README.md Status: 301 Message: Moved Permanently URL: https://www.tidyverse.org/lifecycle/#experimental (moved to https://tidyverse.org/lifecycle/#experimental) From: README.md Status: 301 Message: Moved Permanently For content that is 'Moved Permanently', please change http to https, add trailing slashes, or replace the old by the new URL. The Date field is over a month old. Found the following URLs which should use \doi (with the DOI name only): File ‘co_occurrence.Rd’: https://doi.org/10.1002/asi.23603 File ‘eb_constraint.Rd’: https://doi.org/10.1016/j.socnet.2020.02.001 File ‘fractional_approach.Rd’: https://doi.org/10.1016/j.socnet.2021.08.001 https://doi.org/10.1007/s11192-012-0940-1 File ‘heterogeneity.Rd’: https://doi.org/10.2307/270810 File ‘k_core.Rd’: https://doi.org/10.1007/s11634-010-0079-y https://doi.org/10.1103/PhysRevE.88.062819 File ‘matrix_projection.Rd’: https://doi.org/10.2307/2576011 File ‘posneg_index.Rd’: http://dx.doi.org/10.1016/j.socnet.2014.03.005 File ‘triad_uman.Rd’: https://doi.org/10.2307/270703 * checking package namespace information ... OK * checking package dependencies ... OK * checking if this is a source package ... OK * checking if there is a namespace ... OK * checking for executable files ... OK * checking for hidden files and directories ... OK * checking for portable file names ... OK * checking for sufficient/correct file permissions ... OK * checking whether package ‘netmem’ can be installed ... [8s/8s] OK * checking package directory ... OK * checking for future file timestamps ... OK * checking ‘build’ directory ... OK * checking DESCRIPTION meta-information ... OK * checking top-level files ... OK * checking for left-over files ... OK * checking index information ... OK * checking package subdirectories ... OK * checking code files for non-ASCII characters ... OK * checking R files for syntax errors ... OK * checking whether the package can be loaded ... [1s/1s] OK * checking whether the package can be loaded with stated dependencies ... [1s/1s] OK * checking whether the package can be unloaded cleanly ... [1s/1s] OK * checking whether the namespace can be loaded with stated dependencies ... [1s/1s] OK * checking whether the namespace can be unloaded cleanly ... [1s/1s] OK * checking loading without being on the library search path ... [1s/1s] OK * checking use of S3 registration ... OK * checking dependencies in R code ... OK * checking S3 generic/method consistency ... OK * checking replacement functions ... OK * checking foreign function calls ... OK * checking R code for possible problems ... [15s/15s] OK * checking Rd files ... [0s/0s] OK * checking Rd metadata ... OK * checking Rd line widths ... OK * checking Rd cross-references ... OK * checking for missing documentation entries ... OK * checking for code/documentation mismatches ... OK * checking Rd \usage sections ... OK * checking Rd contents ... OK * checking for unstated dependencies in examples ... OK * checking contents of ‘data’ directory ... OK * checking data for non-ASCII characters ... [0s/0s] OK * checking LazyData ... OK * checking data for ASCII and uncompressed saves ... OK * checking installed files from ‘inst/doc’ ... OK * checking files in ‘vignettes’ ... OK * checking examples ... [13s/13s] NOTE Examples with CPU (user + system) or elapsed time > 5s user system elapsed distances 5.963 0.063 6.03 * checking for unstated dependencies in ‘tests’ ... OK * checking tests ... [1s/1s] OK Running ‘testthat.R’ [1s/1s] * checking for unstated dependencies in vignettes ... OK * checking package vignettes ... OK * checking re-building of vignette outputs ... [3s/3s] OK * checking PDF version of manual ... [4s/4s] OK * checking HTML version of manual ... [1s/1s] OK * checking for non-standard things in the check directory ... OK * checking for detritus in the temp directory ... OK * DONE Status: 2 NOTEs