* using log directory 'd:/RCompile/CRANincoming/R-devel/naryn.Rcheck' * using R Under development (unstable) (2025-11-10 r88994 ucrt) * using platform: x86_64-w64-mingw32 * R was compiled by gcc.exe (GCC) 14.3.0 GNU Fortran (GCC) 14.3.0 * running under: Windows Server 2022 x64 (build 20348) * using session charset: UTF-8 * checking for file 'naryn/DESCRIPTION' ... OK * checking extension type ... Package * this is package 'naryn' version '2.6.31' * package encoding: UTF-8 * will not attempt to install this package on Windows * checking CRAN incoming feasibility ... OK * checking if this is a source package ... OK * checking if there is a namespace ... OK * checking for hidden files and directories ... OK * checking for portable file names ... OK * checking serialization versions ... OK