* using log directory 'd:/RCompile/CRANincoming/R-devel/mlt.Rcheck' * using R Under development (unstable) (2025-10-16 r88927 ucrt) * using platform: x86_64-w64-mingw32 * R was compiled by gcc.exe (GCC) 14.2.0 GNU Fortran (GCC) 14.2.0 * running under: Windows Server 2022 x64 (build 20348) * using session charset: UTF-8 * checking for file 'mlt/DESCRIPTION' ... OK * this is package 'mlt' version '1.7-0' * package encoding: UTF-8 * checking CRAN incoming feasibility ... [12s] OK * checking package namespace information ... OK * checking package dependencies ... OK * checking if this is a source package ... OK * checking if there is a namespace ... OK * checking for hidden files and directories ... OK * checking for portable file names ... OK * checking serialization versions ... OK * checking whether package 'mlt' can be installed ... OK * used C compiler: 'gcc.exe (GCC) 14.2.0' * checking installed package size ... OK * checking package directory ... OK * checking for future file timestamps ... OK * checking DESCRIPTION meta-information ... OK * checking top-level files ... OK * checking for left-over files ... OK * checking index information ... OK * checking package subdirectories ... OK * checking code files for non-ASCII characters ... OK * checking R files for syntax errors ... OK * checking whether the package can be loaded ... OK * checking whether the package can be loaded with stated dependencies ... OK * checking whether the package can be unloaded cleanly ... OK * checking whether the namespace can be loaded with stated dependencies ... OK * checking whether the namespace can be unloaded cleanly ... OK * checking loading without being on the library search path ... OK * checking use of S3 registration ... OK * checking dependencies in R code ... OK * checking S3 generic/method consistency ... OK * checking replacement functions ... OK * checking foreign function calls ... OK * checking R code for possible problems ... [25s] OK * checking Rd files ... OK * checking Rd metadata ... OK * checking Rd line widths ... OK * checking Rd cross-references ... OK * checking for missing documentation entries ... OK * checking for code/documentation mismatches ... OK * checking Rd \usage sections ... OK * checking Rd contents ... OK * checking for unstated dependencies in examples ... OK * checking line endings in shell scripts ... OK * checking line endings in C/C++/Fortran sources/headers ... OK * checking pragmas in C/C++ headers and code ... OK * checking compilation flags used ... OK * checking compiled code ... OK * checking examples ... OK * checking for unstated dependencies in 'tests' ... OK * checking tests ... [75s] NOTE Running '2sample.R' Comparing '2sample.Rout' to '2sample.Rout.save' ... OK Running 'Cox-Ex.R' Comparing 'Cox-Ex.Rout' to 'Cox-Ex.Rout.save' ...103c103 < -0.0112 0.3140 0.6048 1.0520 1.0520 1.7431 0.6360 0.9602 --- > -0.0113 0.3139 0.6051 1.0520 1.0520 1.7435 0.6359 0.9600 105c105 < 1.5148 1.6269 1.6269 3.1124 0.9658 1.3057 1.8348 1.8348 --- > 1.5168 1.6224 1.6322 3.1084 0.9658 1.3057 1.8353 1.8353 107c107 < 1.8348 50.6303 --- > 1.8353 50.6268 Running 'bugfixes.R' Comparing 'bugfixes.Rout' to 'bugfixes.Rout.save' ... OK Running 'distr-Ex.R' Running 'dpq-Ex.R' Comparing 'dpq-Ex.Rout' to 'dpq-Ex.Rout.save' ... OK Running 'glm-Ex.R' Comparing 'glm-Ex.Rout' to 'glm-Ex.Rout.save' ... OK Running 'lm-Ex.R' Comparing 'lm-Ex.Rout' to 'lm-Ex.Rout.save' ... OK Running 'missing-responses.R' Running 'mmlt_ll_sc.R' [32s] Running 'polr-Ex.R' Comparing 'polr-Ex.Rout' to 'polr-Ex.Rout.save' ... OK Running 'predict-Ex.R' Comparing 'predict-Ex.Rout' to 'predict-Ex.Rout.save' ... OK Running 'subset.R' Comparing 'subset.Rout' to 'subset.Rout.save' ... OK Running 'surv-Ex.R' Comparing 'surv-Ex.Rout' to 'surv-Ex.Rout.save' ... OK * checking PDF version of manual ... [19s] OK * checking HTML version of manual ... OK * DONE Status: 1 NOTE