* using log directory 'd:/RCompile/CRANincoming/R-devel/migest.Rcheck' * using R Under development (unstable) (2025-07-02 r88374 ucrt) * using platform: x86_64-w64-mingw32 * R was compiled by gcc.exe (GCC) 14.2.0 GNU Fortran (GCC) 14.2.0 * running under: Windows Server 2022 x64 (build 20348) * using session charset: UTF-8 * checking for file 'migest/DESCRIPTION' ... OK * checking extension type ... Package * this is package 'migest' version '2.0.5' * package encoding: UTF-8 * checking CRAN incoming feasibility ... [15s] NOTE Maintainer: 'Guy J. Abel ' Found the following (possibly) invalid URLs: URL: https://www.un.org/development/desa/pd/sites/www.un.org.development.desa.pd/files/files/documents/2020/Jan/manual_vi_methods_of_measuring_internal_migration.pdf From: man/bombay_1951.Rd man/index_impact.Rd man/new_england_1960.Rd man/uar_1960.Rd Status: 403 Message: Forbidden The Title field should be in title case. Current version is: 'Tools for estimating, measuring and working with migration data' In title case that is: 'Tools for Estimating, Measuring and Working with Migration Data' * checking package namespace information ... OK * checking package dependencies ... OK * checking if this is a source package ... OK * checking if there is a namespace ... OK * checking for hidden files and directories ... OK * checking for portable file names ... OK * checking serialization versions ... OK * checking whether package 'migest' can be installed ... OK * checking installed package size ... OK * checking package directory ... OK * checking for future file timestamps ... OK * checking DESCRIPTION meta-information ... NOTE Missing dependency on R >= 4.1.0 because package code uses the pipe |> or function shorthand \(...) syntax added in R 4.1.0. File(s) using such syntax: 'net_matrix_entropy.Rd' 'net_matrix_ipf.Rd' 'net_matrix_lp.Rd' 'net_matrix_optim.Rd' * checking top-level files ... OK * checking for left-over files ... OK * checking index information ... OK * checking package subdirectories ... OK * checking code files for non-ASCII characters ... OK * checking R files for syntax errors ... OK * checking whether the package can be loaded ... OK * checking whether the package can be loaded with stated dependencies ... OK * checking whether the package can be unloaded cleanly ... OK * checking whether the namespace can be loaded with stated dependencies ... OK * checking whether the namespace can be unloaded cleanly ... OK * checking loading without being on the library search path ... OK * checking use of S3 registration ... OK * checking dependencies in R code ... OK * checking S3 generic/method consistency ... OK * checking replacement functions ... OK * checking foreign function calls ... OK * checking R code for possible problems ... [22s] OK * checking Rd files ... OK * checking Rd metadata ... OK * checking Rd line widths ... OK * checking Rd cross-references ... OK * checking for missing documentation entries ... OK * checking for code/documentation mismatches ... OK * checking Rd \usage sections ... OK * checking Rd contents ... OK * checking for unstated dependencies in examples ... OK * checking contents of 'data' directory ... OK * checking data for non-ASCII characters ... OK * checking LazyData ... OK * checking data for ASCII and uncompressed saves ... OK * checking examples ... [28s] OK * checking PDF version of manual ... [29s] OK * checking HTML version of manual ... [11s] OK * DONE Status: 2 NOTEs