* using log directory 'd:/RCompile/CRANincoming/R-devel/metabodecon.Rcheck' * using R Under development (unstable) (2025-01-14 r87574 ucrt) * using platform: x86_64-w64-mingw32 * R was compiled by gcc.exe (GCC) 13.3.0 GNU Fortran (GCC) 13.3.0 * running under: Windows Server 2022 x64 (build 20348) * using session charset: UTF-8 * checking for file 'metabodecon/DESCRIPTION' ... OK * this is package 'metabodecon' version '1.2.3' * package encoding: UTF-8 * checking CRAN incoming feasibility ... NOTE Maintainer: 'Tobias Schmidt ' New submission Possibly misspelled words in DESCRIPTION: Beirnaert (26:44) Deconvolution (2:8) Haeckl (30:5) Koh (24:56) NMR (2:42, 23:5) Vu (27:44) al (24:63, 26:57, 27:50, 30:15) deconvolution (22:30, 24:5) et (24:60, 26:54, 27:47, 30:12) postprocessing (22:59) * checking package namespace information ... OK * checking package dependencies ... OK * checking if this is a source package ... OK * checking if there is a namespace ... OK * checking for hidden files and directories ... OK * checking for portable file names ... OK * checking whether package 'metabodecon' can be installed ... OK * checking installed package size ... OK * checking package directory ... OK * checking for future file timestamps ... OK * checking DESCRIPTION meta-information ... OK * checking top-level files ... OK * checking for left-over files ... OK * checking index information ... OK * checking package subdirectories ... OK * checking code files for non-ASCII characters ... OK * checking R files for syntax errors ... OK * checking whether the package can be loaded ... OK * checking whether the package can be loaded with stated dependencies ... OK * checking whether the package can be unloaded cleanly ... OK * checking whether the namespace can be loaded with stated dependencies ... OK * checking whether the namespace can be unloaded cleanly ... OK * checking loading without being on the library search path ... OK * checking use of S3 registration ... OK * checking dependencies in R code ... OK * checking S3 generic/method consistency ... OK * checking replacement functions ... OK * checking foreign function calls ... OK * checking R code for possible problems ... [18s] OK * checking Rd files ... OK * checking Rd metadata ... OK * checking Rd line widths ... OK * checking Rd cross-references ... OK * checking for missing documentation entries ... OK * checking for code/documentation mismatches ... OK * checking Rd \usage sections ... OK * checking Rd contents ... OK * checking for unstated dependencies in examples ... OK * checking contents of 'data' directory ... OK * checking data for non-ASCII characters ... OK * checking LazyData ... OK * checking data for ASCII and uncompressed saves ... OK * checking examples ... [10s] OK * checking for unstated dependencies in 'tests' ... OK * checking tests ... OK Running 'testthat.R' * checking PDF version of manual ... [17s] OK * checking HTML version of manual ... OK * DONE Status: 1 NOTE