* using log directory ‘/srv/hornik/tmp/CRAN_pretest/litteR.Rcheck’ * using R Under development (unstable) (2025-09-27 r88882) * using platform: x86_64-pc-linux-gnu * R was compiled by Debian clang version 19.1.7 (3+b1) Debian flang-new version 19.1.7 (3+b1) * running under: Debian GNU/Linux forky/sid * using session charset: UTF-8 * checking for file ‘litteR/DESCRIPTION’ ... OK * this is package ‘litteR’ version ‘1.0.2’ * package encoding: UTF-8 * checking CRAN incoming feasibility ... [5s/6s] NOTE Maintainer: ‘Dennis Walvoort ’ Found the following (possibly) invalid URLs: URL: https://en.wikipedia.org/wiki/Real_number From: inst/doc/litteR-manual.html Status: 429 Message: Too Many Requests URL: https://en.wikipedia.org/wiki/Skewness From: inst/doc/litteR-manual.html Status: 429 Message: Too Many Requests URL: https://en.wikipedia.org/wiki/Statistical_significance From: inst/doc/litteR-manual.html Status: 429 Message: Too Many Requests URL: https://en.wikipedia.org/wiki/Theil%E2%80%93Sen_estimator From: inst/doc/litteR-manual.html Status: 429 Message: Too Many Requests URL: https://en.wikipedia.org/wiki/Theil-Sen_estimator From: man/theil_sen.Rd Status: 429 Message: Too Many Requests URL: https://en.wikipedia.org/wiki/Timestamp From: inst/doc/litteR-manual.html Status: 429 Message: Too Many Requests URL: https://en.wikipedia.org/wiki/Trimean From: man/trimean.Rd Status: 429 Message: Too Many Requests URL: https://en.wikipedia.org/wiki/Wide_and_narrow_data From: inst/doc/litteR-manual.html Status: 429 Message: Too Many Requests * checking package namespace information ... OK * checking package dependencies ... OK * checking if this is a source package ... OK * checking if there is a namespace ... OK * checking for executable files ... OK * checking for hidden files and directories ... OK * checking for portable file names ... OK * checking for sufficient/correct file permissions ... OK * checking whether package ‘litteR’ can be installed ... [5s/5s] OK * checking package directory ... OK * checking for future file timestamps ... OK * checking ‘build’ directory ... OK * checking DESCRIPTION meta-information ... OK * checking top-level files ... OK * checking for left-over files ... OK * checking index information ... OK * checking package subdirectories ... OK * checking code files for non-ASCII characters ... OK * checking R files for syntax errors ... OK * checking whether the package can be loaded ... [1s/1s] OK * checking whether the package can be loaded with stated dependencies ... [1s/1s] OK * checking whether the package can be unloaded cleanly ... [1s/1s] OK * checking whether the namespace can be loaded with stated dependencies ... [1s/1s] OK * checking whether the namespace can be unloaded cleanly ... [1s/1s] OK * checking loading without being on the library search path ... [1s/1s] OK * checking whether startup messages can be suppressed ... [1s/1s] OK * checking use of S3 registration ... OK * checking dependencies in R code ... OK * checking S3 generic/method consistency ... OK * checking replacement functions ... OK * checking foreign function calls ... OK * checking R code for possible problems ... [7s/7s] OK * checking Rd files ... [0s/0s] OK * checking Rd metadata ... OK * checking Rd line widths ... OK * checking Rd cross-references ... OK * checking for missing documentation entries ... OK * checking for code/documentation mismatches ... OK * checking Rd \usage sections ... OK * checking Rd contents ... OK * checking for unstated dependencies in examples ... OK * checking installed files from ‘inst/doc’ ... OK * checking files in ‘vignettes’ ... OK * checking examples ... [2s/2s] OK * checking for unstated dependencies in ‘tests’ ... OK * checking tests ... [2s/2s] OK Running ‘testthat.R’ [2s/2s] * checking for unstated dependencies in vignettes ... OK * checking package vignettes ... OK * checking re-building of vignette outputs ... [3s/3s] OK * checking PDF version of manual ... [5s/4s] OK * checking HTML version of manual ... [1s/1s] OK * checking for non-standard things in the check directory ... OK * checking for detritus in the temp directory ... OK * DONE Status: 1 NOTE