* using log directory ‘/srv/hornik/tmp/CRAN_pretest/lidaRtRee.Rcheck’ * using R Under development (unstable) (2025-01-21 r87610) * using platform: x86_64-pc-linux-gnu * R was compiled by Debian clang version 19.1.6 (1+b1) Debian flang-new version 19.1.6 (1+b1) * running under: Debian GNU/Linux trixie/sid * using session charset: UTF-8 * checking for file ‘lidaRtRee/DESCRIPTION’ ... OK * checking extension type ... Package * this is package ‘lidaRtRee’ version ‘4.0.7’ * package encoding: UTF-8 * checking CRAN incoming feasibility ... [5s/25s] NOTE Maintainer: ‘Jean-Matthieu Monnet ’ Possibly misspelled words in DESCRIPTION: Aussenac (15:13) * checking package namespace information ... OK * checking package dependencies ... OK * checking if this is a source package ... OK * checking if there is a namespace ... OK * checking for executable files ... OK * checking for hidden files and directories ... OK * checking for portable file names ... OK * checking for sufficient/correct file permissions ... OK * checking whether package ‘lidaRtRee’ can be installed ... [2s/2s] OK * checking package directory ... OK * checking for future file timestamps ... OK * checking DESCRIPTION meta-information ... OK * checking top-level files ... OK * checking for left-over files ... OK * checking index information ... OK * checking package subdirectories ... OK * checking code files for non-ASCII characters ... OK * checking R files for syntax errors ... OK * checking whether the package can be loaded ... [0s/0s] OK * checking whether the package can be loaded with stated dependencies ... [0s/0s] OK * checking whether the package can be unloaded cleanly ... [0s/0s] OK * checking whether the namespace can be loaded with stated dependencies ... [0s/0s] OK * checking whether the namespace can be unloaded cleanly ... [0s/0s] OK * checking loading without being on the library search path ... [0s/0s] OK * checking use of S3 registration ... OK * checking dependencies in R code ... OK * checking S3 generic/method consistency ... OK * checking replacement functions ... OK * checking foreign function calls ... OK * checking R code for possible problems ... [4s/4s] OK * checking Rd files ... [0s/0s] OK * checking Rd metadata ... OK * checking Rd line widths ... OK * checking Rd cross-references ... OK * checking for missing documentation entries ... OK * checking for code/documentation mismatches ... OK * checking Rd \usage sections ... OK * checking Rd contents ... OK * checking for unstated dependencies in examples ... OK * checking contents of ‘data’ directory ... OK * checking data for non-ASCII characters ... [3s/3s] OK * checking LazyData ... OK * checking data for ASCII and uncompressed saves ... OK * checking examples ... [52s/30s] NOTE Examples with CPU time > 2.5 times elapsed time user system elapsed ratio points2DSM 2.680 0.049 0.220 12.405 terrain_points_metrics 1.928 0.059 0.165 12.042 points2DTM 2.438 0.056 0.213 11.709 clouds_metrics 1.246 0.071 0.167 7.886 clouds_tree_metrics 4.867 0.076 1.082 4.568 aba_plot 1.296 0.040 0.311 4.296 * checking PDF version of manual ... [3s/3s] OK * checking HTML version of manual ... [1s/1s] OK * checking for non-standard things in the check directory ... OK * checking for detritus in the temp directory ... OK * DONE Status: 2 NOTEs