* using log directory 'd:/RCompile/CRANincoming/R-devel/imola.Rcheck' * using R Under development (unstable) (2025-09-27 r88882 ucrt) * using platform: x86_64-w64-mingw32 * R was compiled by gcc.exe (GCC) 14.2.0 GNU Fortran (GCC) 14.2.0 * running under: Windows Server 2022 x64 (build 20348) * using session charset: UTF-8 * checking for file 'imola/DESCRIPTION' ... OK * checking extension type ... Package * this is package 'imola' version '0.5.1' * package encoding: UTF-8 * checking CRAN incoming feasibility ... [15s] NOTE Maintainer: 'Pedro Silva ' Found the following (possibly) invalid URLs: URL: http://uaborder.com/ From: inst/doc/imola-demos.html Status: 202 Message: Accepted URL: http://www.barrypearson.co.uk/articles/layout_tables/history.htm From: inst/doc/imola-why-flex-and-grid.html Status: Error Message: Could not resolve hostname [www.barrypearson.co.uk]: Could not resolve host: www.barrypearson.co.uk URL: https://joom.team/en/a-brief-history-of-html-css-layouting (moved to https://www.hvdig.co.uk/web-accessibility-agency/a-brief-history-of-html-css-layouting) From: inst/doc/imola-why-flex-and-grid.html Status: 301 Message: Moved Permanently URL: https://learningwebdesign.com/articles/LWD5_FloatLayout.pdf From: inst/doc/imola-why-flex-and-grid.html Status: 404 Message: Not Found For content that is 'Moved Permanently', please change http to https, add trailing slashes, or replace the old by the new URL. * checking package namespace information ... OK * checking package dependencies ... OK * checking if this is a source package ... OK * checking if there is a namespace ... OK * checking for hidden files and directories ... OK * checking for portable file names ... OK * checking serialization versions ... OK * checking whether package 'imola' can be installed ... OK * checking installed package size ... OK * checking package directory ... OK * checking for future file timestamps ... OK * checking 'build' directory ... OK * checking DESCRIPTION meta-information ... OK * checking top-level files ... OK * checking for left-over files ... OK * checking index information ... OK * checking package subdirectories ... OK * checking code files for non-ASCII characters ... OK * checking R files for syntax errors ... OK * checking whether the package can be loaded ... OK * checking whether the package can be loaded with stated dependencies ... OK * checking whether the package can be unloaded cleanly ... OK * checking whether the namespace can be loaded with stated dependencies ... OK * checking whether the namespace can be unloaded cleanly ... OK * checking loading without being on the library search path ... OK * checking whether startup messages can be suppressed ... OK * checking use of S3 registration ... OK * checking dependencies in R code ... OK * checking S3 generic/method consistency ... OK * checking replacement functions ... OK * checking foreign function calls ... OK * checking R code for possible problems ... OK * checking Rd files ... OK * checking Rd metadata ... OK * checking Rd line widths ... OK * checking Rd cross-references ... OK * checking for missing documentation entries ... OK * checking for code/documentation mismatches ... OK * checking Rd \usage sections ... OK * checking Rd contents ... OK * checking for unstated dependencies in examples ... OK * checking installed files from 'inst/doc' ... OK * checking files in 'vignettes' ... OK * checking examples ... NONE * checking for unstated dependencies in vignettes ... OK * checking package vignettes ... OK * checking re-building of vignette outputs ... OK * checking PDF version of manual ... [21s] OK * checking HTML version of manual ... OK * DONE Status: 1 NOTE