* using log directory ‘/srv/hornik/tmp/CRAN_pretest/imola.Rcheck’ * using R Under development (unstable) (2025-09-27 r88882) * using platform: x86_64-pc-linux-gnu * R was compiled by Debian clang version 19.1.7 (3+b1) Debian flang-new version 19.1.7 (3+b1) * running under: Debian GNU/Linux forky/sid * using session charset: UTF-8 * checking for file ‘imola/DESCRIPTION’ ... OK * checking extension type ... Package * this is package ‘imola’ version ‘0.5.1’ * package encoding: UTF-8 * checking CRAN incoming feasibility ... [4s/8s] NOTE Maintainer: ‘Pedro Silva ’ Found the following (possibly) invalid URLs: URL: http://uaborder.com/ From: inst/doc/imola-demos.html Status: 202 Message: Accepted URL: http://www.barrypearson.co.uk/articles/layout_tables/history.htm From: inst/doc/imola-why-flex-and-grid.html Status: Error Message: Could not resolve hostname [www.barrypearson.co.uk]: Could not resolve host: www.barrypearson.co.uk URL: https://joom.team/en/a-brief-history-of-html-css-layouting (moved to https://www.hvdig.co.uk/web-accessibility-agency/a-brief-history-of-html-css-layouting) From: inst/doc/imola-why-flex-and-grid.html Status: 301 Message: Moved Permanently URL: https://learningwebdesign.com/articles/LWD5_FloatLayout.pdf From: inst/doc/imola-why-flex-and-grid.html Status: 404 Message: Not Found For content that is 'Moved Permanently', please change http to https, add trailing slashes, or replace the old by the new URL. * checking package namespace information ... OK * checking package dependencies ... OK * checking if this is a source package ... OK * checking if there is a namespace ... OK * checking for executable files ... OK * checking for hidden files and directories ... OK * checking for portable file names ... OK * checking for sufficient/correct file permissions ... OK * checking serialization versions ... OK * checking whether package ‘imola’ can be installed ... [2s/2s] OK * checking package directory ... OK * checking for future file timestamps ... OK * checking ‘build’ directory ... OK * checking DESCRIPTION meta-information ... OK * checking top-level files ... OK * checking for left-over files ... OK * checking index information ... OK * checking package subdirectories ... OK * checking code files for non-ASCII characters ... OK * checking R files for syntax errors ... OK * checking whether the package can be loaded ... [0s/0s] OK * checking whether the package can be loaded with stated dependencies ... [0s/0s] OK * checking whether the package can be unloaded cleanly ... [0s/0s] OK * checking whether the namespace can be loaded with stated dependencies ... [0s/0s] OK * checking whether the namespace can be unloaded cleanly ... [0s/0s] OK * checking loading without being on the library search path ... [0s/0s] OK * checking whether startup messages can be suppressed ... [0s/0s] OK * checking use of S3 registration ... OK * checking dependencies in R code ... OK * checking S3 generic/method consistency ... OK * checking replacement functions ... OK * checking foreign function calls ... OK * checking R code for possible problems ... [3s/3s] OK * checking Rd files ... [0s/0s] OK * checking Rd metadata ... OK * checking Rd line widths ... OK * checking Rd cross-references ... OK * checking for missing documentation entries ... OK * checking for code/documentation mismatches ... OK * checking Rd \usage sections ... OK * checking Rd contents ... OK * checking for unstated dependencies in examples ... OK * checking installed files from ‘inst/doc’ ... OK * checking files in ‘vignettes’ ... OK * checking examples ... NONE * checking for unstated dependencies in vignettes ... OK * checking package vignettes ... OK * checking re-building of vignette outputs ... [6s/6s] OK * checking PDF version of manual ... [4s/3s] OK * checking HTML version of manual ... [1s/1s] OK * checking for non-standard things in the check directory ... OK * checking for detritus in the temp directory ... OK * DONE Status: 1 NOTE