* using log directory 'd:/RCompile/CRANincoming/R-devel/hyper2.Rcheck' * using R Under development (unstable) (2025-11-11 r89006 ucrt) * using platform: x86_64-w64-mingw32 * R was compiled by gcc.exe (GCC) 14.3.0 GNU Fortran (GCC) 14.3.0 * running under: Windows Server 2022 x64 (build 20348) * using session charset: UTF-8 * checking for file 'hyper2/DESCRIPTION' ... OK * checking extension type ... Package * this is package 'hyper2' version '3.2' * checking CRAN incoming feasibility ... [12s] NOTE Maintainer: 'Robin K. S. Hankin ' Found the following (possibly) invalid URLs: URL: https://en.wikipedia.org/w/index.php?title=2014%E2%80%932015_Volvo_Ocean_Race&oldid=914916131 From: man/volvo.Rd Status: 429 Message: Too Many Requests URL: https://en.wikipedia.org/w/index.php?title=2017_Formula_One_World_Championship&oldid=839923210 From: man/formula1.Rd Status: 429 Message: Too Many Requests URL: https://en.wikipedia.org/w/index.php?title=2018_F1_Powerboat_World_Championship&oldid=920386507 From: man/powerboat.Rd Status: 429 Message: Too Many Requests URL: https://en.wikipedia.org/w/index.php?title=2019_MotoGP_season&oldid=939711064 From: man/moto.Rd Status: 429 Message: Too Many Requests URL: https://en.wikipedia.org/w/index.php?title=2021_Formula_One_World_Championship&oldid=1082745216 From: man/constructor.Rd Status: 429 Message: Too Many Requests URL: https://en.wikipedia.org/w/index.php?title=Curling_at_the_Winter_Olympics&oldid=998891075 From: man/curling.Rd Status: 429 Message: Too Many Requests URL: https://en.wikipedia.org/w/index.php?title=Eurovision_Song_Contest_2009&oldid=838723921 From: man/eurodance.Rd man/eurovision.Rd Status: 429 Message: Too Many Requests URL: https://en.wikipedia.org/w/index.php?title=MasterChef_Australia_(series_6)&oldid=758432561 From: man/masterchef.Rd Status: 429 Message: Too Many Requests URL: https://en.wikipedia.org/w/index.php?title=Modern_pentathlon_at_the_2004_Summer_Olympics_%E2%80%93_Men%27s&oldid=833081611 From: man/pentathlon.Rd Status: 429 Message: Too Many Requests URL: https://en.wikipedia.org/w/index.php?title=Rowing_at_the_2016_Summer_Olympics_%E2%80%93_Men%27s_single_sculls&oldid=753517240 From: man/rowing.Rd Status: 429 Message: Too Many Requests URL: https://en.wikipedia.org/w/index.php?title=Sailing_at_the_2000_Summer_Olympics_%E2%80%93_Soling&oldid=945362535 From: man/soling.Rd Status: 429 Message: Too Many Requests URL: https://en.wikipedia.org/wiki/2018_World_Karate_Championships From: man/karate.Rd Status: 429 Message: Too Many Requests URL: https://en.wikipedia.org/wiki/2019_Moto3_season From: man/ordertable2supp.Rd Status: 429 Message: Too Many Requests URL: https://en.wikipedia.org/wiki/Cloud9 From: man/counterstrike.Rd Status: 429 Message: Too Many Requests URL: https://en.wikipedia.org/wiki/FaZe_Clan From: man/counterstrike.Rd Status: 429 Message: Too Many Requests URL: https://en.wikipedia.org/wiki/Figure_skating_at_the_2002_Winter_Olympics#Full_results_2 From: man/skating.Rd Status: 429 Message: Too Many Requests * checking package namespace information ... OK * checking package dependencies ... OK * checking if this is a source package ... OK * checking if there is a namespace ... OK * checking for hidden files and directories ... OK * checking for portable file names ... OK * checking whether package 'hyper2' can be installed ... OK * used C compiler: 'gcc.exe (GCC) 14.3.0' * used C++ compiler: 'g++.exe (GCC) 14.3.0' * checking installed package size ... OK * checking package directory ... OK * checking for future file timestamps ... OK * checking 'build' directory ... OK * checking DESCRIPTION meta-information ... OK * checking top-level files ... OK * checking for left-over files ... OK * checking index information ... OK * checking package subdirectories ... OK * checking code files for non-ASCII characters ... OK * checking R files for syntax errors ... OK * checking whether the package can be loaded ... OK * checking whether the package can be loaded with stated dependencies ... OK * checking whether the package can be unloaded cleanly ... OK * checking whether the namespace can be loaded with stated dependencies ... OK * checking whether the namespace can be unloaded cleanly ... OK * checking loading without being on the library search path ... OK * checking use of S3 registration ... OK * checking dependencies in R code ... OK * checking S3 generic/method consistency ... OK * checking replacement functions ... OK * checking foreign function calls ... OK * checking R code for possible problems ... [12s] OK * checking Rd files ... OK * checking Rd metadata ... OK * checking Rd line widths ... OK * checking Rd cross-references ... OK * checking for missing documentation entries ... OK * checking for code/documentation mismatches ... OK * checking Rd \usage sections ... OK * checking Rd contents ... OK * checking for unstated dependencies in examples ... OK * checking contents of 'data' directory ... OK * checking data for non-ASCII characters ... OK * checking LazyData ... OK * checking data for ASCII and uncompressed saves ... OK * checking line endings in C/C++/Fortran sources/headers ... OK * checking pragmas in C/C++ headers and code ... OK * checking compilation flags used ... OK * checking compiled code ... OK * checking sizes of PDF files under 'inst/doc' ... OK * checking installed files from 'inst/doc' ... OK * checking files in 'vignettes' ... OK * checking examples ... [46s] OK * checking for unstated dependencies in 'tests' ... OK * checking tests ... [19s] OK Running 'testthat.R' [19s] * checking for unstated dependencies in vignettes ... OK * checking package vignettes ... OK * checking re-building of vignette outputs ... [92s] OK * checking PDF version of manual ... [18s] OK * checking HTML version of manual ... [13s] OK * DONE Status: 1 NOTE