* using log directory 'd:/RCompile/CRANincoming/R-devel/hcci.Rcheck' * using R Under development (unstable) (2025-01-15 r87581 ucrt) * using platform: x86_64-w64-mingw32 * R was compiled by gcc.exe (GCC) 13.3.0 GNU Fortran (GCC) 13.3.0 * running under: Windows Server 2022 x64 (build 20348) * using session charset: UTF-8 * checking for file 'hcci/DESCRIPTION' ... OK * checking extension type ... Package * this is package 'hcci' version '1.2.0' * checking CRAN incoming feasibility ... [11s] NOTE Maintainer: 'Pedro Rafael Diniz Marinho ' The Description field contains https://raw.githubusercontent.com/prdm0/hcci/master/references/dissertacao_mestrado.pdf. https://doi.org/10.1080/00949650801935327, while the double bootstrap (1987) https://doi.org/10.2307/2336685. The use of bootstrap for the was proposed by Wu (1986) https://dx.doi.org/10.1214/aos/1176350142. Please enclose URLs in angle brackets (<...>). The Description field contains https://doi.org/10.1080/00949650801935327, while the double bootstrap (1987) https://doi.org/10.2307/2336685. The use of bootstrap for the was proposed by Wu (1986) https://dx.doi.org/10.1214/aos/1176350142. Please write DOIs as . * checking package namespace information ... OK * checking package dependencies ... OK * checking if this is a source package ... OK * checking if there is a namespace ... OK * checking for hidden files and directories ... OK * checking for portable file names ... OK * checking serialization versions ... OK * checking whether package 'hcci' can be installed ... OK * checking installed package size ... OK * checking package directory ... OK * checking for future file timestamps ... OK * checking DESCRIPTION meta-information ... OK * checking top-level files ... OK * checking for left-over files ... OK * checking index information ... OK * checking package subdirectories ... OK * checking code files for non-ASCII characters ... OK * checking R files for syntax errors ... OK * checking whether the package can be loaded ... OK * checking whether the package can be loaded with stated dependencies ... OK * checking whether the package can be unloaded cleanly ... OK * checking whether the namespace can be loaded with stated dependencies ... OK * checking whether the namespace can be unloaded cleanly ... OK * checking loading without being on the library search path ... OK * checking use of S3 registration ... OK * checking dependencies in R code ... OK * checking S3 generic/method consistency ... OK * checking replacement functions ... OK * checking foreign function calls ... OK * checking R code for possible problems ... OK * checking Rd files ... OK * checking Rd metadata ... OK * checking Rd line widths ... OK * checking Rd cross-references ... OK * checking for missing documentation entries ... OK * checking for code/documentation mismatches ... OK * checking Rd \usage sections ... OK * checking Rd contents ... OK * checking for unstated dependencies in examples ... OK * checking contents of 'data' directory ... OK * checking data for non-ASCII characters ... OK * checking data for ASCII and uncompressed saves ... OK * checking examples ... OK * checking PDF version of manual ... [22s] OK * checking HTML version of manual ... OK * DONE Status: 1 NOTE