* using log directory 'd:/RCompile/CRANincoming/R-devel/ggvenn.Rcheck' * using R Under development (unstable) (2025-10-03 r88899 ucrt) * using platform: x86_64-w64-mingw32 * R was compiled by gcc.exe (GCC) 14.2.0 GNU Fortran (GCC) 14.2.0 * running under: Windows Server 2022 x64 (build 20348) * using session charset: UTF-8 * checking for file 'ggvenn/DESCRIPTION' ... OK * this is package 'ggvenn' version '0.1.17' * package encoding: UTF-8 * checking CRAN incoming feasibility ... [52s] NOTE Maintainer: 'Linlin Yan ' Package has a VignetteBuilder field but no prebuilt vignette index. Found the following (possibly) invalid URLs: URL: http://bioinfogp.cnb.csic.es/tools/venny/index.html From: README.md Status: Error Message: Timeout was reached [bioinfogp.cnb.csic.es]: Failed to connect to bioinfogp.cnb.csic.es port 80 after 21040 ms: Could not connect to server * checking package namespace information ... OK * checking package dependencies ... INFO Vignette dependency required without any vignettes: 'knitr' * checking if this is a source package ... OK * checking if there is a namespace ... OK * checking for hidden files and directories ... NOTE Found the following hidden files and directories: .lintr These were most likely included in error. See section 'Package structure' in the 'Writing R Extensions' manual. CRAN-pack does not know about .lintr * checking for portable file names ... OK * checking serialization versions ... OK * checking whether package 'ggvenn' can be installed ... OK * checking installed package size ... OK * checking package directory ... OK * checking for future file timestamps ... OK * checking DESCRIPTION meta-information ... NOTE Author field differs from that derived from Authors@R Author: 'Linlin Yan [aut, cre]' Authors@R: 'Linlin Yan [aut, cre] (ORCID: )' * checking top-level files ... OK * checking for left-over files ... OK * checking index information ... OK * checking package subdirectories ... OK * checking code files for non-ASCII characters ... OK * checking R files for syntax errors ... OK * checking whether the package can be loaded ... OK * checking whether the package can be loaded with stated dependencies ... OK * checking whether the package can be unloaded cleanly ... OK * checking whether the namespace can be loaded with stated dependencies ... OK * checking whether the namespace can be unloaded cleanly ... OK * checking loading without being on the library search path ... OK * checking use of S3 registration ... OK * checking dependencies in R code ... NOTE Unexported object imported by a ':::' call: 'ggplot2:::ggname' See the note in ?`:::` about the use of this operator. * checking S3 generic/method consistency ... OK * checking replacement functions ... OK * checking foreign function calls ... OK * checking R code for possible problems ... [11s] NOTE generate_element_df: no visible global function definition for 'syms' geom_venn : : no visible binding for global variable '.pt' Undefined global functions or variables: .pt syms * checking Rd files ... OK * checking Rd metadata ... OK * checking Rd line widths ... OK * checking Rd cross-references ... OK * checking for missing documentation entries ... OK * checking for code/documentation mismatches ... OK * checking Rd \usage sections ... OK * checking Rd contents ... OK * checking for unstated dependencies in examples ... OK * checking examples ... OK * checking for unstated dependencies in 'tests' ... OK * checking tests ... OK Running 'testthat.R' * checking PDF version of manual ... [21s] OK * checking HTML version of manual ... OK * DONE Status: 5 NOTEs