* using log directory ‘/home/hornik/tmp/CRAN_recheck/ggpubr.Rcheck’ * using R Under development (unstable) (2025-10-16 r88927) * using platform: x86_64-pc-linux-gnu * R was compiled by gcc-15 (Debian 15.2.0-4) 15.2.0 GNU Fortran (Debian 15.2.0-4) 15.2.0 * running under: Debian GNU/Linux forky/sid * using session charset: UTF-8 * checking for file ‘ggpubr/DESCRIPTION’ ... OK * checking extension type ... Package * this is package ‘ggpubr’ version ‘0.6.2’ * package encoding: UTF-8 * checking CRAN incoming feasibility ... [11s/13s] OK * checking package namespace information ... OK * checking package dependencies ... OK * checking if this is a source package ... OK * checking if there is a namespace ... OK * checking for executable files ... OK * checking for hidden files and directories ... OK * checking for portable file names ... OK * checking for sufficient/correct file permissions ... OK * checking serialization versions ... OK * checking whether package ‘ggpubr’ can be installed ... [15s/15s] OK * checking package directory ... OK * checking for future file timestamps ... OK * checking DESCRIPTION meta-information ... OK * checking top-level files ... OK * checking for left-over files ... OK * checking index information ... OK * checking package subdirectories ... OK * checking code files for non-ASCII characters ... OK * checking R files for syntax errors ... OK * checking whether the package can be loaded ... [2s/2s] OK * checking whether the package can be loaded with stated dependencies ... [2s/2s] OK * checking whether the package can be unloaded cleanly ... [1s/1s] OK * checking whether the namespace can be loaded with stated dependencies ... [1s/1s] OK * checking whether the namespace can be unloaded cleanly ... [2s/2s] OK * checking loading without being on the library search path ... [2s/2s] OK * checking use of S3 registration ... OK * checking dependencies in R code ... OK * checking S3 generic/method consistency ... OK * checking replacement functions ... OK * checking foreign function calls ... OK * checking R code for possible problems ... [27s/27s] OK * checking Rd files ... [1s/1s] OK * checking Rd metadata ... OK * checking Rd line widths ... OK * checking Rd cross-references ... OK * checking for missing documentation entries ... OK * checking for code/documentation mismatches ... OK * checking Rd \usage sections ... OK * checking Rd contents ... OK * checking for unstated dependencies in examples ... OK * checking contents of ‘data’ directory ... OK * checking data for non-ASCII characters ... [0s/0s] OK * checking LazyData ... OK * checking data for ASCII and uncompressed saves ... OK * checking examples ... [181s/181s] NOTE Examples with CPU (user + system) or elapsed time > 5s user system elapsed ggline 7.012 0.005 7.099 ggbarplot 6.531 0.000 6.535 ggviolin 5.926 0.072 5.998 ggtexttable 5.639 0.052 5.692 ggmaplot 5.585 0.063 5.687 ggboxplot 5.476 0.055 5.628 stat_anova_test 5.217 0.040 5.257 ggsummarystats 5.128 0.004 5.134 * checking for unstated dependencies in ‘tests’ ... OK * checking tests ... [30s/30s] OK Running ‘testthat.R’ [30s/30s] * checking PDF version of manual ... [12s/12s] OK * checking HTML version of manual ... [6s/7s] OK * checking for non-standard things in the check directory ... OK * checking for detritus in the temp directory ... OK * DONE Status: 1 NOTE