* using log directory 'd:/RCompile/CRANincoming/R-devel/ggdmcHeaders.Rcheck' * using R Under development (unstable) (2025-06-25 r88360 ucrt) * using platform: x86_64-w64-mingw32 * R was compiled by gcc.exe (GCC) 14.2.0 GNU Fortran (GCC) 14.2.0 * running under: Windows Server 2022 x64 (build 20348) * using session charset: UTF-8 * checking for file 'ggdmcHeaders/DESCRIPTION' ... OK * this is package 'ggdmcHeaders' version '0.2.9.0' * package encoding: UTF-8 * checking CRAN incoming feasibility ... NOTE Maintainer: 'Yi-Shin Lin ' New submission * checking package namespace information ... OK * checking package dependencies ... INFO Package in Depends/Imports which should probably only be in LinkingTo: 'RcppArmadillo' * checking if this is a source package ... OK * checking if there is a namespace ... OK * checking for hidden files and directories ... OK * checking for portable file names ... OK * checking serialization versions ... OK * checking whether package 'ggdmcHeaders' can be installed ... OK * checking installed package size ... OK * checking package directory ... OK * checking for future file timestamps ... OK * checking DESCRIPTION meta-information ... OK * checking top-level files ... OK * checking for left-over files ... OK * checking index information ... OK * checking package subdirectories ... OK * checking whether the package can be loaded ... OK * checking whether the package can be loaded with stated dependencies ... OK * checking whether the package can be unloaded cleanly ... OK * checking whether the namespace can be loaded with stated dependencies ... OK * checking whether the namespace can be unloaded cleanly ... OK * checking loading without being on the library search path ... OK * checking use of S3 registration ... OK * checking line endings in C/C++/Fortran sources/headers ... OK * checking pragmas in C/C++ headers and code ... OK * checking examples ... NONE * checking PDF version of manual ... OK * DONE Status: 1 NOTE