* using log directory ‘/home/hornik/tmp/CRAN_recheck/fitdistrplus.Rcheck’ * using R Under development (unstable) (2025-07-02 r88374) * using platform: x86_64-pc-linux-gnu * R was compiled by gcc-14 (Debian 14.2.0-19) 14.2.0 GNU Fortran (Debian 14.2.0-19) 14.2.0 * running under: Debian GNU/Linux 13 (trixie) * using session charset: UTF-8 * checking for file ‘fitdistrplus/DESCRIPTION’ ... OK * this is package ‘fitdistrplus’ version ‘1.2-4’ * package encoding: UTF-8 * checking CRAN incoming feasibility ... [11s/131s] NOTE Maintainer: ‘Aurélie Siberchicot ’ Days since last update: 2 Found the following (possibly) invalid URLs: URL: https://lbbe.univ-lyon1.fr/fr/fitdistrplus From: DESCRIPTION Status: Error Message: Timeout was reached [lbbe.univ-lyon1.fr]: Operation timed out after 60002 milliseconds with 0 bytes received * checking package namespace information ... OK * checking package dependencies ... OK * checking if this is a source package ... OK * checking if there is a namespace ... OK * checking for executable files ... OK * checking for hidden files and directories ... OK * checking for portable file names ... OK * checking for sufficient/correct file permissions ... OK * checking whether package ‘fitdistrplus’ can be installed ... [16s/16s] OK * checking package directory ... OK * checking for future file timestamps ... OK * checking ‘build’ directory ... OK * checking DESCRIPTION meta-information ... OK * checking top-level files ... OK * checking for left-over files ... OK * checking index information ... OK * checking package subdirectories ... OK * checking code files for non-ASCII characters ... OK * checking R files for syntax errors ... OK * checking whether the package can be loaded ... [2s/2s] OK * checking whether the package can be loaded with stated dependencies ... [2s/2s] OK * checking whether the package can be unloaded cleanly ... [2s/2s] OK * checking whether the namespace can be loaded with stated dependencies ... [1s/1s] OK * checking whether the namespace can be unloaded cleanly ... [2s/2s] OK * checking loading without being on the library search path ... [1s/1s] OK * checking use of S3 registration ... OK * checking dependencies in R code ... OK * checking S3 generic/method consistency ... OK * checking replacement functions ... OK * checking foreign function calls ... OK * checking R code for possible problems ... [32s/32s] OK * checking Rd files ... [1s/1s] OK * checking Rd metadata ... OK * checking Rd line widths ... OK * checking Rd cross-references ... OK * checking for missing documentation entries ... OK * checking for code/documentation mismatches ... OK * checking Rd \usage sections ... OK * checking Rd contents ... OK * checking for unstated dependencies in examples ... OK * checking contents of ‘data’ directory ... OK * checking data for non-ASCII characters ... [0s/0s] OK * checking data for ASCII and uncompressed saves ... OK * checking installed files from ‘inst/doc’ ... OK * checking files in ‘vignettes’ ... OK * checking examples ... [20s/20s] OK * checking for unstated dependencies in ‘tests’ ... OK * checking tests ... [135s/136s] OK Running ‘t-CIcdfplot.R’ [13s/14s] Running ‘t-Surv2fitdistcens.R’ [2s/2s] Running ‘t-bootdist.R’ [5s/5s] Running ‘t-bootdistcens.R’ [2s/2s] Running ‘t-cdfcomp.R’ [3s/3s] Running ‘t-cdfcompcens.R’ [3s/3s] Running ‘t-cvg-algo.R’ [0s/0s] Running ‘t-denscomp.R’ [3s/3s] Running ‘t-descdist.R’ [1s/1s] Running ‘t-detectbound.R’ [1s/1s] Running ‘t-fitbench.R’ [0s/0s] Running ‘t-fitdist-burr.R’ [11s/11s] Running ‘t-fitdist-customoptim.R’ [1s/1s] Running ‘t-fitdist-hessianpb.R’ [2s/2s] Running ‘t-fitdist-test-arguments.R’ [1s/1s] Running ‘t-fitdist.R’ [2s/2s] Running ‘t-fitdistcens.R’ [2s/2s] Running ‘t-gen-max-spacing-estim.R’ [1s/1s] Running ‘t-getparam.R’ [1s/1s] Running ‘t-gofstat.R’ [1s/1s] Running ‘t-init-actuar.R’ [0s/0s] Running ‘t-llplot.R’ [3s/3s] Running ‘t-lnL-surf.R’ [2s/2s] Running ‘t-logLik-vcov-coef.R’ [1s/1s] Running ‘t-manageparam.R’ [1s/1s] Running ‘t-mgedist.R’ [2s/2s] Running ‘t-mledist-asymptotic-vcov.R’ [1s/1s] Running ‘t-mledist-cens.R’ [1s/1s] Running ‘t-mledist-cvg-NelderMead.R’ [0s/0s] Running ‘t-mledist-nocens.R’ [2s/2s] Running ‘t-mledist-paramsupport.R’ [3s/3s] Running ‘t-mmedist-asymptotic-vcov.R’ [2s/2s] Running ‘t-mmedist.R’ [2s/2s] Running ‘t-msedist.R’ [2s/2s] Running ‘t-parallel.R’ [0s/0s] Running ‘t-plotdist.R’ [1s/1s] Running ‘t-plotdistcens.R’ [2s/2s] Running ‘t-ppcomp.R’ [3s/3s] Running ‘t-ppcompcens.R’ [2s/2s] Running ‘t-prefit.R’ [1s/1s] Running ‘t-qme-discrete.R’ [6s/6s] Running ‘t-qmedist-cvg-NelderMead.R’ [0s/0s] Running ‘t-qmedist.R’ [4s/4s] Running ‘t-qqcomp.R’ [3s/3s] Running ‘t-qqcompcens.R’ [3s/3s] Running ‘t-quantiledist.R’ [1s/1s] Running ‘t-startfixarg-overall.R’ [2s/2s] Running ‘t-starting-value-scale-rate.R’ [1s/1s] Running ‘t-startingvalues-fellerpareto-family.R’ [2s/2s] Running ‘t-startingvalues-inv-family.R’ [6s/6s] Running ‘t-startingvalues-invBurr-family.R’ [2s/2s] Running ‘t-startingvalues-invtrgamma-family.R’ [1s/1s] Running ‘t-startingvalues-othercont-family.R’ [2s/2s] Running ‘t-startingvalues-trgamma-family.R’ [1s/1s] Running ‘t-startingvalues-zeromod-family.R’ [1s/1s] Running ‘t-startingvalues-zerotrunc-family.R’ [1s/1s] Running ‘t-startingvalues.R’ [1s/1s] Running ‘t-util-mmedist-vcov.R’ [1s/1s] Running ‘t-util-npmle.R’ [1s/1s] Running ‘t-util-npsurv-mainfunction.R’ [1s/1s] Running ‘t-util-testdensity.R’ [1s/1s] Running ‘t-weird-ppcomp-cens.R’ [1s/1s] Running ‘t-weird-qqcomp-cens.R’ [1s/1s] * checking for unstated dependencies in vignettes ... OK * checking package vignettes ... OK * checking re-building of vignette outputs ... [78s/81s] OK * checking PDF version of manual ... [5s/5s] OK * checking HTML version of manual ... [3s/3s] OK * checking for non-standard things in the check directory ... OK * checking for detritus in the temp directory ... OK * DONE Status: 1 NOTE