* using log directory 'd:/RCompile/CRANincoming/R-devel/finto.Rcheck' * using R Under development (unstable) (2025-11-06 r88990 ucrt) * using platform: x86_64-w64-mingw32 * R was compiled by gcc.exe (GCC) 14.3.0 GNU Fortran (GCC) 14.3.0 * running under: Windows Server 2022 x64 (build 20348) * using session charset: UTF-8 * checking for file 'finto/DESCRIPTION' ... OK * this is package 'finto' version '0.1.1' * package encoding: UTF-8 * checking CRAN incoming feasibility ... NOTE Maintainer: 'Akewak Jeba ' New submission Found the following (possibly) invalid URLs: URL: http://rdaregistry.info/Elements/c/C10004 From: inst/doc/vignette.html Status: Error Message: SSL connect error [rdaregistry.info]: schannel: next InitializeSecurityContext failed: SEC_E_CERT_EXPIRED (0x80090328) - Das empfangene Zertifikat ist abgelaufen. URL: http://urn.fi/URN:NBN:fi:au:finaf (moved to https://urn.fi/URN:NBN:fi:au:finaf) From: inst/doc/vignette.html Status: 301 Message: Moved Permanently URL: http://urn.fi/URN:NBN:fi:au:finaf:000041234 (moved to https://urn.fi/URN:NBN:fi:au:finaf:000041234) From: inst/doc/vignette.html Status: 301 Message: Moved Permanently URL: http://urn.fi/URN:NBN:fi:au:finaf:000057891 (moved to https://urn.fi/URN:NBN:fi:au:finaf:000057891) From: inst/doc/vignette.html Status: 301 Message: Moved Permanently URL: http://urn.fi/URN:NBN:fi:au:finaf:000069536 (moved to https://urn.fi/URN:NBN:fi:au:finaf:000069536) From: inst/doc/vignette.html Status: 301 Message: Moved Permanently URL: http://urn.fi/URN:NBN:fi:au:finaf:000094320 (moved to https://urn.fi/URN:NBN:fi:au:finaf:000094320) From: inst/doc/vignette.html Status: 301 Message: Moved Permanently URL: http://urn.fi/URN:NBN:fi:au:mts (moved to https://urn.fi/URN:NBN:fi:au:mts) From: inst/doc/vignette.html Status: 301 Message: Moved Permanently URL: http://urn.fi/URN:NBN:fi:au:mts:m2479 (moved to https://urn.fi/URN:NBN:fi:au:mts:m2479) From: inst/doc/vignette.html Status: 301 Message: Moved Permanently URL: http://urn.fi/URN:NBN:fi:au:mts:m2505 (moved to https://urn.fi/URN:NBN:fi:au:mts:m2505) From: inst/doc/vignette.html Status: 301 Message: Moved Permanently URL: http://urn.fi/URN:NBN:fi:au:mts:m2518 (moved to https://urn.fi/URN:NBN:fi:au:mts:m2518) From: inst/doc/vignette.html Status: 301 Message: Moved Permanently URL: http://urn.fi/URN:NBN:fi:au:mts:m2565 (moved to https://urn.fi/URN:NBN:fi:au:mts:m2565) From: inst/doc/vignette.html Status: 301 Message: Moved Permanently URL: http://urn.fi/URN:NBN:fi:au:mts:m2671 (moved to https://urn.fi/URN:NBN:fi:au:mts:m2671) From: inst/doc/vignette.html Status: 301 Message: Moved Permanently URL: http://urn.fi/URN:NBN:fi:au:mts:m3004 (moved to https://urn.fi/URN:NBN:fi:au:mts:m3004) From: inst/doc/vignette.html Status: 301 Message: Moved Permanently URL: http://urn.fi/URN:NBN:fi:au:mts:m3285 (moved to https://urn.fi/URN:NBN:fi:au:mts:m3285) From: inst/doc/vignette.html Status: 301 Message: Moved Permanently URL: http://urn.fi/URN:NBN:fi:au:mts:m3357 (moved to https://urn.fi/URN:NBN:fi:au:mts:m3357) From: inst/doc/vignette.html Status: 301 Message: Moved Permanently URL: http://urn.fi/urn:nbn:fi:sks-kbg-006242 (moved to https://urn.fi/urn:nbn:fi:sks-kbg-006242) From: inst/doc/vignette.html Status: 301 Message: Moved Permanently URL: http://urn.fi/urn:nbn:fi:sks-kbg-009461 (moved to https://urn.fi/urn:nbn:fi:sks-kbg-009461) From: inst/doc/vignette.html Status: 301 Message: Moved Permanently URL: http://www.yso.fi/onto/koko/p91024 (moved to https://www.yso.fi/onto/koko/p91024) From: README.md Status: 301 Message: Moved Permanently URL: http://www.yso.fi/onto/mero/m11156 (moved to https://www.yso.fi/onto/mero/m11156) From: README.md Status: 301 Message: Moved Permanently URL: http://www.yso.fi/onto/yso/p1021 (moved to https://www.yso.fi/onto/yso/p1021) From: inst/doc/vignette.html Status: 301 Message: Moved Permanently URL: http://www.yso.fi/onto/yso/p1520 (moved to https://www.yso.fi/onto/yso/p1520) From: inst/doc/vignette.html Status: 301 Message: Moved Permanently URL: http://www.yso.fi/onto/yso/p20543 (moved to https://www.yso.fi/onto/yso/p20543) From: inst/doc/vignette.html Status: 301 Message: Moved Permanently URL: http://www.yso.fi/onto/yso/p3490 (moved to https://www.yso.fi/onto/yso/p3490) From: inst/doc/vignette.html Status: 301 Message: Moved Permanently URL: http://www.yso.fi/onto/yso/p5468 (moved to https://www.yso.fi/onto/yso/p5468) From: inst/doc/vignette.html Status: 301 Message: Moved Permanently URL: http://www.yso.fi/onto/yso/p8970 (moved to https://www.yso.fi/onto/yso/p8970) From: inst/doc/vignette.html Status: 301 Message: Moved Permanently URL: http://www.yso.fi/onto/yso/p94257 (moved to https://www.yso.fi/onto/yso/p94257) From: inst/doc/vignette.html Status: 301 Message: Moved Permanently URL: https://fi.wikipedia.org/wiki/Wilhelmi_Malmivaara From: inst/doc/vignette.html Status: 429 Message: Too Many Requests For content that is 'Moved Permanently', please change http to https, add trailing slashes, or replace the old by the new URL. * checking package namespace information ... OK * checking package dependencies ... OK * checking if this is a source package ... OK * checking if there is a namespace ... OK * checking for hidden files and directories ... OK * checking for portable file names ... OK * checking whether package 'finto' can be installed ... OK * checking installed package size ... OK * checking package directory ... OK * checking for future file timestamps ... OK * checking 'build' directory ... OK * checking DESCRIPTION meta-information ... OK * checking top-level files ... OK * checking for left-over files ... OK * checking index information ... OK * checking package subdirectories ... OK * checking code files for non-ASCII characters ... OK * checking R files for syntax errors ... OK * checking whether the package can be loaded ... OK * checking whether the package can be loaded with stated dependencies ... OK * checking whether the package can be unloaded cleanly ... OK * checking whether the namespace can be loaded with stated dependencies ... OK * checking whether the namespace can be unloaded cleanly ... OK * checking loading without being on the library search path ... OK * checking use of S3 registration ... OK * checking dependencies in R code ... OK * checking S3 generic/method consistency ... OK * checking replacement functions ... OK * checking foreign function calls ... OK * checking R code for possible problems ... OK * checking Rd files ... OK * checking Rd metadata ... OK * checking Rd line widths ... OK * checking Rd cross-references ... OK * checking for missing documentation entries ... OK * checking for code/documentation mismatches ... OK * checking Rd \usage sections ... OK * checking Rd contents ... OK * checking for unstated dependencies in examples ... OK * checking installed files from 'inst/doc' ... OK * checking files in 'vignettes' ... OK * checking examples ... [309s] NOTE Examples with CPU (user + system) or elapsed time > 10s user system elapsed get_vocabulary_data 296.05 0.12 297.88 * checking for unstated dependencies in 'tests' ... OK * checking tests ... OK Running 'testthat.R' * checking for unstated dependencies in vignettes ... OK * checking package vignettes ... OK * checking re-building of vignette outputs ... OK * checking PDF version of manual ... [12s] OK * checking HTML version of manual ... OK * DONE Status: 2 NOTEs