* using log directory ‘/srv/hornik/tmp/CRAN_pretest/finto.Rcheck’ * using R Under development (unstable) (2025-11-06 r88990) * using platform: x86_64-pc-linux-gnu * R was compiled by Debian clang version 19.1.7 (7) Debian flang-new version 19.1.7 (7) * running under: Debian GNU/Linux forky/sid * using session charset: UTF-8 * checking for file ‘finto/DESCRIPTION’ ... OK * this is package ‘finto’ version ‘0.1.1’ * package encoding: UTF-8 * checking CRAN incoming feasibility ... [4s/7s] NOTE Maintainer: ‘Akewak Jeba ’ New submission Found the following (possibly) invalid URLs: URL: http://rdaregistry.info/Elements/c/C10004 From: inst/doc/vignette.html Status: Error Message: SSL peer certificate or SSH remote key was not OK [rdaregistry.info]: SSL certificate verification failed: certificate has expired. (CAfile: /etc/ssl/certs/ca-certificates.crt CRLfile: none) URL: http://urn.fi/URN:NBN:fi:au:finaf (moved to https://urn.fi/URN:NBN:fi:au:finaf) From: inst/doc/vignette.html Status: 301 Message: Moved Permanently URL: http://urn.fi/URN:NBN:fi:au:finaf:000041234 (moved to https://urn.fi/URN:NBN:fi:au:finaf:000041234) From: inst/doc/vignette.html Status: 301 Message: Moved Permanently URL: http://urn.fi/URN:NBN:fi:au:finaf:000057891 (moved to https://urn.fi/URN:NBN:fi:au:finaf:000057891) From: inst/doc/vignette.html Status: 301 Message: Moved Permanently URL: http://urn.fi/URN:NBN:fi:au:finaf:000069536 (moved to https://urn.fi/URN:NBN:fi:au:finaf:000069536) From: inst/doc/vignette.html Status: 301 Message: Moved Permanently URL: http://urn.fi/URN:NBN:fi:au:finaf:000094320 (moved to https://urn.fi/URN:NBN:fi:au:finaf:000094320) From: inst/doc/vignette.html Status: 301 Message: Moved Permanently URL: http://urn.fi/URN:NBN:fi:au:mts (moved to https://urn.fi/URN:NBN:fi:au:mts) From: inst/doc/vignette.html Status: 301 Message: Moved Permanently URL: http://urn.fi/URN:NBN:fi:au:mts:m2479 (moved to https://urn.fi/URN:NBN:fi:au:mts:m2479) From: inst/doc/vignette.html Status: 301 Message: Moved Permanently URL: http://urn.fi/URN:NBN:fi:au:mts:m2505 (moved to https://urn.fi/URN:NBN:fi:au:mts:m2505) From: inst/doc/vignette.html Status: 301 Message: Moved Permanently URL: http://urn.fi/URN:NBN:fi:au:mts:m2518 (moved to https://urn.fi/URN:NBN:fi:au:mts:m2518) From: inst/doc/vignette.html Status: 301 Message: Moved Permanently URL: http://urn.fi/URN:NBN:fi:au:mts:m2565 (moved to https://urn.fi/URN:NBN:fi:au:mts:m2565) From: inst/doc/vignette.html Status: 301 Message: Moved Permanently URL: http://urn.fi/URN:NBN:fi:au:mts:m2671 (moved to https://urn.fi/URN:NBN:fi:au:mts:m2671) From: inst/doc/vignette.html Status: 301 Message: Moved Permanently URL: http://urn.fi/URN:NBN:fi:au:mts:m3004 (moved to https://urn.fi/URN:NBN:fi:au:mts:m3004) From: inst/doc/vignette.html Status: 301 Message: Moved Permanently URL: http://urn.fi/URN:NBN:fi:au:mts:m3285 (moved to https://urn.fi/URN:NBN:fi:au:mts:m3285) From: inst/doc/vignette.html Status: 301 Message: Moved Permanently URL: http://urn.fi/URN:NBN:fi:au:mts:m3357 (moved to https://urn.fi/URN:NBN:fi:au:mts:m3357) From: inst/doc/vignette.html Status: 301 Message: Moved Permanently URL: http://urn.fi/urn:nbn:fi:sks-kbg-006242 (moved to https://urn.fi/urn:nbn:fi:sks-kbg-006242) From: inst/doc/vignette.html Status: 301 Message: Moved Permanently URL: http://urn.fi/urn:nbn:fi:sks-kbg-009461 (moved to https://urn.fi/urn:nbn:fi:sks-kbg-009461) From: inst/doc/vignette.html Status: 301 Message: Moved Permanently URL: http://www.yso.fi/onto/koko/p91024 (moved to https://www.yso.fi/onto/koko/p91024) From: README.md Status: 301 Message: Moved Permanently URL: http://www.yso.fi/onto/mero/m11156 (moved to https://www.yso.fi/onto/mero/m11156) From: README.md Status: 301 Message: Moved Permanently URL: http://www.yso.fi/onto/yso/p1021 (moved to https://www.yso.fi/onto/yso/p1021) From: inst/doc/vignette.html Status: 301 Message: Moved Permanently URL: http://www.yso.fi/onto/yso/p1520 (moved to https://www.yso.fi/onto/yso/p1520) From: inst/doc/vignette.html Status: 301 Message: Moved Permanently URL: http://www.yso.fi/onto/yso/p20543 (moved to https://www.yso.fi/onto/yso/p20543) From: inst/doc/vignette.html Status: 301 Message: Moved Permanently URL: http://www.yso.fi/onto/yso/p3490 (moved to https://www.yso.fi/onto/yso/p3490) From: inst/doc/vignette.html Status: 301 Message: Moved Permanently URL: http://www.yso.fi/onto/yso/p5468 (moved to https://www.yso.fi/onto/yso/p5468) From: inst/doc/vignette.html Status: 301 Message: Moved Permanently URL: http://www.yso.fi/onto/yso/p8970 (moved to https://www.yso.fi/onto/yso/p8970) From: inst/doc/vignette.html Status: 301 Message: Moved Permanently URL: http://www.yso.fi/onto/yso/p94257 (moved to https://www.yso.fi/onto/yso/p94257) From: inst/doc/vignette.html Status: 301 Message: Moved Permanently For content that is 'Moved Permanently', please change http to https, add trailing slashes, or replace the old by the new URL. * checking package namespace information ... OK * checking package dependencies ... OK * checking if this is a source package ... OK * checking if there is a namespace ... OK * checking for executable files ... OK * checking for hidden files and directories ... OK * checking for portable file names ... OK * checking for sufficient/correct file permissions ... OK * checking whether package ‘finto’ can be installed ... [3s/3s] OK * checking package directory ... OK * checking for future file timestamps ... OK * checking ‘build’ directory ... OK * checking DESCRIPTION meta-information ... OK * checking top-level files ... OK * checking for left-over files ... OK * checking index information ... OK * checking package subdirectories ... OK * checking code files for non-ASCII characters ... OK * checking R files for syntax errors ... OK * checking whether the package can be loaded ... [0s/0s] OK * checking whether the package can be loaded with stated dependencies ... [0s/0s] OK * checking whether the package can be unloaded cleanly ... [0s/0s] OK * checking whether the namespace can be loaded with stated dependencies ... [0s/0s] OK * checking whether the namespace can be unloaded cleanly ... [1s/0s] OK * checking loading without being on the library search path ... [0s/0s] OK * checking use of S3 registration ... OK * checking dependencies in R code ... OK * checking S3 generic/method consistency ... OK * checking replacement functions ... OK * checking foreign function calls ... OK * checking R code for possible problems ... [4s/4s] OK * checking Rd files ... [0s/0s] OK * checking Rd metadata ... OK * checking Rd line widths ... OK * checking Rd cross-references ... OK * checking for missing documentation entries ... OK * checking for code/documentation mismatches ... OK * checking Rd \usage sections ... OK * checking Rd contents ... OK * checking for unstated dependencies in examples ... OK * checking installed files from ‘inst/doc’ ... OK * checking files in ‘vignettes’ ... OK * checking examples ... [155s/161s] NOTE Examples with CPU (user + system) or elapsed time > 5s user system elapsed get_vocabulary_data 151.401 0.111 152.653 * checking for unstated dependencies in ‘tests’ ... OK * checking tests ... [1s/1s] OK Running ‘testthat.R’ [1s/1s] * checking for unstated dependencies in vignettes ... OK * checking package vignettes ... OK * checking re-building of vignette outputs ... [3s/5s] OK * checking PDF version of manual ... [3s/3s] OK * checking HTML version of manual ... [0s/0s] OK * checking for non-standard things in the check directory ... OK * checking for detritus in the temp directory ... OK * DONE Status: 2 NOTEs