* using log directory 'd:/RCompile/CRANincoming/R-devel/finna.Rcheck' * using R Under development (unstable) (2025-01-09 r87552 ucrt) * using platform: x86_64-w64-mingw32 * R was compiled by gcc.exe (GCC) 13.3.0 GNU Fortran (GCC) 13.3.0 * running under: Windows Server 2022 x64 (build 20348) * using session charset: UTF-8 * checking for file 'finna/DESCRIPTION' ... OK * this is package 'finna' version '0.1.0' * package encoding: UTF-8 * checking CRAN incoming feasibility ... NOTE Maintainer: 'Akewak Jeba ' New submission Possibly misspelled words in DESCRIPTION: Finna (2:22, 12:50) Found the following (possibly) invalid URLs: URL: From: README.md Message: Empty URL URL: https://cran.r-project.org/web/packages/devtools/ From: README.md Status: 200 Message: OK CRAN URL not in canonical form URL: https://cran.r-project.org/web/packages/pkgdown/ From: README.md Status: 200 Message: OK CRAN URL not in canonical form URL: https://cran.r-project.org/web/packages/roxygen2/ From: README.md Status: 200 Message: OK CRAN URL not in canonical form URL: https://cran.r-project.org/web/packages/usethis/ From: README.md Status: 200 Message: OK CRAN URL not in canonical form URL: https://www.codefactor.io/repository/github/rOpenGov/finna From: README.md Status: 404 Message: Not Found URL: https://www.finna.fi/Search/Results?dfApplied=1&lookfor=era%3A%222010-luku%22&type=AllFields&filter%5B%5D=~building%3A%220%2F3AMK%2F%22&filter%5B%5D=finna.deduplication:%220%22 From: inst/doc/vignette.html Status: 403 Message: Forbidden The canonical URL of the CRAN page for a package is https://CRAN.R-project.org/package=pkgname Found the following (possibly) invalid file URI: URI: Link From: README.md The Title field should be in title case. Current version is: 'R package for Finna API' In title case that is: 'R Package for Finna API' * checking package namespace information ... OK * checking package dependencies ... OK * checking if this is a source package ... OK * checking if there is a namespace ... OK * checking for hidden files and directories ... OK * checking for portable file names ... OK * checking serialization versions ... OK * checking whether package 'finna' can be installed ... OK * checking installed package size ... OK * checking package directory ... OK * checking for future file timestamps ... OK * checking 'build' directory ... OK * checking DESCRIPTION meta-information ... OK * checking top-level files ... OK * checking for left-over files ... OK * checking index information ... OK * checking package subdirectories ... OK * checking code files for non-ASCII characters ... OK * checking R files for syntax errors ... OK * checking whether the package can be loaded ... OK * checking whether the package can be loaded with stated dependencies ... OK * checking whether the package can be unloaded cleanly ... OK * checking whether the namespace can be loaded with stated dependencies ... OK * checking whether the namespace can be unloaded cleanly ... OK * checking loading without being on the library search path ... OK * checking use of S3 registration ... OK * checking dependencies in R code ... OK * checking S3 generic/method consistency ... OK * checking replacement functions ... OK * checking foreign function calls ... OK * checking R code for possible problems ... NOTE analyze_trends_over_time: no visible binding for global variable 'Decade' analyze_trends_over_time: no visible binding for global variable 'Count' enrich_author_name : get_author_name_from_finna: no visible binding for global variable 'response' enrich_author_name: no visible binding for global variable 'author_name' enrich_author_name: no visible binding for global variable 'melinda_id' refine_metadata: no visible binding for global variable 'Title' refine_metadata: no visible binding for global variable 'Language' refine_metadata: no visible binding for global variable 'Subjects' refine_metadata: no visible binding for global variable 'Library' refine_metadata: no visible binding for global variable 'Series' visualize_format_library_correlation: no visible binding for global variable 'Library' visualize_library_distribution: no visible binding for global variable 'Library' visualize_subject_distribution: no visible binding for global variable 'Subjects' visualize_title_year_heatmap: no visible binding for global variable 'Title' visualize_title_year_heatmap: no visible binding for global variable 'total' visualize_top_20_titles: no visible binding for global variable 'Title' Undefined global functions or variables: Count Decade Language Library Series Subjects Title author_name melinda_id response total * checking Rd files ... OK * checking Rd metadata ... OK * checking Rd line widths ... OK * checking Rd cross-references ... OK * checking for missing documentation entries ... OK * checking for code/documentation mismatches ... OK * checking Rd \usage sections ... OK * checking Rd contents ... OK * checking for unstated dependencies in examples ... OK * checking installed files from 'inst/doc' ... OK * checking files in 'vignettes' ... OK * checking examples ... [12s] OK * checking for unstated dependencies in 'tests' ... OK * checking tests ... [22s] OK Running 'testthat.R' [22s] * checking for unstated dependencies in vignettes ... OK * checking package vignettes ... OK * checking re-building of vignette outputs ... [43s] OK * checking PDF version of manual ... [13s] OK * checking HTML version of manual ... OK * DONE Status: 2 NOTEs