* using log directory 'd:/RCompile/CRANincoming/R-devel/fcumtest.Rcheck' * using R Under development (unstable) (2025-10-25 r88970 ucrt) * using platform: x86_64-w64-mingw32 * R was compiled by gcc.exe (GCC) 14.2.0 GNU Fortran (GCC) 14.2.0 * running under: Windows Server 2022 x64 (build 20348) * using session charset: UTF-8 * checking for file 'fcumtest/DESCRIPTION' ... OK * this is package 'fcumtest' version '1.0.0' * package encoding: UTF-8 * checking CRAN incoming feasibility ... NOTE Maintainer: 'Taha Zaghdoudi ' New submission Possibly misspelled words in DESCRIPTION: AICC (7:29) CUSUM (2:16, 6:37) Cointegration (2:22) Zaghdoudi (8:35) cointegration (6:52) Found the following (possibly) invalid URLs: URL: https://github.com/yourusername/fcumtest From: man/fcumtest-package.Rd Status: 404 Message: Not Found URL: https://github.com/yourusername/fcumtest/issues From: man/fcumtest-package.Rd Status: 404 Message: Not Found The Description field contains . Please write DOIs as . Found the following URLs which should use \doi (with the DOI name only): File 'aicc.Rd': https://doi.org/10.46557/001c.144076 File 'fcum.Rd': https://doi.org/10.46557/001c.144076 File 'fcumtest-package.Rd': https://doi.org/10.46557/001c.144076 * checking package namespace information ... OK * checking package dependencies ... OK * checking if this is a source package ... OK * checking if there is a namespace ... OK * checking for hidden files and directories ... OK * checking for portable file names ... OK * checking serialization versions ... OK * checking whether package 'fcumtest' can be installed ... OK * checking installed package size ... OK * checking package directory ... OK * checking for future file timestamps ... OK * checking DESCRIPTION meta-information ... OK * checking top-level files ... OK * checking for left-over files ... OK * checking index information ... OK * checking package subdirectories ... OK * checking code files for non-ASCII characters ... OK * checking R files for syntax errors ... OK * checking whether the package can be loaded ... OK * checking whether the package can be loaded with stated dependencies ... OK * checking whether the package can be unloaded cleanly ... OK * checking whether the namespace can be loaded with stated dependencies ... OK * checking whether the namespace can be unloaded cleanly ... OK * checking loading without being on the library search path ... OK * checking use of S3 registration ... OK * checking dependencies in R code ... OK * checking S3 generic/method consistency ... OK * checking replacement functions ... OK * checking foreign function calls ... OK * checking R code for possible problems ... OK * checking Rd files ... OK * checking Rd metadata ... OK * checking Rd line widths ... OK * checking Rd cross-references ... OK * checking for missing documentation entries ... OK * checking for code/documentation mismatches ... OK * checking Rd \usage sections ... OK * checking Rd contents ... OK * checking for unstated dependencies in examples ... OK * checking examples ... OK * checking PDF version of manual ... [12s] OK * checking HTML version of manual ... OK * DONE Status: 1 NOTE