* using log directory 'd:/RCompile/CRANincoming/R-devel/fairmodels.Rcheck' * using R Under development (unstable) (2025-10-28 r88973 ucrt) * using platform: x86_64-w64-mingw32 * R was compiled by gcc.exe (GCC) 14.2.0 GNU Fortran (GCC) 14.2.0 * running under: Windows Server 2022 x64 (build 20348) * using session charset: UTF-8 * checking for file 'fairmodels/DESCRIPTION' ... OK * checking extension type ... Package * this is package 'fairmodels' version '1.2.2' * package encoding: UTF-8 * checking CRAN incoming feasibility ... [11s] NOTE Maintainer: 'Jakub Wiśniewski ' Found the following (possibly) invalid URLs: URL: https://en.wikipedia.org/wiki/Fairness_(machine_learning) From: man/fairness_check.Rd inst/doc/Basic_tutorial.html Status: 429 Message: Too Many Requests URL: https://www.propublica.org/datastore/dataset/compas-recidivism-risk-score-data-and-analysis (moved to https://projects.propublica.org/datastore/#compas-recidivism-risk-score-data-and-analysis) From: man/compas.Rd Status: 301 Message: Moved Permanently For content that is 'Moved Permanently', please change http to https, add trailing slashes, or replace the old by the new URL. The Description field contains . Please refer to arXiv e-prints via their arXiv DOI . * checking package namespace information ... OK * checking package dependencies ... OK * checking if this is a source package ... OK * checking if there is a namespace ... OK * checking for hidden files and directories ... OK * checking for portable file names ... OK * checking whether package 'fairmodels' can be installed ... OK * checking installed package size ... OK * checking package directory ... OK * checking for future file timestamps ... OK * checking 'build' directory ... OK * checking DESCRIPTION meta-information ... OK * checking top-level files ... OK * checking for left-over files ... OK * checking index information ... OK * checking package subdirectories ... OK * checking code files for non-ASCII characters ... OK * checking R files for syntax errors ... OK * checking whether the package can be loaded ... OK * checking whether the package can be loaded with stated dependencies ... OK * checking whether the package can be unloaded cleanly ... OK * checking whether the namespace can be loaded with stated dependencies ... OK * checking whether the namespace can be unloaded cleanly ... OK * checking loading without being on the library search path ... OK * checking use of S3 registration ... OK * checking dependencies in R code ... OK * checking S3 generic/method consistency ... OK * checking replacement functions ... OK * checking foreign function calls ... OK * checking R code for possible problems ... OK * checking Rd files ... NOTE checkRd: (-1) choose_metric.Rd:35: Lost braces in \itemize; \value handles \item{}{} directly checkRd: (-1) choose_metric.Rd:36: Lost braces in \itemize; \value handles \item{}{} directly checkRd: (-1) choose_metric.Rd:37: Lost braces in \itemize; \value handles \item{}{} directly checkRd: (-1) confusion_matrx.Rd:20: Lost braces in \itemize; \value handles \item{}{} directly checkRd: (-1) confusion_matrx.Rd:21: Lost braces in \itemize; \value handles \item{}{} directly checkRd: (-1) confusion_matrx.Rd:22: Lost braces in \itemize; \value handles \item{}{} directly checkRd: (-1) confusion_matrx.Rd:23: Lost braces in \itemize; \value handles \item{}{} directly checkRd: (-1) disparate_impact_remover.Rd:28: Lost braces 28 | pigeonholing. The number of pigeonholes is fixed and equal to min{101, unique(a)}, where a is vector with values for subgroup. So if some subgroup is not numerous and | ^ checkRd: (-1) fairness_check.Rd:47: Lost braces in \itemize; \value handles \item{}{} directly checkRd: (-1) fairness_check.Rd:48: Lost braces in \itemize; \value handles \item{}{} directly checkRd: (-1) fairness_check.Rd:49: Lost braces in \itemize; \value handles \item{}{} directly checkRd: (-1) fairness_check.Rd:50: Lost braces in \itemize; \value handles \item{}{} directly checkRd: (-1) fairness_check.Rd:51: Lost braces in \itemize; \value handles \item{}{} directly checkRd: (-1) fairness_check.Rd:52: Lost braces in \itemize; \value handles \item{}{} directly checkRd: (-1) fairness_check.Rd:53: Lost braces in \itemize; \value handles \item{}{} directly checkRd: (-1) fairness_check.Rd:54: Lost braces in \itemize; \value handles \item{}{} directly checkRd: (-1) fairness_check.Rd:55: Lost braces in \itemize; \value handles \item{}{} directly checkRd: (-1) fairness_check.Rd:56: Lost braces in \itemize; \value handles \item{}{} directly checkRd: (-1) fairness_check.Rd:57: Lost braces in \itemize; \value handles \item{}{} directly checkRd: (-1) fairness_check.Rd:58: Lost braces in \itemize; \value handles \item{}{} directly checkRd: (-1) fairness_check.Rd:61: Lost braces in \itemize; \value handles \item{}{} directly checkRd: (-1) fairness_check.Rd:62: Lost braces in \itemize; \value handles \item{}{} directly checkRd: (-1) fairness_check.Rd:63: Lost braces in \itemize; \value handles \item{}{} directly checkRd: (-1) fairness_check.Rd:64: Lost braces in \itemize; \value handles \item{}{} directly checkRd: (-1) fairness_check.Rd:65: Lost braces in \itemize; \value handles \item{}{} directly checkRd: (-1) fairness_check.Rd:66: Lost braces in \itemize; \value handles \item{}{} directly checkRd: (-1) fairness_heatmap.Rd:12: Lost braces 12 | \item{scale}{logical, if code{TRUE} metrics will be scaled to mean 0 and sd 1. Default \code{FALSE}} | ^ checkRd: (-1) fairness_heatmap.Rd:19: Lost braces in \itemize; \value handles \item{}{} directly checkRd: (-1) fairness_heatmap.Rd:20: Lost braces in \itemize; \value handles \item{}{} directly checkRd: (-1) fairness_heatmap.Rd:21: Lost braces in \itemize; \value handles \item{}{} directly checkRd: (-1) fairness_heatmap.Rd:22: Lost braces in \itemize; \value handles \item{}{} directly checkRd: (-1) fairness_pca.Rd:18: Lost braces in \itemize; \value handles \item{}{} directly checkRd: (-1) fairness_pca.Rd:19: Lost braces in \itemize; \value handles \item{}{} directly checkRd: (-1) fairness_pca.Rd:20: Lost braces in \itemize; \value handles \item{}{} directly checkRd: (-1) fairness_pca.Rd:21: Lost braces in \itemize; \value handles \item{}{} directly checkRd: (-1) fairness_pca.Rd:22: Lost braces in \itemize; \value handles \item{}{} directly checkRd: (-1) fairness_radar.Rd:18: Lost braces in \itemize; \value handles \item{}{} directly checkRd: (-1) fairness_radar.Rd:19: Lost braces in \itemize; \value handles \item{}{} directly checkRd: (-1) group_matrices.Rd:25: Lost braces in \itemize; \value handles \item{}{} directly checkRd: (-1) group_matrices.Rd:26: Lost braces in \itemize; \value handles \item{}{} directly checkRd: (-1) group_matrices.Rd:27: Lost braces in \itemize; \value handles \item{}{} directly checkRd: (-1) group_matrices.Rd:28: Lost braces in \itemize; \value handles \item{}{} directly checkRd: (-1) group_metric.Rd:30: Lost braces in \itemize; \value handles \item{}{} directly checkRd: (-1) group_metric.Rd:31: Lost braces in \itemize; \value handles \item{}{} directly checkRd: (-1) group_metric.Rd:32: Lost braces in \itemize; \value handles \item{}{} directly checkRd: (-1) group_metric.Rd:33: Lost braces in \itemize; \value handles \item{}{} directly checkRd: (-1) metric_scores.Rd:18: Lost braces in \itemize; \value handles \item{}{} directly checkRd: (-1) metric_scores.Rd:19: Lost braces in \itemize; \value handles \item{}{} directly checkRd: (-1) performance_and_fairness.Rd:20: Lost braces in \itemize; \value handles \item{}{} directly checkRd: (-1) performance_and_fairness.Rd:21: Lost braces in \itemize; \value handles \item{}{} directly checkRd: (-1) performance_and_fairness.Rd:22: Lost braces in \itemize; \value handles \item{}{} directly checkRd: (-1) performance_and_fairness.Rd:23: Lost braces in \itemize; \value handles \item{}{} directly * checking Rd metadata ... OK * checking Rd line widths ... OK * checking Rd cross-references ... OK * checking for missing documentation entries ... OK * checking for code/documentation mismatches ... OK * checking Rd \usage sections ... OK * checking Rd contents ... OK * checking for unstated dependencies in examples ... OK * checking contents of 'data' directory ... OK * checking data for non-ASCII characters ... OK * checking LazyData ... OK * checking data for ASCII and uncompressed saves ... OK * checking installed files from 'inst/doc' ... OK * checking files in 'vignettes' ... OK * checking examples ... [31s] OK * checking for unstated dependencies in 'tests' ... OK * checking tests ... [29s] OK Running 'testthat.R' [29s] * checking for unstated dependencies in vignettes ... OK * checking package vignettes ... OK * checking re-building of vignette outputs ... [46s] OK * checking PDF version of manual ... [13s] OK * checking HTML version of manual ... OK * DONE Status: 2 NOTEs