* using log directory 'd:/RCompile/CRANincoming/R-devel/estar.Rcheck' * using R Under development (unstable) (2025-11-17 r89032 ucrt) * using platform: x86_64-w64-mingw32 * R was compiled by gcc.exe (GCC) 14.3.0 GNU Fortran (GCC) 14.3.0 * running under: Windows Server 2022 x64 (build 20348) * using session charset: UTF-8 * checking for file 'estar/DESCRIPTION' ... OK * this is package 'estar' version '1.0-0' * package encoding: UTF-8 * checking CRAN incoming feasibility ... NOTE Maintainer: 'Ludmilla Figueiredo ' New submission Possibly misspelled words in DESCRIPTION: Figueiredo (20:1102) al (20:1116) et (20:1113) Found the following (possibly) invalid URLs: URL: https://app.codecov.io/gh/ludmillafigueiredo/estar?branch=main From: README.md Status: 500 Message: Internal Server Error URL: https://doi.org/10.1002/etc.5620150718 From: inst/doc/functional_metrics.html inst/doc/jacobian_metrics.html Status: 500 Message: Internal Server Error URL: https://doi.org/10.1002/etc.5620150719 From: inst/doc/functional_metrics.html inst/doc/jacobian_metrics.html Status: 500 Message: Internal Server Error URL: https://doi.org/10.1073/pnas.1904470116 From: inst/doc/jacobian_metrics.html Status: 500 Message: Internal Server Error URL: https://doi.org/10.1111/ele.13538 From: inst/doc/jacobian_metrics.html Status: 500 Message: Internal Server Error URL: https://doi.org/10.1146/annurev-ecolsys-032416-010215 From: inst/doc/jacobian_metrics.html Status: 500 Message: Internal Server Error URL: https://github.com/ludmillafigueiredo/estar/actions/workflows/R-CMD-check.yaml From: README.md Status: 404 Message: Not Found Found the following (possibly) invalid DOIs: DOI: 10.1016/j.jtbi.2015.10.012 From: man/asympt_resil.Rd man/stoch_var.Rd Status: 500 Message: Internal Server Error DOI: 10.1111/1365-2745.13804 From: man/oev.Rd Status: 500 Message: Internal Server Error DOI: 10.1111/ele.13538 From: man/asympt_resil.Rd man/init_resil.Rd man/reactivity.Rd Status: 500 Message: Internal Server Error DOI: 10.32614/CRAN.package.MARSS From: man/extractB.Rd Status: 500 Message: Internal Server Error DOI: 10.32614/RJ-2012-002 From: man/extractB.Rd Status: 500 Message: Internal Server Error DOI: 10.32942/X2M053 From: DESCRIPTION Status: 500 Message: Internal Server Error DOI: 10.48550/arXiv.2102.09437 From: man/max_amp.Rd Status: 500 Message: Internal Server Error DOI: 10.5281/zenodo.5781847 From: man/extractB.Rd Status: 500 Message: Internal Server Error * checking package namespace information ... OK * checking package dependencies ... OK * checking if this is a source package ... OK * checking if there is a namespace ... OK * checking for hidden files and directories ... OK * checking for portable file names ... OK * checking whether package 'estar' can be installed ... OK * checking installed package size ... OK * checking package directory ... OK * checking for future file timestamps ... OK * checking 'build' directory ... OK * checking DESCRIPTION meta-information ... OK * checking top-level files ... OK * checking for left-over files ... OK * checking index information ... OK * checking package subdirectories ... OK * checking code files for non-ASCII characters ... OK * checking R files for syntax errors ... OK * checking whether the package can be loaded ... OK * checking whether the package can be loaded with stated dependencies ... OK * checking whether the package can be unloaded cleanly ... OK * checking whether the namespace can be loaded with stated dependencies ... OK * checking whether the namespace can be unloaded cleanly ... OK * checking loading without being on the library search path ... OK * checking use of S3 registration ... OK * checking dependencies in R code ... OK * checking S3 generic/method consistency ... OK * checking replacement functions ... OK * checking foreign function calls ... OK * checking R code for possible problems ... OK * checking Rd files ... OK * checking Rd metadata ... OK * checking Rd line widths ... OK * checking Rd cross-references ... OK * checking for missing documentation entries ... OK * checking for code/documentation mismatches ... OK * checking Rd \usage sections ... OK * checking Rd contents ... OK * checking for unstated dependencies in examples ... OK * checking contents of 'data' directory ... OK * checking data for non-ASCII characters ... OK * checking LazyData ... OK * checking data for ASCII and uncompressed saves ... OK * checking installed files from 'inst/doc' ... OK * checking files in 'vignettes' ... OK * checking examples ... OK * checking for unstated dependencies in 'tests' ... OK * checking tests ... OK Running 'testthat.R' * checking for unstated dependencies in vignettes ... OK * checking package vignettes ... OK * checking re-building of vignette outputs ... [150s] OK * checking PDF version of manual ... [17s] OK * checking HTML version of manual ... OK * DONE Status: 1 NOTE