* using log directory ‘/srv/hornik/tmp/CRAN_pretest/eefAnalytics.Rcheck’ * using R Under development (unstable) (2024-10-04 r87208) * using platform: x86_64-pc-linux-gnu * R was compiled by Debian clang version 18.1.8 (9) Debian flang-new version 18.1.8 (9) * running under: Debian GNU/Linux trixie/sid * using session charset: UTF-8 * checking for file ‘eefAnalytics/DESCRIPTION’ ... OK * checking extension type ... Package * this is package ‘eefAnalytics’ version ‘1.1.2’ * package encoding: UTF-8 * checking CRAN incoming feasibility ... [4s/4s] NOTE Maintainer: ‘Germaine Uwimpuhwe ’ No Authors@R field in DESCRIPTION. Please add one, modifying Authors@R: c(person(given = "Germaine", family = "Uwimpuhwe", role = c("aut", "cre"), email = "germaine.uwimpuhwe@durham.ac.uk"), person(given = "Qing", family = "Zhang", role = "aut"), person(given = "Akansha", family = "Singh", role = "aut"), person(given = "Dimitris", family = "Vallis", role = "aut"), person(given = "Steve", family = "Higgins", role = "aut"), person(given = "ZhiMin", family = "Xiao", role = "aut"), person(given = "Ewoud", family = "De Troyer", role = "aut"), person(given = "Adetayo", family = "Kasim", role = "aut")) as necessary. * checking package namespace information ... OK * checking package dependencies ... OK * checking if this is a source package ... OK * checking if there is a namespace ... OK * checking for executable files ... OK * checking for hidden files and directories ... OK * checking for portable file names ... OK * checking for sufficient/correct file permissions ... OK * checking whether package ‘eefAnalytics’ can be installed ... [6s/6s] OK * checking package directory ... OK * checking for future file timestamps ... OK * checking ‘build’ directory ... OK * checking DESCRIPTION meta-information ... OK * checking top-level files ... OK * checking for left-over files ... OK * checking index information ... OK * checking package subdirectories ... OK * checking code files for non-ASCII characters ... OK * checking R files for syntax errors ... OK * checking whether the package can be loaded ... [1s/1s] OK * checking whether the package can be loaded with stated dependencies ... [1s/1s] OK * checking whether the package can be unloaded cleanly ... [1s/1s] OK * checking whether the namespace can be loaded with stated dependencies ... [1s/1s] OK * checking whether the namespace can be unloaded cleanly ... [1s/1s] OK * checking loading without being on the library search path ... [1s/1s] OK * checking use of S3 registration ... OK * checking dependencies in R code ... OK * checking S3 generic/method consistency ... OK * checking replacement functions ... OK * checking foreign function calls ... OK * checking R code for possible problems ... [11s/11s] OK * checking Rd files ... [0s/0s] OK * checking Rd metadata ... OK * checking Rd line widths ... OK * checking Rd cross-references ... OK * checking for missing documentation entries ... OK * checking for code/documentation mismatches ... OK * checking Rd \usage sections ... OK * checking Rd contents ... OK * checking for unstated dependencies in examples ... OK * checking contents of ‘data’ directory ... OK * checking data for non-ASCII characters ... [0s/0s] OK * checking LazyData ... OK * checking data for ASCII and uncompressed saves ... OK * checking installed files from ‘inst/doc’ ... OK * checking files in ‘vignettes’ ... OK * checking examples ... [91s/91s] NOTE Examples with CPU (user + system) or elapsed time > 5s user system elapsed GainIndex 88.656 0.079 88.777 * checking for unstated dependencies in vignettes ... OK * checking package vignettes ... OK * checking re-building of vignette outputs ... [2s/2s] OK * checking PDF version of manual ... [3s/3s] OK * checking HTML version of manual ... [0s/0s] OK * checking for non-standard things in the check directory ... OK * checking for detritus in the temp directory ... OK * DONE Status: 2 NOTEs