* using log directory 'd:/RCompile/CRANincoming/R-devel/dsBaseClient.Rcheck' * using R Under development (unstable) (2025-10-28 r88973 ucrt) * using platform: x86_64-w64-mingw32 * R was compiled by gcc.exe (GCC) 14.2.0 GNU Fortran (GCC) 14.2.0 * running under: Windows Server 2022 x64 (build 20348) * using session charset: UTF-8 * checking for file 'dsBaseClient/DESCRIPTION' ... OK * this is package 'dsBaseClient' version '6.3.4.1' * package encoding: UTF-8 * checking CRAN incoming feasibility ... [54s] NOTE Maintainer: 'Stuart Wheater ' New submission Possibly misspelled words in DESCRIPTION: disclosive (5:19, 6:37) Found the following (possibly) invalid URLs: URL: https://www.gnu.org/licenses/gpl-3.0.html From: README.md Status: Error Message: Timeout was reached [www.gnu.org]: Failed to connect to www.gnu.org port 443 after 21031 ms: Could not connect to server * checking package namespace information ... OK * checking package dependencies ... OK * checking if this is a source package ... OK * checking if there is a namespace ... OK * checking for hidden files and directories ... OK * checking for portable file names ... OK * checking whether package 'dsBaseClient' can be installed ... OK * checking installed package size ... OK * checking package directory ... OK * checking for future file timestamps ... OK * checking DESCRIPTION meta-information ... OK * checking top-level files ... OK * checking for left-over files ... OK * checking index information ... OK * checking package subdirectories ... OK * checking code files for non-ASCII characters ... OK * checking R files for syntax errors ... OK * checking whether the package can be loaded ... OK * checking whether the package can be loaded with stated dependencies ... OK * checking whether the package can be unloaded cleanly ... OK * checking whether the namespace can be loaded with stated dependencies ... OK * checking whether the namespace can be unloaded cleanly ... OK * checking loading without being on the library search path ... OK * checking use of S3 registration ... OK * checking dependencies in R code ... OK * checking S3 generic/method consistency ... OK * checking replacement functions ... OK * checking foreign function calls ... OK * checking R code for possible problems ... [21s] OK * checking Rd files ... NOTE checkRd: (-1) ds.asFactor.Rd:98-110: Only 5 columns allowed in this table (row 1 has 4) checkRd: (-1) ds.asFactor.Rd:98-110: Only 5 columns allowed in this table (row 2 has 4) checkRd: (-1) ds.asFactor.Rd:98-110: Only 5 columns allowed in this table (row 3 has 4) checkRd: (-1) ds.asFactor.Rd:98-110: Only 5 columns allowed in this table (row 4 has 4) checkRd: (-1) ds.asFactor.Rd:98-110: Only 5 columns allowed in this table (row 5 has 4) checkRd: (-1) ds.asFactor.Rd:98-110: Only 5 columns allowed in this table (row 6 has 4) checkRd: (-1) ds.asFactor.Rd:98-110: Only 5 columns allowed in this table (row 7 has 4) checkRd: (-1) ds.asFactor.Rd:98-110: Only 5 columns allowed in this table (row 8 has 4) checkRd: (-1) ds.asFactor.Rd:98-110: Only 5 columns allowed in this table (row 9 has 4) checkRd: (-1) ds.asFactor.Rd:98-110: Only 5 columns allowed in this table (row 10 has 4) checkRd: (-1) ds.asFactor.Rd:98-110: Only 5 columns allowed in this table (row 11 has 4) * checking Rd metadata ... OK * checking Rd line widths ... OK * checking Rd cross-references ... OK * checking for missing documentation entries ... OK * checking for code/documentation mismatches ... OK * checking Rd \usage sections ... OK * checking Rd contents ... OK * checking for unstated dependencies in examples ... OK * checking examples ... OK * checking for unstated dependencies in 'tests' ... OK * checking tests ... OK Running 'testthat.R' * checking PDF version of manual ... [17s] OK * checking HTML version of manual ... [23s] OK * DONE Status: 2 NOTEs