* using log directory 'd:/RCompile/CRANincoming/R-devel/distionary.Rcheck' * using R Under development (unstable) (2025-11-06 r88990 ucrt) * using platform: x86_64-w64-mingw32 * R was compiled by gcc.exe (GCC) 14.3.0 GNU Fortran (GCC) 14.3.0 * running under: Windows Server 2022 x64 (build 20348) * using session charset: UTF-8 * checking for file 'distionary/DESCRIPTION' ... OK * this is package 'distionary' version '0.1.0' * package encoding: UTF-8 * checking CRAN incoming feasibility ... NOTE Maintainer: 'Vincenzo Coia ' New submission Possibly misspelled words in DESCRIPTION: probaverse (15:21) Found the following (possibly) invalid file URIs: URI: ./articles/specify-built-in.html From: README.md URI: ./articles/specify-user-defined.html From: README.md URI: ./articles/evaluate.html From: README.md URI: ./CODE_OF_CONDUCT.html From: README.md * checking package namespace information ... OK * checking package dependencies ... OK * checking if this is a source package ... OK * checking if there is a namespace ... OK * checking for hidden files and directories ... OK * checking for portable file names ... OK * checking serialization versions ... OK * checking whether package 'distionary' can be installed ... OK * checking installed package size ... OK * checking package directory ... OK * checking for future file timestamps ... OK * checking 'build' directory ... OK * checking DESCRIPTION meta-information ... NOTE Missing dependency on R >= 4.1.0 because package code uses the pipe |> or function shorthand \(...) syntax added in R 4.1.0. File(s) using such syntax: 'dst_beta.R' 'dst_binom.R' 'dst_cauchy.R' 'dst_chisq.R' 'dst_degenerate.R' 'dst_exp.R' 'dst_f.R' 'dst_finite.R' 'dst_geom.R' 'dst_gev.R' 'dst_gp.R' 'dst_hyper.R' 'dst_lnorm.R' 'dst_nbinom.R' 'dst_norm.R' 'dst_null.R' 'dst_pearson3.R' 'dst_pois.R' 'dst_t.R' 'dst_unif.R' 'dst_weibull.R' 'eval_from_network-kurtosis.R' 'eval_property.Rd' 'print.R' 'representation_as_function.R' * checking top-level files ... OK * checking for left-over files ... OK * checking index information ... OK * checking package subdirectories ... OK * checking code files for non-ASCII characters ... OK * checking R files for syntax errors ... OK * checking whether the package can be loaded ... OK * checking whether the package can be loaded with stated dependencies ... OK * checking whether the package can be unloaded cleanly ... OK * checking whether the namespace can be loaded with stated dependencies ... OK * checking whether the namespace can be unloaded cleanly ... OK * checking loading without being on the library search path ... OK * checking use of S3 registration ... OK * checking dependencies in R code ... OK * checking S3 generic/method consistency ... OK * checking replacement functions ... OK * checking foreign function calls ... OK * checking R code for possible problems ... OK * checking Rd files ... OK * checking Rd metadata ... OK * checking Rd line widths ... OK * checking Rd cross-references ... OK * checking for missing documentation entries ... OK * checking for code/documentation mismatches ... OK * checking Rd \usage sections ... OK * checking Rd contents ... OK * checking for unstated dependencies in examples ... OK * checking R/sysdata.rda ... OK * checking installed files from 'inst/doc' ... OK * checking files in 'vignettes' ... OK * checking examples ... OK * checking for unstated dependencies in 'tests' ... OK * checking tests ... [66s] OK Running 'testthat.R' [66s] * checking for unstated dependencies in vignettes ... OK * checking package vignettes ... OK * checking re-building of vignette outputs ... OK * checking PDF version of manual ... [21s] OK * checking HTML version of manual ... OK * DONE Status: 2 NOTEs