* using log directory 'd:/RCompile/CRANincoming/R-devel/distanceHD.Rcheck' * using R Under development (unstable) (2025-01-28 r87664 ucrt) * using platform: x86_64-w64-mingw32 * R was compiled by gcc.exe (GCC) 13.3.0 GNU Fortran (GCC) 13.3.0 * running under: Windows Server 2022 x64 (build 20348) * using session charset: UTF-8 * checking for file 'distanceHD/DESCRIPTION' ... OK * checking extension type ... Package * this is package 'distanceHD' version '1.0' * package encoding: UTF-8 * checking CRAN incoming feasibility ... NOTE Maintainer: 'Jung Ae Lee ' New submission Possibly misspelled words in DESCRIPTION: Centroid (8:161) MDP (8:434) Mahalanobis (8:283) centroids (8:232) invertibility (8:374) No Authors@R field in DESCRIPTION. Please add one, modifying Authors@R: c(person(given = c("Jung", "Ae", "Lee;", "Jeongyoun", "Ahn"), family = "", role = "aut", email = "jyahn@kaist.ac.kr"), person(given = c("Jung", "Ae"), family = "Lee", role = "cre", email = "jungaeleeb@gmail.com")) as necessary. The Description field should not start with the package name, 'This package' or similar. * checking package namespace information ... OK * checking package dependencies ... OK * checking if this is a source package ... OK * checking if there is a namespace ... OK * checking for hidden files and directories ... OK * checking for portable file names ... OK * checking whether package 'distanceHD' can be installed ... OK * checking installed package size ... OK * checking package directory ... OK * checking for future file timestamps ... OK * checking DESCRIPTION meta-information ... OK * checking top-level files ... OK * checking for left-over files ... OK * checking index information ... OK * checking package subdirectories ... OK * checking code files for non-ASCII characters ... OK * checking R files for syntax errors ... OK * checking whether the package can be loaded ... OK * checking whether the package can be loaded with stated dependencies ... OK * checking whether the package can be unloaded cleanly ... OK * checking whether the namespace can be loaded with stated dependencies ... OK * checking whether the namespace can be unloaded cleanly ... OK * checking loading without being on the library search path ... OK * checking use of S3 registration ... OK * checking dependencies in R code ... NOTE 'library' or 'require' call to 'MASS' which was already attached by Depends. Please remove these calls from your code. * checking S3 generic/method consistency ... OK * checking replacement functions ... OK * checking foreign function calls ... OK * checking R code for possible problems ... OK * checking Rd files ... OK * checking Rd metadata ... OK * checking Rd line widths ... OK * checking Rd cross-references ... OK * checking for missing documentation entries ... OK * checking for code/documentation mismatches ... OK * checking Rd \usage sections ... OK * checking Rd contents ... OK * checking for unstated dependencies in examples ... OK * checking contents of 'data' directory ... OK * checking data for non-ASCII characters ... OK * checking data for ASCII and uncompressed saves ... OK * checking examples ... OK * checking PDF version of manual ... [17s] OK * checking HTML version of manual ... OK * DONE Status: 2 NOTEs