* using log directory ‘/srv/hornik/tmp/CRAN_pretest/devianLM.Rcheck’ * using R Under development (unstable) (2025-11-14 r89018) * using platform: x86_64-pc-linux-gnu * R was compiled by Debian clang version 21.1.5 (1) Debian flang version 21.1.5 (1) * running under: Debian GNU/Linux forky/sid * using session charset: UTF-8 * checking for file ‘devianLM/DESCRIPTION’ ... OK * checking extension type ... Package * this is package ‘devianLM’ version ‘1.0.6’ * package encoding: UTF-8 * checking CRAN incoming feasibility ... [4s/6s] NOTE Maintainer: ‘Geoffroy Berthelot ’ Days since last update: 4 New maintainer: Geoffroy Berthelot Old maintainer(s): Guillaume Sauliere * checking package namespace information ... OK * checking package dependencies ... OK * checking if this is a source package ... OK * checking if there is a namespace ... OK * checking for executable files ... OK * checking for hidden files and directories ... OK * checking for portable file names ... OK * checking for sufficient/correct file permissions ... OK * checking serialization versions ... OK * checking whether package ‘devianLM’ can be installed ... [10s/10s] OK * used C++ compiler: ‘Debian clang version 21.1.5 (1)’ * checking package directory ... OK * checking for future file timestamps ... OK * checking DESCRIPTION meta-information ... NOTE Author field differs from that derived from Authors@R Author: ‘Guillaume Sauliere [aut] (ORCID: ), Geoffroy Berthelot [aut, cre], (ORCID: ), Jérôme Dedecker [aut] (ORCID: https://orcid.org/0000-0002-8838-0356),’ Authors@R: ‘Guillaume Sauliere [aut] (ORCID: ), Geoffroy Berthelot [aut, cre], Jérôme Dedecker [aut]’ * checking top-level files ... OK * checking for left-over files ... OK * checking index information ... OK * checking package subdirectories ... OK * checking code files for non-ASCII characters ... OK * checking R files for syntax errors ... OK * checking whether the package can be loaded ... [0s/0s] OK * checking whether the package can be loaded with stated dependencies ... [0s/0s] OK * checking whether the package can be unloaded cleanly ... [0s/0s] OK * checking whether the namespace can be loaded with stated dependencies ... [0s/0s] OK * checking whether the namespace can be unloaded cleanly ... [0s/0s] OK * checking loading without being on the library search path ... [0s/0s] OK * checking use of S3 registration ... OK * checking dependencies in R code ... OK * checking S3 generic/method consistency ... OK * checking replacement functions ... OK * checking foreign function calls ... OK * checking R code for possible problems ... [2s/2s] OK * checking Rd files ... [0s/0s] OK * checking Rd metadata ... OK * checking Rd line widths ... OK * checking Rd cross-references ... OK * checking for missing documentation entries ... OK * checking for code/documentation mismatches ... OK * checking Rd \usage sections ... OK * checking Rd contents ... OK * checking for unstated dependencies in examples ... OK * checking contents of ‘data’ directory ... OK * checking data for non-ASCII characters ... [0s/0s] OK * checking LazyData ... OK * checking data for ASCII and uncompressed saves ... OK * checking line endings in C/C++/Fortran sources/headers ... OK * checking line endings in Makefiles ... OK * checking compilation flags in Makevars ... OK * checking for GNU extensions in Makefiles ... OK * checking for portable use of $(BLAS_LIBS) and $(LAPACK_LIBS) ... OK * checking use of PKG_*FLAGS in Makefiles ... OK * checking use of SHLIB_OPENMP_*FLAGS in Makefiles ... OK * checking pragmas in C/C++ headers and code ... OK * checking compilation flags used ... OK * checking compiled code ... OK * checking examples ... [0s/0s] OK * checking PDF version of manual ... [3s/3s] OK * checking HTML version of manual ... [0s/0s] OK * checking for non-standard things in the check directory ... OK * checking for detritus in the temp directory ... OK * DONE Status: 2 NOTEs