* using log directory 'd:/RCompile/CRANincoming/R-devel/devRate.Rcheck' * using R Under development (unstable) (2025-10-27 r88972 ucrt) * using platform: x86_64-w64-mingw32 * R was compiled by gcc.exe (GCC) 14.2.0 GNU Fortran (GCC) 14.2.0 * running under: Windows Server 2022 x64 (build 20348) * using session charset: UTF-8 * checking for file 'devRate/DESCRIPTION' ... OK * checking extension type ... Package * this is package 'devRate' version '0.2.6' * package encoding: UTF-8 * checking CRAN incoming feasibility ... [11s] NOTE Maintainer: 'Francois Rebaudo ' New submission Package was archived on CRAN Possibly misspelled words in DESCRIPTION: Ectotherms (4:24) Rabhi (28:62) Rebaudo (27:71, 28:50, 30:32) Regnier (29:34) al (28:8, 29:45, 30:43) ectotherms (27:8) et (28:5, 29:42, 30:40) phenological (25:39) CRAN repository db overrides: X-CRAN-Comment: Archived on 2025-10-23 as check issues were not corrected in time. Found the following (possibly) invalid URLs: URL: https://en.wikipedia.org/wiki/Bactrocera_dorsalis From: inst/doc/guiaDelUsuario.html Status: 429 Message: Too Many Requests URL: https://en.wikipedia.org/wiki/Ren%C3%A9_Antoine_Ferchault_de_R%C3%A9aumur From: inst/doc/guiaDelUsuario.html Status: 429 Message: Too Many Requests * checking package namespace information ... OK * checking package dependencies ... OK * checking if this is a source package ... OK * checking if there is a namespace ... OK * checking for hidden files and directories ... OK * checking for portable file names ... OK * checking whether package 'devRate' can be installed ... OK * checking installed package size ... OK * checking package directory ... OK * checking for future file timestamps ... OK * checking 'build' directory ... OK * checking DESCRIPTION meta-information ... OK * checking top-level files ... OK * checking for left-over files ... OK * checking index information ... OK * checking package subdirectories ... OK * checking code files for non-ASCII characters ... OK * checking R files for syntax errors ... OK * checking whether the package can be loaded ... OK * checking whether the package can be loaded with stated dependencies ... OK * checking whether the package can be unloaded cleanly ... OK * checking whether the namespace can be loaded with stated dependencies ... OK * checking whether the namespace can be unloaded cleanly ... OK * checking loading without being on the library search path ... OK * checking use of S3 registration ... OK * checking dependencies in R code ... OK * checking S3 generic/method consistency ... OK * checking replacement functions ... OK * checking foreign function calls ... OK * checking R code for possible problems ... OK * checking Rd files ... OK * checking Rd metadata ... OK * checking Rd line widths ... OK * checking Rd cross-references ... OK * checking for missing documentation entries ... OK * checking for code/documentation mismatches ... OK * checking Rd \usage sections ... OK * checking Rd contents ... OK * checking for unstated dependencies in examples ... OK * checking contents of 'data' directory ... OK * checking data for non-ASCII characters ... OK * checking LazyData ... OK * checking data for ASCII and uncompressed saves ... OK * checking installed files from 'inst/doc' ... OK * checking files in 'vignettes' ... OK * checking examples ... OK * checking for unstated dependencies in 'tests' ... OK * checking tests ... [11s] OK Running 'testthat.R' [11s] * checking for unstated dependencies in vignettes ... OK * checking package vignettes ... OK * checking re-building of vignette outputs ... [19s] OK * checking PDF version of manual ... [21s] OK * checking HTML version of manual ... [12s] OK * DONE Status: 1 NOTE