* using log directory 'd:/RCompile/CRANincoming/R-devel/datamedios.Rcheck' * using R Under development (unstable) (2025-01-22 r87618 ucrt) * using platform: x86_64-w64-mingw32 * R was compiled by gcc.exe (GCC) 13.3.0 GNU Fortran (GCC) 13.3.0 * running under: Windows Server 2022 x64 (build 20348) * using session charset: UTF-8 * checking for file 'datamedios/DESCRIPTION' ... OK * checking extension type ... Package * this is package 'datamedios' version '1.1.0' * package encoding: UTF-8 * checking CRAN incoming feasibility ... NOTE Maintainer: 'Exequiel Trujillo ' New submission Possibly misspelled words in DESCRIPTION: El (12:56) Todo (16:35) Un (11:14) almacenarlos (16:3) chilenos (3:27, 11:74, 18:10) datos (15:47, 16:28) de (3:17, 11:47, 11:57, 12:30, 12:40, 13:14, 13:42, 16:25, 16:60, 17:46, 17:72) devuelve (14:3) el (17:33) esto (16:40) estructurado (14:41) extraer (11:30) facilitando (17:3) fecha (13:69) ficamente (12:10) filtros (13:57) formato (14:33) frases (13:35) funciones (15:20) hacer (16:54) incluye (15:12) limpiar (15:35) lisis (14:73, 17:40) listo (14:55) los (14:12, 15:43, 17:75) manera (16:63) mediante (13:26) medios (3:20, 11:50, 18:3) noticias (11:38, 13:17) paquete (12:59) permite (12:67) por (13:65) puede (16:48) realizar (12:75) relevante (17:62) resultados (14:16) se (16:45) sistema (11:17) squeda (13:48) squedas (13:6) su (14:66) tica (16:77) un (14:30) visualizarlos (15:65) Authors@R field gives persons with deprecated or bad elements: Warning in person1(given = given[[i]], family = family[[i]], middle = middle[[i]], : It is recommended to use 'given' instead of 'middle'. Warning in person1(given = given[[i]], family = family[[i]], middle = middle[[i]], : It is recommended to use 'given' instead of 'middle'. The Title field should be in title case. Current version is: 'Scraping de medios chilenos' In title case that is: 'Scraping De Medios Chilenos' * checking package namespace information ... OK * checking package dependencies ... OK * checking if this is a source package ... OK * checking if there is a namespace ... OK * checking for hidden files and directories ... NOTE Found the following hidden files and directories: .github These were most likely included in error. See section 'Package structure' in the 'Writing R Extensions' manual. CRAN-pack does not know about .github * checking for portable file names ... OK * checking whether package 'datamedios' can be installed ... OK * checking installed package size ... OK * checking package directory ... OK * checking for future file timestamps ... OK * checking DESCRIPTION meta-information ... OK * checking top-level files ... OK * checking for left-over files ... OK * checking index information ... OK * checking package subdirectories ... OK * checking code files for non-ASCII characters ... OK * checking R files for syntax errors ... OK * checking whether the package can be loaded ... OK * checking whether the package can be loaded with stated dependencies ... OK * checking whether the package can be unloaded cleanly ... OK * checking whether the namespace can be loaded with stated dependencies ... OK * checking whether the namespace can be unloaded cleanly ... OK * checking loading without being on the library search path ... OK * checking use of S3 registration ... OK * checking dependencies in R code ... OK * checking S3 generic/method consistency ... OK * checking replacement functions ... OK * checking foreign function calls ... OK * checking R code for possible problems ... OK * checking Rd files ... OK * checking Rd metadata ... OK * checking Rd line widths ... OK * checking Rd cross-references ... OK * checking for missing documentation entries ... OK * checking for code/documentation mismatches ... OK * checking Rd \usage sections ... OK * checking Rd contents ... OK * checking for unstated dependencies in examples ... OK * checking examples ... [93s] NOTE Examples with CPU (user + system) or elapsed time > 10s user system elapsed tabla_frecuencia_palabras 11.09 0.33 28.19 extraer_noticias_fecha 4.02 0.06 59.30 * checking PDF version of manual ... [13s] OK * checking HTML version of manual ... OK * DONE Status: 3 NOTEs