* using log directory ‘/srv/hornik/tmp/CRAN_pretest/datamedios.Rcheck’ * using R Under development (unstable) (2025-01-22 r87618) * using platform: x86_64-pc-linux-gnu * R was compiled by Debian clang version 19.1.6 (1+b1) Debian flang-new version 19.1.6 (1+b1) * running under: Debian GNU/Linux trixie/sid * using session charset: UTF-8 * checking for file ‘datamedios/DESCRIPTION’ ... OK * checking extension type ... Package * this is package ‘datamedios’ version ‘1.1.0’ * package encoding: UTF-8 * checking CRAN incoming feasibility ... [3s/4s] NOTE Maintainer: ‘Exequiel Trujillo ’ New submission Possibly misspelled words in DESCRIPTION: Además (15:3) BíoBío (12:41) El (12:52) Todo (16:35) Un (11:14) almacenarlos (16:3) análisis (14:69, 17:35) automática (16:70) búsqueda (13:44) búsquedas (13:3) chilenos (3:27, 11:73, 18:10) comunicación (11:60) datos (15:46, 16:28) de (3:17, 11:47, 11:57, 12:28, 12:38, 13:13, 13:41, 16:25, 16:60, 17:44, 17:69) devuelve (14:3) el (17:32) específicamente (12:3) esto (16:40) estructurado (14:41) extraer (11:30) extraídos (15:52) facilitando (17:3) fecha (13:67) filtros (13:55) formato (14:33) frases (13:34) funciones (15:19) hacer (16:54) incluye (15:11) información (17:47) limpiar (15:34) listo (14:55) los (14:12, 15:42, 17:72) manera (16:63) mediante (13:25) medios (3:20, 11:50, 18:3) noticias (11:38, 13:16) paquete (12:55) permite (12:63) por (13:63) puede (16:48) realizar (12:71) recolección (17:18) relevante (17:59) resultados (14:16) se (16:45) sistema (11:17) su (14:66) través (12:21) un (14:30) visualizarlos (15:63) Authors@R field gives persons with deprecated or bad elements: Warning in person1(given = given[[i]], family = family[[i]], middle = middle[[i]], : It is recommended to use ‘given’ instead of ‘middle’. Calls: ... FUN -> with -> with.default -> eval -> eval -> person1 Warning in person1(given = given[[i]], family = family[[i]], middle = middle[[i]], : It is recommended to use ‘given’ instead of ‘middle’. Calls: ... FUN -> with -> with.default -> eval -> eval -> person1 The Title field should be in title case. Current version is: ‘Scraping de medios chilenos’ In title case that is: ‘Scraping De Medios Chilenos’ * checking package namespace information ... OK * checking package dependencies ... OK * checking if this is a source package ... OK * checking if there is a namespace ... OK * checking for executable files ... OK * checking for hidden files and directories ... NOTE Found the following hidden files and directories: .github These were most likely included in error. See section ‘Package structure’ in the ‘Writing R Extensions’ manual. CRAN-pack does not know about .github * checking for portable file names ... OK * checking for sufficient/correct file permissions ... OK * checking whether package ‘datamedios’ can be installed ... [2s/2s] OK * checking package directory ... OK * checking for future file timestamps ... OK * checking DESCRIPTION meta-information ... OK * checking top-level files ... OK * checking for left-over files ... OK * checking index information ... OK * checking package subdirectories ... OK * checking code files for non-ASCII characters ... OK * checking R files for syntax errors ... OK * checking whether the package can be loaded ... [0s/0s] OK * checking whether the package can be loaded with stated dependencies ... [0s/0s] OK * checking whether the package can be unloaded cleanly ... [0s/0s] OK * checking whether the namespace can be loaded with stated dependencies ... [0s/0s] OK * checking whether the namespace can be unloaded cleanly ... [0s/0s] OK * checking loading without being on the library search path ... [0s/0s] OK * checking use of S3 registration ... OK * checking dependencies in R code ... OK * checking S3 generic/method consistency ... OK * checking replacement functions ... OK * checking foreign function calls ... OK * checking R code for possible problems ... [3s/3s] OK * checking Rd files ... [0s/0s] OK * checking Rd metadata ... OK * checking Rd line widths ... OK * checking Rd cross-references ... OK * checking for missing documentation entries ... OK * checking for code/documentation mismatches ... OK * checking Rd \usage sections ... OK * checking Rd contents ... OK * checking for unstated dependencies in examples ... OK * checking examples ... [12s/49s] NOTE Examples with CPU (user + system) or elapsed time > 5s user system elapsed tabla_frecuencia_palabras 8.071 0.111 18.826 extraer_noticias_fecha 2.620 0.117 26.849 * checking PDF version of manual ... [2s/2s] OK * checking HTML version of manual ... [0s/0s] OK * checking for non-standard things in the check directory ... OK * checking for detritus in the temp directory ... OK * DONE Status: 3 NOTEs