* using log directory 'd:/RCompile/CRANincoming/R-devel/dabestr.Rcheck' * using R Under development (unstable) (2025-10-25 r88970 ucrt) * using platform: x86_64-w64-mingw32 * R was compiled by gcc.exe (GCC) 14.2.0 GNU Fortran (GCC) 14.2.0 * running under: Windows Server 2022 x64 (build 20348) * using session charset: UTF-8 * checking for file 'dabestr/DESCRIPTION' ... OK * checking extension type ... Package * this is package 'dabestr' version '2025.3.15' * package encoding: UTF-8 * checking CRAN incoming feasibility ... [11s] NOTE Maintainer: 'Yishan Mai ' CRAN repository db overrides: License_is_FOSS: yes Found the following (possibly) invalid URLs: URL: https://en.wikipedia.org/wiki/Estimation_statistics From: README.md Status: 429 Message: Too Many Requests URL: https://training.cochrane.org/handbook/current/chapter-10 (moved to https://www.cochrane.org/authors/handbooks-and-manuals/handbook/current/chapter-10) From: inst/doc/tutorial_minimeta.html Status: 301 Message: Moved Permanently For content that is 'Moved Permanently', please change http to https, add trailing slashes, or replace the old by the new URL. * checking package namespace information ... OK * checking package dependencies ... OK * checking if this is a source package ... OK * checking if there is a namespace ... OK * checking for hidden files and directories ... OK * checking for portable file names ... OK * checking serialization versions ... OK * checking whether package 'dabestr' can be installed ... OK * checking installed package size ... OK * checking package directory ... OK * checking for future file timestamps ... OK * checking 'build' directory ... OK * checking DESCRIPTION meta-information ... NOTE Author field differs from that derived from Authors@R Author: 'Joses W. Ho [aut], Kah Seng Lian [aut], Ana Rosa Castillo [aut], Zhuoyu Wang [aut], Jun Yang Liao [aut], Felicia Low [aut], Tayfun Tumkaya [aut], Jonathan Anns [ctb], Yishan Mai [cre, ctb], Sangyu Xu [ctb], Zinan Lu [ctb], Hyungwon Choi [ctb], Adam Claridge-Chang [ctb], ACCLAB [cph, fnd]' Authors@R: 'Joses W. Ho [aut] (ORCID: ), Kah Seng Lian [aut], Ana Rosa Castillo [aut], Zhuoyu Wang [aut], Jun Yang Liao [aut], Felicia Low [aut], Tayfun Tumkaya [aut] (ORCID: ), Jonathan Anns [ctb] (ORCID: ), Yishan Mai [cre, ctb] (ORCID: ), Sangyu Xu [ctb] (ORCID: ), Zinan Lu [ctb], Hyungwon Choi [ctb] (ORCID: ), Adam Claridge-Chang [ctb] (ORCID: ), ACCLAB [cph, fnd]' * checking top-level files ... OK * checking for left-over files ... OK * checking index information ... OK * checking package subdirectories ... OK * checking code files for non-ASCII characters ... OK * checking R files for syntax errors ... OK * checking whether the package can be loaded ... OK * checking whether the package can be loaded with stated dependencies ... OK * checking whether the package can be unloaded cleanly ... OK * checking whether the namespace can be loaded with stated dependencies ... OK * checking whether the namespace can be unloaded cleanly ... OK * checking loading without being on the library search path ... OK * checking use of S3 registration ... OK * checking dependencies in R code ... OK * checking S3 generic/method consistency ... OK * checking replacement functions ... OK * checking foreign function calls ... OK * checking R code for possible problems ... [12s] OK * checking Rd files ... OK * checking Rd metadata ... OK * checking Rd line widths ... OK * checking Rd cross-references ... OK * checking for missing documentation entries ... OK * checking for code/documentation mismatches ... OK * checking Rd \usage sections ... OK * checking Rd contents ... OK * checking for unstated dependencies in examples ... OK * checking contents of 'data' directory ... OK * checking data for non-ASCII characters ... OK * checking LazyData ... OK * checking data for ASCII and uncompressed saves ... OK * checking installed files from 'inst/doc' ... OK * checking files in 'vignettes' ... OK * checking examples ... OK * checking for unstated dependencies in 'tests' ... OK * checking tests ... [38s] OK Running 'testthat.R' [38s] * checking for unstated dependencies in vignettes ... OK * checking package vignettes ... OK * checking re-building of vignette outputs ... [124s] OK * checking PDF version of manual ... [16s] OK * checking HTML version of manual ... OK * DONE Status: 2 NOTEs