* using log directory ‘/srv/hornik/tmp/CRAN_pretest/cpp4r.Rcheck’ * using R Under development (unstable) (2025-09-30 r88885) * using platform: x86_64-pc-linux-gnu * R was compiled by Debian clang version 19.1.7 (3+b1) Debian flang-new version 19.1.7 (3+b1) * running under: Debian GNU/Linux forky/sid * using session charset: UTF-8 * checking for file ‘cpp4r/DESCRIPTION’ ... OK * this is package ‘cpp4r’ version ‘0.1.0’ * package encoding: UTF-8 * checking CRAN incoming feasibility ... [5s/7s] NOTE Maintainer: ‘Mauricio Vargas Sepulveda ’ New submission Package has a VignetteBuilder field but no prebuilt vignette index. Found the following (possibly) invalid URLs: URL: https://cpp4r.org/articles/internals.html From: README.md Status: 404 Message: Not Found URL: https://cpp4r.org/articles/motivations.html#vendoring From: README.md Status: 404 Message: Not Found URL: https://cran.r-project.org/package=cpp From: README.md Status: 404 Message: Not Found URL: https://en.cppreference.com/w/cpp/header/type_traits (moved to https://en.cppreference.com/w/cpp/header/type_traits.html) From: inst/doc/00-motivations.html Status: 301 Message: Moved Permanently URL: https://en.cppreference.com/w/cpp/language/attributes (moved to https://en.cppreference.com/w/cpp/language/attributes.html) From: inst/doc/00-motivations.html Status: 301 Message: Moved Permanently URL: https://en.cppreference.com/w/cpp/language/constraints (moved to https://en.cppreference.com/w/cpp/language/constraints.html) From: inst/doc/14-internals.html Status: 301 Message: Moved Permanently URL: https://en.cppreference.com/w/cpp/language/list_initialization (moved to https://en.cppreference.com/w/cpp/language/list_initialization.html) From: inst/doc/15-FAQ.html Status: 301 Message: Moved Permanently URL: https://en.cppreference.com/w/cpp/language/move_constructor (moved to https://en.cppreference.com/w/cpp/language/move_constructor.html) From: inst/doc/00-motivations.html Status: 301 Message: Moved Permanently URL: https://en.cppreference.com/w/cpp/language/parameter_pack (moved to https://en.cppreference.com/w/cpp/language/parameter_pack.html) From: inst/doc/00-motivations.html Status: 301 Message: Moved Permanently URL: https://en.cppreference.com/w/cpp/language/user_literal (moved to https://en.cppreference.com/w/cpp/language/user_literal.html) From: inst/doc/00-motivations.html Status: 301 Message: Moved Permanently URL: https://en.cppreference.com/w/cpp/utility/initializer_list (moved to https://en.cppreference.com/w/cpp/utility/initializer_list.html) From: inst/doc/00-motivations.html Status: 301 Message: Moved Permanently URL: https://github.com/pachadotdev/cpp4r/blob/main/cpp4rtest/src/sum.cpp From: inst/doc/00-motivations.html Status: 404 Message: Not Found URL: https://github.com/pachadotdev/cpp4r/issues/330 From: inst/doc/14-internals.html Status: 404 Message: Not Found URL: https://github.com/pachadotdev/cpp4rarmadillo From: inst/doc/16-worked-examples.html Status: 404 Message: Not Found URL: https://github.com/pachadotdev/cpp4rtesseract From: inst/doc/16-worked-examples.html Status: 404 Message: Not Found URL: https://leanpub.next/os From: inst/doc/06-statistical-functions.html Status: Error Message: Could not resolve hostname [leanpub.next]: Could not resolve host: leanpub.next URL: https://pacha.dev/cpp4rarmadillo/ From: inst/doc/13-linear-algebra.html Status: 404 Message: Not Found URL: https://www.buymeacoffee.com/pacha (moved to https://buymeacoffee.com/pacha) From: README.md Status: 301 Message: Moved Permanently For content that is 'Moved Permanently', please change http to https, add trailing slashes, or replace the old by the new URL. * checking package namespace information ... OK * checking package dependencies ... OK * checking if this is a source package ... OK * checking if there is a namespace ... OK * checking for executable files ... OK * checking for hidden files and directories ... OK * checking for portable file names ... OK * checking for sufficient/correct file permissions ... OK * checking whether package ‘cpp4r’ can be installed ... [1s/1s] OK * checking package directory ... OK * checking for future file timestamps ... OK * checking DESCRIPTION meta-information ... OK * checking top-level files ... OK * checking for left-over files ... OK * checking index information ... OK * checking package subdirectories ... OK * checking code files for non-ASCII characters ... OK * checking R files for syntax errors ... OK * checking whether the package can be loaded ... [0s/0s] OK * checking whether the package can be loaded with stated dependencies ... [0s/0s] OK * checking whether the package can be unloaded cleanly ... [0s/0s] OK * checking whether the namespace can be loaded with stated dependencies ... [0s/0s] OK * checking whether the namespace can be unloaded cleanly ... [0s/0s] OK * checking loading without being on the library search path ... [0s/0s] OK * checking use of S3 registration ... OK * checking dependencies in R code ... OK * checking S3 generic/method consistency ... OK * checking replacement functions ... OK * checking foreign function calls ... OK * checking R code for possible problems ... [2s/2s] OK * checking Rd files ... [0s/0s] OK * checking Rd metadata ... OK * checking Rd line widths ... OK * checking Rd cross-references ... OK * checking for missing documentation entries ... OK * checking for code/documentation mismatches ... OK * checking Rd \usage sections ... OK * checking Rd contents ... OK * checking for unstated dependencies in examples ... OK * checking line endings in C/C++/Fortran sources/headers ... OK * checking pragmas in C/C++ headers and code ... OK * checking installed files from ‘inst/doc’ ... OK * checking files in ‘vignettes’ ... OK * checking examples ... [1s/1s] OK * checking for unstated dependencies in ‘tests’ ... OK * checking tests ... [2s/2s] OK Running ‘testthat.R’ [1s/1s] * checking for unstated dependencies in vignettes ... OK * checking package vignettes ... OK * checking re-building of vignette outputs ... [42s/42s] OK * checking PDF version of manual ... [3s/3s] OK * checking HTML version of manual ... [0s/0s] OK * checking for non-standard things in the check directory ... OK * checking for detritus in the temp directory ... OK * DONE Status: 1 NOTE