* using log directory 'd:/RCompile/CRANincoming/R-devel/confidenceSim.Rcheck' * using R Under development (unstable) (2025-10-13 r88918 ucrt) * using platform: x86_64-w64-mingw32 * R was compiled by gcc.exe (GCC) 14.2.0 GNU Fortran (GCC) 14.2.0 * running under: Windows Server 2022 x64 (build 20348) * using session charset: UTF-8 * checking for file 'confidenceSim/DESCRIPTION' ... OK * this is package 'confidenceSim' version '0.1.0' * package encoding: UTF-8 * checking CRAN incoming feasibility ... NOTE Maintainer: 'Freda Werdiger ' New submission * checking package namespace information ... OK * checking package dependencies ... OK * checking if this is a source package ... OK * checking if there is a namespace ... OK * checking for hidden files and directories ... OK * checking for portable file names ... OK * checking whether package 'confidenceSim' can be installed ... OK * checking installed package size ... OK * checking package directory ... OK * checking for future file timestamps ... OK * checking 'build' directory ... OK * checking DESCRIPTION meta-information ... OK * checking top-level files ... OK * checking for left-over files ... OK * checking index information ... OK * checking package subdirectories ... OK * checking code files for non-ASCII characters ... OK * checking R files for syntax errors ... OK * checking whether the package can be loaded ... OK * checking whether the package can be loaded with stated dependencies ... OK * checking whether the package can be unloaded cleanly ... OK * checking whether the namespace can be loaded with stated dependencies ... OK * checking whether the namespace can be unloaded cleanly ... OK * checking loading without being on the library search path ... OK * checking use of S3 registration ... OK * checking dependencies in R code ... OK * checking S3 generic/method consistency ... OK * checking replacement functions ... OK * checking foreign function calls ... OK * checking R code for possible problems ... NOTE collectNodes: no visible binding for global variable 'read.csv' getAccrual: no visible global function definition for 'rexp' getBoundsFromConfidence: no visible global function definition for 'qnorm' getDataBin: no visible global function definition for 'rbinom' getDataCont: no visible global function definition for 'rnorm' getDataOrd: no visible global function definition for 'rmultinom' getGSDesign: no visible global function definition for 'pastt0' getSuffStats : : no visible global function definition for 'sd' getparlist: no visible global function definition for 'pastt0' runSingleTrial: no visible global function definition for 'tail' runSingleTrial: no visible global function definition for 'read.csv' runSingleTrial: no visible global function definition for 'write.csv' Undefined global functions or variables: pastt0 qnorm rbinom read.csv rexp rmultinom rnorm sd tail write.csv Consider adding importFrom("stats", "qnorm", "rbinom", "rexp", "rmultinom", "rnorm", "sd") importFrom("utils", "read.csv", "tail", "write.csv") to your NAMESPACE file. * checking Rd files ... NOTE checkRd: (-1) getConfidenceFromBounds.Rd:15: Lost braces in \itemize; \value handles \item{}{} directly checkRd: (-1) getConfidenceFromBounds.Rd:16: Lost braces in \itemize; \value handles \item{}{} directly checkRd: (-1) getConfidenceFromBounds.Rd:17: Lost braces in \itemize; \value handles \item{}{} directly checkRd: (-1) getConfidenceFromBounds.Rd:18: Lost braces in \itemize; \value handles \item{}{} directly checkRd: (-1) getConfidenceFromBounds.Rd:19: Lost braces in \itemize; \value handles \item{}{} directly checkRd: (-1) getCurrentData.Rd:23: Lost braces in \itemize; \value handles \item{}{} directly checkRd: (-1) getCurrentData.Rd:24: Lost braces in \itemize; \value handles \item{}{} directly checkRd: (-1) getCurrentData.Rd:25: Lost braces in \itemize; \value handles \item{}{} directly checkRd: (-1) getCurrentData.Rd:26: Lost braces in \itemize; \value handles \item{}{} directly checkRd: (-1) getCurrentData.Rd:27: Lost braces in \itemize; \value handles \item{}{} directly checkRd: (-1) runSingleTrial.Rd:49: Lost braces in \itemize; \value handles \item{}{} directly checkRd: (-1) runSingleTrial.Rd:50: Lost braces in \itemize; \value handles \item{}{} directly checkRd: (-1) runSingleTrial.Rd:51: Lost braces in \itemize; \value handles \item{}{} directly checkRd: (-1) runSingleTrial.Rd:52: Lost braces in \itemize; \value handles \item{}{} directly checkRd: (-1) runSingleTrial.Rd:53: Lost braces in \itemize; \value handles \item{}{} directly checkRd: (-1) runSingleTrial.Rd:54: Lost braces in \itemize; \value handles \item{}{} directly checkRd: (-1) runSingleTrial.Rd:55: Lost braces in \itemize; \value handles \item{}{} directly checkRd: (-1) runSingleTrial.Rd:56: Lost braces in \itemize; \value handles \item{}{} directly checkRd: (-1) runSingleTrial.Rd:57: Lost braces in \itemize; \value handles \item{}{} directly checkRd: (-1) runSingleTrial.Rd:58: Lost braces in \itemize; \value handles \item{}{} directly checkRd: (-1) runSingleTrial.Rd:59: Lost braces in \itemize; \value handles \item{}{} directly checkRd: (-1) runSingleTrial.Rd:60: Lost braces in \itemize; \value handles \item{}{} directly checkRd: (-1) runSingleTrial.Rd:61: Lost braces in \itemize; \value handles \item{}{} directly checkRd: (-1) runSingleTrial.Rd:62: Lost braces in \itemize; \value handles \item{}{} directly checkRd: (-1) runSingleTrial.Rd:63: Lost braces in \itemize; \value handles \item{}{} directly checkRd: (-1) runSingleTrial.Rd:64: Lost braces in \itemize; \value handles \item{}{} directly checkRd: (-1) runSingleTrial.Rd:65: Lost braces in \itemize; \value handles \item{}{} directly * checking Rd metadata ... OK * checking Rd line widths ... OK * checking Rd cross-references ... OK * checking for missing documentation entries ... OK * checking for code/documentation mismatches ... OK * checking Rd \usage sections ... OK * checking Rd contents ... OK * checking for unstated dependencies in examples ... OK * checking contents of 'data' directory ... OK * checking data for non-ASCII characters ... OK * checking LazyData ... OK * checking data for ASCII and uncompressed saves ... OK * checking installed files from 'inst/doc' ... OK * checking files in 'vignettes' ... OK * checking examples ... [27s] NOTE Examples with CPU (user + system) or elapsed time > 10s user system elapsed runSingleTrial 10.03 0.08 10.11 collectNodes 7.62 0.41 13.58 * checking for unstated dependencies in 'tests' ... OK * checking tests ... OK Running 'testthat.R' * checking for unstated dependencies in vignettes ... OK * checking package vignettes ... OK * checking re-building of vignette outputs ... OK * checking PDF version of manual ... [13s] OK * checking HTML version of manual ... NOTE Found the following HTML validation problems: runSingleTrial.html:72:146 (runSingleTrial.Rd:34): Error: is not recognized! runSingleTrial.html:72:146 (runSingleTrial.Rd:34): Warning: discarding unexpected * DONE Status: 5 NOTEs