* using log directory 'd:/RCompile/CRANincoming/R-devel/collapse.Rcheck' * using R Under development (unstable) (2025-10-22 r88967 ucrt) * using platform: x86_64-w64-mingw32 * R was compiled by gcc.exe (GCC) 14.2.0 GNU Fortran (GCC) 14.2.0 * running under: Windows Server 2022 x64 (build 20348) * using session charset: UTF-8 * checking for file 'collapse/DESCRIPTION' ... OK * this is package 'collapse' version '2.1.4' * package encoding: UTF-8 * checking CRAN incoming feasibility ... [13s] NOTE Maintainer: 'Sebastian Krantz ' Found the following (possibly) invalid URLs: URL: https://en.wikipedia.org/wiki/Algorithms_for_calculating_variance From: man/fvar_fsd.Rd man/qsu.Rd Status: 429 Message: Too Many Requests URL: https://www.tidyverse.org/ (moved to https://tidyverse.org/) From: inst/doc/collapse_for_tidyverse_users.html Status: 301 Message: Moved Permanently For content that is 'Moved Permanently', please change http to https, add trailing slashes, or replace the old by the new URL. * checking package namespace information ... OK * checking package dependencies ... OK * checking if this is a source package ... OK * checking if there is a namespace ... OK * checking for hidden files and directories ... OK * checking for portable file names ... OK * checking whether package 'collapse' can be installed ... OK * used C compiler: 'gcc.exe (GCC) 14.2.0' * used C++ compiler: 'g++.exe (GCC) 14.2.0' * checking installed package size ... OK * checking package directory ... OK * checking for future file timestamps ... OK * checking 'build' directory ... OK * checking DESCRIPTION meta-information ... OK * checking top-level files ... OK * checking for left-over files ... OK * checking index information ... OK * checking package subdirectories ... OK * checking code files for non-ASCII characters ... OK * checking R files for syntax errors ... OK * checking whether the package can be loaded ... OK * checking whether the package can be loaded with stated dependencies ... OK * checking whether the package can be unloaded cleanly ... OK * checking whether the namespace can be loaded with stated dependencies ... OK * checking whether the namespace can be unloaded cleanly ... OK * checking loading without being on the library search path ... OK * checking whether startup messages can be suppressed ... OK * checking use of S3 registration ... OK * checking dependencies in R code ... OK * checking S3 generic/method consistency ... OK * checking replacement functions ... OK * checking foreign function calls ... OK * checking R code for possible problems ... [37s] OK * checking Rd files ... NOTE checkRd: (-1) GRP.Rd:185-202: Only 7 columns allowed in this table (row 2 has 1) checkRd: (-1) GRP.Rd:185-202: Only 7 columns allowed in this table (row 4 has 1) checkRd: (-1) GRP.Rd:185-202: Only 7 columns allowed in this table (row 6 has 1) checkRd: (-1) GRP.Rd:185-202: Only 7 columns allowed in this table (row 8 has 1) checkRd: (-1) GRP.Rd:185-202: Only 7 columns allowed in this table (row 10 has 1) checkRd: (-1) GRP.Rd:185-202: Only 7 columns allowed in this table (row 12 has 1) checkRd: (-1) GRP.Rd:185-202: Only 7 columns allowed in this table (row 14 has 1) checkRd: (-1) GRP.Rd:185-202: Only 7 columns allowed in this table (row 16 has 1) checkRd: (-1) GRP.Rd:185-202: Only 7 columns allowed in this table (row 18 has 1) checkRd: (-1) collapse-documentation.Rd:16-69: Only 5 columns allowed in this table (row 3 has 1) checkRd: (-1) collapse-documentation.Rd:16-69: Only 5 columns allowed in this table (row 4 has 1) checkRd: (-1) collapse-documentation.Rd:16-69: Only 5 columns allowed in this table (row 6 has 1) checkRd: (-1) collapse-documentation.Rd:16-69: Only 5 columns allowed in this table (row 7 has 1) checkRd: (-1) collapse-documentation.Rd:16-69: Only 5 columns allowed in this table (row 9 has 1) checkRd: (-1) collapse-documentation.Rd:16-69: Only 5 columns allowed in this table (row 10 has 1) checkRd: (-1) collapse-documentation.Rd:16-69: Only 5 columns allowed in this table (row 12 has 1) checkRd: (-1) collapse-documentation.Rd:16-69: Only 5 columns allowed in this table (row 13 has 1) checkRd: (-1) collapse-documentation.Rd:16-69: Only 5 columns allowed in this table (row 15 has 1) checkRd: (-1) collapse-documentation.Rd:16-69: Only 5 columns allowed in this table (row 16 has 1) checkRd: (-1) collapse-documentation.Rd:16-69: Only 5 columns allowed in this table (row 18 has 1) checkRd: (-1) collapse-documentation.Rd:16-69: Only 5 columns allowed in this table (row 19 has 1) checkRd: (-1) collapse-documentation.Rd:16-69: Only 5 columns allowed in this table (row 21 has 1) checkRd: (-1) collapse-documentation.Rd:16-69: Only 5 columns allowed in this table (row 22 has 1) checkRd: (-1) collapse-documentation.Rd:16-69: Only 5 columns allowed in this table (row 24 has 1) checkRd: (-1) collapse-documentation.Rd:16-69: Only 5 columns allowed in this table (row 25 has 1) checkRd: (-1) collapse-documentation.Rd:16-69: Only 5 columns allowed in this table (row 27 has 1) checkRd: (-1) collapse-documentation.Rd:16-69: Only 5 columns allowed in this table (row 28 has 1) checkRd: (-1) collapse-documentation.Rd:16-69: Only 5 columns allowed in this table (row 29 has 1) checkRd: (-1) collapse-documentation.Rd:16-69: Only 5 columns allowed in this table (row 31 has 1) checkRd: (-1) collapse-documentation.Rd:16-69: Only 5 columns allowed in this table (row 32 has 1) checkRd: (-1) collapse-documentation.Rd:16-69: Only 5 columns allowed in this table (row 35 has 1) checkRd: (-1) collapse-documentation.Rd:16-69: Only 5 columns allowed in this table (row 36 has 1) checkRd: (-1) collapse-documentation.Rd:16-69: Only 5 columns allowed in this table (row 38 has 1) checkRd: (-1) collapse-documentation.Rd:16-69: Only 5 columns allowed in this table (row 39 has 1) checkRd: (-1) collapse-documentation.Rd:16-69: Only 5 columns allowed in this table (row 41 has 1) checkRd: (-1) collapse-documentation.Rd:16-69: Only 5 columns allowed in this table (row 42 has 1) checkRd: (-1) collapse-documentation.Rd:16-69: Only 5 columns allowed in this table (row 44 has 1) checkRd: (-1) collapse-documentation.Rd:16-69: Only 5 columns allowed in this table (row 45 has 1) checkRd: (-1) collapse-documentation.Rd:16-69: Only 5 columns allowed in this table (row 47 has 1) checkRd: (-1) collapse-documentation.Rd:16-69: Only 5 columns allowed in this table (row 48 has 1) checkRd: (-1) collapse-options.Rd:24-70: Only 3 columns allowed in this table (row 2 has 1) checkRd: (-1) collapse-options.Rd:24-70: Only 3 columns allowed in this table (row 3 has 1) checkRd: (-1) collapse-options.Rd:24-70: Only 3 columns allowed in this table (row 4 has 1) checkRd: (-1) collapse-options.Rd:24-70: Only 3 columns allowed in this table (row 6 has 1) checkRd: (-1) collapse-options.Rd:24-70: Only 3 columns allowed in this table (row 7 has 1) checkRd: (-1) collapse-options.Rd:24-70: Only 3 columns allowed in this table (row 8 has 1) checkRd: (-1) collapse-options.Rd:24-70: Only 3 columns allowed in this table (row 10 has 1) checkRd: (-1) collapse-options.Rd:24-70: Only 3 columns allowed in this table (row 11 has 1) checkRd: (-1) collapse-options.Rd:24-70: Only 3 columns allowed in this table (row 12 has 1) checkRd: (-1) collapse-options.Rd:24-70: Only 3 columns allowed in this table (row 14 has 1) checkRd: (-1) collapse-options.Rd:24-70: Only 3 columns allowed in this table (row 15 has 1) checkRd: (-1) collapse-options.Rd:24-70: Only 3 columns allowed in this table (row 16 has 1) checkRd: (-1) collapse-options.Rd:24-70: Only 3 columns allowed in this table (row 18 has 1) checkRd: (-1) collapse-options.Rd:24-70: Only 3 columns allowed in this table (row 19 has 1) checkRd: (-1) collapse-options.Rd:24-70: Only 3 columns allowed in this table (row 20 has 1) checkRd: (-1) collapse-options.Rd:24-70: Only 3 columns allowed in this table (row 22 has 1) checkRd: (-1) collapse-options.Rd:24-70: Only 3 columns allowed in this table (row 23 has 1) checkRd: (-1) collapse-options.Rd:24-70: Only 3 columns allowed in this table (row 24 has 1) checkRd: (-1) collapse-options.Rd:24-70: Only 3 columns allowed in this table (row 26 has 1) checkRd: (-1) collapse-options.Rd:24-70: Only 3 columns allowed in this table (row 27 has 1) checkRd: (-1) collapse-options.Rd:24-70: Only 3 columns allowed in this table (row 28 has 1) checkRd: (-1) collapse-options.Rd:24-70: Only 3 columns allowed in this table (row 30 has 1) checkRd: (-1) collapse-options.Rd:24-70: Only 3 columns allowed in this table (row 32 has 1) checkRd: (-1) collapse-options.Rd:24-70: Only 3 columns allowed in this table (row 34 has 1) checkRd: (-1) collapse-options.Rd:24-70: Only 3 columns allowed in this table (row 36 has 1) checkRd: (-1) collapse-options.Rd:24-70: Only 3 columns allowed in this table (row 38 has 1) checkRd: (-1) collapse-options.Rd:24-70: Only 3 columns allowed in this table (row 40 has 1) checkRd: (-1) collapse-options.Rd:24-70: Only 3 columns allowed in this table (row 42 has 1) checkRd: (-1) collapse-options.Rd:24-70: Only 3 columns allowed in this table (row 44 has 1) checkRd: (-1) collapse-options.Rd:24-70: Only 3 columns allowed in this table (row 46 has 1) checkRd: (-1) collapse-options.Rd:24-70: Only 3 columns allowed in this table (row 48 has 1) checkRd: (-1) collapse-options.Rd:24-70: Only 3 columns allowed in this table (row 50 has 1) checkRd: (-1) collapse-options.Rd:24-70: Only 3 columns allowed in this table (row 52 has 1) checkRd: (-1) collapse-options.Rd:24-70: Only 3 columns allowed in this table (row 53 has 1) checkRd: (-1) collapse-options.Rd:24-70: Only 3 columns allowed in this table (row 54 has 1) checkRd: (-1) collapse-options.Rd:24-70: Only 3 columns allowed in this table (row 55 has 1) checkRd: (-1) collapse-options.Rd:24-70: Only 3 columns allowed in this table (row 56 has 1) checkRd: (-1) collapse-options.Rd:24-70: Only 3 columns allowed in this table (row 58 has 1) checkRd: (-1) collapse-options.Rd:24-70: Only 3 columns allowed in this table (row 60 has 1) checkRd: (-1) collapse-options.Rd:24-70: Only 3 columns allowed in this table (row 62 has 1) checkRd: (-1) collapse-options.Rd:24-70: Only 3 columns allowed in this table (row 64 has 1) checkRd: (-1) collapse-options.Rd:24-70: Only 3 columns allowed in this table (row 66 has 1) checkRd: (-1) collapse-options.Rd:24-70: Only 3 columns allowed in this table (row 68 has 1) checkRd: (-1) collapse-options.Rd:24-70: Only 3 columns allowed in this table (row 69 has 1) checkRd: (-1) collapse-options.Rd:24-70: Only 3 columns allowed in this table (row 70 has 1) checkRd: (-1) collapse-options.Rd:24-70: Only 3 columns allowed in this table (row 71 has 1) checkRd: (-1) collapse-options.Rd:24-70: Only 3 columns allowed in this table (row 72 has 1) checkRd: (-1) pad.Rd:26-30: Only 5 columns allowed in this table (row 3 has 1) checkRd: (-1) pad.Rd:26-30: Only 5 columns allowed in this table (row 4 has 1) checkRd: (-1) pad.Rd:26-30: Only 5 columns allowed in this table (row 6 has 1) checkRd: (-1) pad.Rd:26-30: Only 5 columns allowed in this table (row 7 has 1) checkRd: (-1) pivot.Rd:40-44: Only 3 columns allowed in this table (row 2 has 1) checkRd: (-1) pivot.Rd:40-44: Only 3 columns allowed in this table (row 4 has 1) checkRd: (-1) pivot.Rd:40-44: Only 3 columns allowed in this table (row 6 has 1) checkRd: (-1) pivot.Rd:49-53: Only 3 columns allowed in this table (row 2 has 1) checkRd: (-1) pivot.Rd:49-53: Only 3 columns allowed in this table (row 4 has 1) checkRd: (-1) pivot.Rd:49-53: Only 3 columns allowed in this table (row 6 has 1) checkRd: (-1) summary-statistics.Rd:25-34: Only 5 columns allowed in this table (row 9 has 1) * checking Rd metadata ... OK * checking Rd line widths ... OK * checking Rd cross-references ... OK * checking for missing documentation entries ... OK * checking for code/documentation mismatches ... OK * checking Rd \usage sections ... OK * checking Rd contents ... OK * checking for unstated dependencies in examples ... OK * checking contents of 'data' directory ... OK * checking data for non-ASCII characters ... OK * checking LazyData ... OK * checking data for ASCII and uncompressed saves ... OK * checking line endings in C/C++/Fortran sources/headers ... OK * checking line endings in Makefiles ... OK * checking compilation flags in Makevars ... OK * checking for GNU extensions in Makefiles ... OK * checking for portable use of $(BLAS_LIBS) and $(LAPACK_LIBS) ... OK * checking use of PKG_*FLAGS in Makefiles ... OK * checking use of SHLIB_OPENMP_*FLAGS in Makefiles ... OK * checking pragmas in C/C++ headers and code ... OK * checking compilation flags used ... OK * checking compiled code ... OK * checking installed files from 'inst/doc' ... OK * checking files in 'vignettes' ... OK * checking examples ... [23s] OK * checking for unstated dependencies in 'tests' ... OK * checking tests ... [138s] OK Running 'testthat.R' [137s] * checking for unstated dependencies in vignettes ... OK * checking package vignettes ... OK * checking re-building of vignette outputs ... OK * checking PDF version of manual ... [20s] OK * checking HTML version of manual ... [17s] OK * DONE Status: 2 NOTEs