* using log directory ‘/srv/hornik/tmp/CRAN_pretest/cocktailApp.Rcheck’
* using R Under development (unstable) (2025-11-04 r88984)
* using platform: x86_64-pc-linux-gnu
* R was compiled by
Debian clang version 19.1.7 (7)
Debian flang-new version 19.1.7 (7)
* running under: Debian GNU/Linux forky/sid
* using session charset: UTF-8
* checking for file ‘cocktailApp/DESCRIPTION’ ... OK
* this is package ‘cocktailApp’ version ‘0.2.4’
* checking CRAN incoming feasibility ... [4s/6s] OK
* checking package namespace information ... OK
* checking package dependencies ... OK
* checking if this is a source package ... OK
* checking if there is a namespace ... OK
* checking for executable files ... OK
* checking for hidden files and directories ... OK
* checking for portable file names ... OK
* checking for sufficient/correct file permissions ... OK
* checking serialization versions ... OK
* checking whether package ‘cocktailApp’ can be installed ... [3s/3s] OK
* checking package directory ... OK
* checking for future file timestamps ... OK
* checking DESCRIPTION meta-information ... OK
* checking top-level files ... OK
* checking for left-over files ... OK
* checking index information ... OK
* checking package subdirectories ... OK
* checking code files for non-ASCII characters ... OK
* checking R files for syntax errors ... OK
* checking whether the package can be loaded ... [1s/1s] OK
* checking whether the package can be loaded with stated dependencies ... [1s/1s] OK
* checking whether the package can be unloaded cleanly ... [1s/1s] OK
* checking whether the namespace can be loaded with stated dependencies ... [1s/1s] OK
* checking whether the namespace can be unloaded cleanly ... [1s/1s] OK
* checking loading without being on the library search path ... [1s/1s] OK
* checking use of S3 registration ... OK
* checking dependencies in R code ... OK
* checking S3 generic/method consistency ... OK
* checking replacement functions ... OK
* checking foreign function calls ... OK
* checking R code for possible problems ... [5s/5s] OK
* checking Rd files ... [0s/0s] OK
* checking Rd metadata ... OK
* checking Rd line widths ... OK
* checking Rd cross-references ... OK
* checking for missing documentation entries ... OK
* checking for code/documentation mismatches ... OK
* checking Rd \usage sections ... OK
* checking Rd contents ... OK
* checking for unstated dependencies in examples ... OK
* checking contents of ‘data’ directory ... OK
* checking data for non-ASCII characters ... [1s/1s] OK
* checking data for ASCII and uncompressed saves ... OK
* checking examples ... [2s/2s] OK
* checking for unstated dependencies in ‘tests’ ... OK
* checking tests ... [16s/16s] OK
Running ‘testthat.R’ [16s/16s]
* checking PDF version of manual ... [3s/3s] OK
* checking HTML version of manual ... [0s/0s] NOTE
Found the following HTML validation problems:
cocktailApp.html:93:4 (cocktailApp.Rd:61): Warning:
attribute "width" has invalid value "1500px"
cocktailApp.html:106:4 (cocktailApp.Rd:77): Warning:
attribute "width" has invalid value "1500px"
cocktailApp.html:116:4 (cocktailApp.Rd:90): Warning:
attribute "width" has invalid value "1500px"
cocktailApp.html:123:4 (cocktailApp.Rd:100): Warning:
attribute "width" has invalid value "1500px"
* checking for non-standard things in the check directory ... OK
* checking for detritus in the temp directory ... OK
* DONE
Status: 1 NOTE