* using log directory 'd:/RCompile/CRANincoming/R-devel/cmsafvis.Rcheck' * using R Under development (unstable) (2025-10-19 r88945 ucrt) * using platform: x86_64-w64-mingw32 * R was compiled by gcc.exe (GCC) 14.2.0 GNU Fortran (GCC) 14.2.0 * running under: Windows Server 2022 x64 (build 20348) * using session charset: UTF-8 * checking for file 'cmsafvis/DESCRIPTION' ... OK * this is package 'cmsafvis' version '1.3.0' * package encoding: UTF-8 * checking CRAN incoming feasibility ... OK * checking package namespace information ... OK * checking package dependencies ... OK * checking if this is a source package ... OK * checking if there is a namespace ... OK * checking for hidden files and directories ... OK * checking for portable file names ... OK * checking whether package 'cmsafvis' can be installed ... OK * checking installed package size ... OK * checking package directory ... OK * checking for future file timestamps ... OK * checking DESCRIPTION meta-information ... OK * checking top-level files ... OK * checking for left-over files ... OK * checking index information ... OK * checking package subdirectories ... OK * checking code files for non-ASCII characters ... OK * checking R files for syntax errors ... OK * checking whether the package can be loaded ... OK * checking whether the package can be loaded with stated dependencies ... OK * checking whether the package can be unloaded cleanly ... OK * checking whether the namespace can be loaded with stated dependencies ... OK * checking whether the namespace can be unloaded cleanly ... OK * checking loading without being on the library search path ... OK * checking use of S3 registration ... OK * checking dependencies in R code ... OK * checking S3 generic/method consistency ... OK * checking replacement functions ... OK * checking foreign function calls ... OK * checking R code for possible problems ... [20s] OK * checking Rd files ... OK * checking Rd metadata ... OK * checking Rd line widths ... OK * checking Rd cross-references ... OK * checking for missing documentation entries ... OK * checking for code/documentation mismatches ... OK * checking Rd \usage sections ... OK * checking Rd contents ... OK * checking for unstated dependencies in examples ... OK * checking R/sysdata.rda ... OK * checking examples ... NONE * checking for unstated dependencies in 'tests' ... OK * checking tests ... OK Running 'spelling.R' Running 'testthat.R' * checking PDF version of manual ... [18s] OK * checking HTML version of manual ... NOTE Found the following HTML validation problems: helper_time_series_compare.html:46:1 (helper_time_series_compare.Rd:10): Warning: missing before recalculateImageDimensions.html:68:1 (recalculateImageDimensions.Rd:24): Warning: missing before render_hist_plot.html:73:1 (render_hist_plot.Rd:27): Warning: missing before render_instat_plot.html:73:1 (render_instat_plot.Rd:27): Warning: missing before render_plot.html:259:1 (render_plot.Rd:139): Warning: missing before render_plot_1d.html:140:1 (render_plot_1d.Rd:68): Warning: missing before render_plot_1d_advanced.html:125:1 (render_plot_1d_advanced.Rd:59): Warning: missing before render_plot_hist_compare.html:99:1 (render_plot_hist_compare.Rd:43): Warning: missing before render_plot_hovmoller.html:101:1 (render_plot_hovmoller.Rd:45): Warning: missing before render_plot_scatter.html:114:1 (render_plot_scatter.Rd:52): Warning: missing before render_plot_side_by_side.html:259:1 (render_plot_side_by_side.Rd:139): Warning: missing before render_plot_time_series_compare.html:135:1 (render_plot_time_series_compare.Rd:65): Warning: missing before render_preview_plot.html:58:1 (render_preview_plot.Rd:16): Warning: missing before time_series_plot.html:182:1 (time_series_plot.Rd:94): Warning: missing before trend_plot.html:177:1 (trend_plot.Rd:91): Warning: missing before * DONE Status: 1 NOTE