* using log directory ‘/srv/hornik/tmp/CRAN_pretest/catSurv.Rcheck’ * using R Under development (unstable) (2025-10-13 r88918) * using platform: x86_64-pc-linux-gnu * R was compiled by Debian clang version 19.1.7 (7) Debian flang-new version 19.1.7 (7) * running under: Debian GNU/Linux forky/sid * using session charset: UTF-8 * checking for file ‘catSurv/DESCRIPTION’ ... OK * checking extension type ... Package * this is package ‘catSurv’ version ‘1.6.0’ * package encoding: UTF-8 * checking CRAN incoming feasibility ... [4s/5s] NOTE Maintainer: ‘Erin Rossiter ’ Possibly misspelled words in DESCRIPTION: Birnbaums (6:261) Found the following (possibly) invalid URLs: URL: https://dataverse.harvard.edu/dataset.xhtml?persistentId=hdl:1902.1/19381 From: man/polknowMT.Rd Status: 202 Message: Accepted URL: https://dataverse.harvard.edu/dataverse/pdsl From: man/agree_cat.Rd man/consc_cat.Rd man/empathy_cat.Rd man/extra_cat.Rd man/mach_cat.Rd man/neuro_cat.Rd man/nfa_cat.Rd man/nfc_cat.Rd man/npi_cat.Rd man/nte_cat.Rd man/open_cat.Rd man/rwa_cat.Rd man/sdo_cat.Rd man/sv_conservation_cat.Rd man/sv_open_cat.Rd man/sv_selfenhance_cat.Rd man/sv_selftransc_cat.Rd man/systemizing_cat.Rd Status: 202 Message: Accepted * checking package namespace information ... OK * checking package dependencies ... OK * checking if this is a source package ... OK * checking if there is a namespace ... OK * checking for executable files ... OK * checking for hidden files and directories ... OK * checking for portable file names ... OK * checking for sufficient/correct file permissions ... OK * checking serialization versions ... OK * checking whether package ‘catSurv’ can be installed ... [57s/57s] OK * used C compiler: ‘Debian clang version 19.1.7 (7)’ * used C++ compiler: ‘Debian clang version 19.1.7 (7)’ * checking package directory ... OK * checking for future file timestamps ... OK * checking DESCRIPTION meta-information ... OK * checking top-level files ... OK * checking for left-over files ... OK * checking index information ... OK * checking package subdirectories ... OK * checking code files for non-ASCII characters ... OK * checking R files for syntax errors ... OK * checking whether the package can be loaded ... [1s/1s] OK * checking whether the package can be loaded with stated dependencies ... [1s/1s] OK * checking whether the package can be unloaded cleanly ... [1s/1s] OK * checking whether the namespace can be loaded with stated dependencies ... [1s/1s] OK * checking whether the namespace can be unloaded cleanly ... [1s/1s] OK * checking loading without being on the library search path ... [1s/1s] OK * checking whether startup messages can be suppressed ... [1s/1s] OK * checking use of S3 registration ... OK * checking dependencies in R code ... OK * checking S3 generic/method consistency ... OK * checking replacement functions ... OK * checking foreign function calls ... OK * checking R code for possible problems ... [7s/7s] OK * checking Rd files ... [0s/0s] OK * checking Rd metadata ... OK * checking Rd line widths ... OK * checking Rd cross-references ... OK * checking for missing documentation entries ... OK * checking for code/documentation mismatches ... OK * checking Rd \usage sections ... OK * checking Rd contents ... OK * checking for unstated dependencies in examples ... OK * checking contents of ‘data’ directory ... OK * checking data for non-ASCII characters ... [1s/1s] OK * checking LazyData ... OK * checking data for ASCII and uncompressed saves ... OK * checking line endings in C/C++/Fortran sources/headers ... OK * checking line endings in Makefiles ... OK * checking compilation flags in Makevars ... OK * checking for GNU extensions in Makefiles ... OK * checking for portable use of $(BLAS_LIBS) and $(LAPACK_LIBS) ... OK * checking use of PKG_*FLAGS in Makefiles ... OK * checking use of SHLIB_OPENMP_*FLAGS in Makefiles ... OK * checking pragmas in C/C++ headers and code ... OK * checking compilation flags used ... OK * checking compiled code ... OK * checking examples ... [10s/6s] NOTE Examples with CPU time > 2.5 times elapsed time user system elapsed ratio simulateFisherInfo 1.694 0.292 0.346 5.740 simulateThetas 1.718 0.246 0.344 5.709 * checking for unstated dependencies in ‘tests’ ... OK * checking tests ... [15s/10s] OK Running ‘testthat.R’ [15s/10s] * checking PDF version of manual ... [5s/5s] OK * checking HTML version of manual ... [2s/2s] OK * checking for non-standard things in the check directory ... OK * checking for detritus in the temp directory ... OK * DONE Status: 2 NOTEs