* using log directory 'd:/RCompile/CRANincoming/R-devel/calidad.Rcheck' * using R Under development (unstable) (2025-09-29 r88883 ucrt) * using platform: x86_64-w64-mingw32 * R was compiled by gcc.exe (GCC) 14.2.0 GNU Fortran (GCC) 14.2.0 * running under: Windows Server 2022 x64 (build 20348) * using session charset: UTF-8 * checking for file 'calidad/DESCRIPTION' ... OK * checking extension type ... Package * this is package 'calidad' version '0.8.2' * package encoding: UTF-8 * checking CRAN incoming feasibility ... [113s] NOTE Maintainer: 'Klaus Lehmann ' Found the following (possibly) invalid URLs: URL: https://www.ine.cl/docs/default-source/documentos-de-trabajo/20200318-lineamientos-medidas-de-precisi%C3%B3n.pdf?sfvrsn=f1ab2dbe_4 From: inst/doc/tutorial.html Status: Error Message: SSL connect error [www.ine.cl]: Recv failure: Connection was reset URL: https://www.ine.cl/docs/default-source/institucionalidad/buenas-pr%C3%A1cticas/clasificaciones-y-estandares/est%C3%A1ndar-evaluaci%C3%B3n-de-calidad-de-estimaciones-publicaci%C3%B3n-27022020.pdf From: DESCRIPTION Status: Error Message: SSL connect error [www.ine.cl]: Recv failure: Connection was reset URL: https://www.ine.cl/docs/default-source/seguridad-ciudadana/bbdd/2019/base-de-datos---xvi-enusc-2019-(csv).csv?sfvrsn=d3465758_2&download=true From: man/enusc.Rd Status: Error Message: SSL connect error [www.ine.cl]: Recv failure: Connection was reset URL: https://www.ine.cl/estadisticas/sociales/ingresos-y-gastos/encuesta-de-presupuestos-familiares From: man/epf_personas.Rd Status: Error Message: SSL connect error [www.ine.cl]: Recv failure: Connection was reset URL: https://www.ine.cl/estadisticas/sociales/mercado-laboral/ocupacion-y-desocupacion From: man/ene.Rd Status: Error Message: SSL connect error [www.ine.cl]: Recv failure: Connection was reset URL: https://www.ine.gob.cl/docs/default-source/buenas-practicas/directrices-metodologicas/estandares/documentos/est%C3%A1ndar-evaluaci%C3%B3n-de-calidad-de-estimaciones-econ%C3%B3micas.pdf?sfvrsn=201fbeb9_2 From: DESCRIPTION inst/doc/tutorial.html Status: Error Message: SSL connect error [www.ine.gob.cl]: Recv failure: Connection was reset URL: https://www.ine.gob.cl/docs/default-source/encuesta-longitudinal-de-empresas/bbdd/ele-2022/base-de-datos-ele7.csv?sfvrsn=1504c58d_4&download=true From: man/ELE7.Rd Status: Error Message: SSL connect error [www.ine.gob.cl]: Recv failure: Connection was reset URL: https://www.ine.gob.cl/docs/default-source/encuesta-longitudinal-de-empresas/metodologias/ele-2022/informe-de-calidad-ele7.pdf?sfvrsn=6ca73eb5_4 From: man/ELE7_n_obj.Rd Status: Error Message: SSL connect error [www.ine.gob.cl]: Recv failure: Connection was reset URL: https://www.ine.gob.cl/docs/default-source/seguridad-ciudadana/bbdd/2023/base-usuario-20-enusc-2023.csv?sfvrsn=34653b72_2&download=true From: man/enusc_2023.Rd Status: Error Message: SSL connect error [www.ine.gob.cl]: Recv failure: Connection was reset * checking package namespace information ... OK * checking package dependencies ... OK * checking if this is a source package ... OK * checking if there is a namespace ... OK * checking for hidden files and directories ... OK * checking for portable file names ... OK * checking whether package 'calidad' can be installed ... OK * checking installed package size ... OK * checking package directory ... OK * checking for future file timestamps ... OK * checking 'build' directory ... OK * checking DESCRIPTION meta-information ... OK * checking top-level files ... OK * checking for left-over files ... OK * checking index information ... OK * checking package subdirectories ... OK * checking code files for non-ASCII characters ... OK * checking R files for syntax errors ... OK * checking whether the package can be loaded ... OK * checking whether the package can be loaded with stated dependencies ... OK * checking whether the package can be unloaded cleanly ... OK * checking whether the namespace can be loaded with stated dependencies ... OK * checking whether the namespace can be unloaded cleanly ... OK * checking loading without being on the library search path ... OK * checking use of S3 registration ... OK * checking dependencies in R code ... OK * checking S3 generic/method consistency ... OK * checking replacement functions ... OK * checking foreign function calls ... OK * checking R code for possible problems ... [11s] OK * checking Rd files ... OK * checking Rd metadata ... OK * checking Rd line widths ... OK * checking Rd cross-references ... OK * checking for missing documentation entries ... OK * checking for code/documentation mismatches ... OK * checking Rd \usage sections ... OK * checking Rd contents ... OK * checking for unstated dependencies in examples ... OK * checking contents of 'data' directory ... OK * checking data for non-ASCII characters ... OK * checking LazyData ... OK * checking data for ASCII and uncompressed saves ... OK * checking installed files from 'inst/doc' ... OK * checking files in 'vignettes' ... OK * checking examples ... OK * checking for unstated dependencies in 'tests' ... OK * checking tests ... [180s] OK Running 'testthat.R' [179s] * checking for unstated dependencies in vignettes ... OK * checking package vignettes ... OK * checking re-building of vignette outputs ... [16s] OK * checking PDF version of manual ... [13s] OK * checking HTML version of manual ... OK * DONE Status: 1 NOTE