* using log directory ‘/srv/hornik/tmp/CRAN_pretest/bnns.Rcheck’ * using R Under development (unstable) (2025-01-07 r87537) * using platform: x86_64-pc-linux-gnu * R was compiled by Debian clang version 19.1.6 (1) Debian flang-new version 19.1.6 (1) * running under: Debian GNU/Linux trixie/sid * using session charset: UTF-8 * checking for file ‘bnns/DESCRIPTION’ ... OK * this is package ‘bnns’ version ‘0.1.0’ * package encoding: UTF-8 * checking CRAN incoming feasibility ... [3s/4s] NOTE Maintainer: ‘Swarnendu Chatterjee ’ New submission Possibly misspelled words in DESCRIPTION: BNNs (7:31) * checking package namespace information ... OK * checking package dependencies ... INFO Packages in Depends/Imports which should probably only be in LinkingTo: ‘BH’ ‘RcppEigen’ * checking if this is a source package ... OK * checking if there is a namespace ... OK * checking for executable files ... OK * checking for hidden files and directories ... OK * checking for portable file names ... OK * checking for sufficient/correct file permissions ... OK * checking serialization versions ... OK * checking whether package ‘bnns’ can be installed ... [1s/1s] OK * checking package directory ... OK * checking for future file timestamps ... OK * checking ‘build’ directory ... OK * checking DESCRIPTION meta-information ... OK * checking top-level files ... OK * checking for left-over files ... OK * checking index information ... OK * checking package subdirectories ... OK * checking code files for non-ASCII characters ... OK * checking R files for syntax errors ... OK * checking whether the package can be loaded ... [0s/0s] OK * checking whether the package can be loaded with stated dependencies ... [0s/0s] OK * checking whether the package can be unloaded cleanly ... [0s/0s] OK * checking whether the namespace can be loaded with stated dependencies ... [0s/0s] OK * checking whether the namespace can be unloaded cleanly ... [0s/0s] OK * checking loading without being on the library search path ... [0s/0s] OK * checking use of S3 registration ... OK * checking dependencies in R code ... OK * checking S3 generic/method consistency ... OK * checking replacement functions ... OK * checking foreign function calls ... OK * checking R code for possible problems ... [2s/2s] OK * checking Rd files ... [0s/0s] OK * checking Rd metadata ... OK * checking Rd line widths ... OK * checking Rd cross-references ... OK * checking for missing documentation entries ... OK * checking for code/documentation mismatches ... OK * checking Rd \usage sections ... OK * checking Rd contents ... OK * checking for unstated dependencies in examples ... OK * checking installed files from ‘inst/doc’ ... OK * checking files in ‘vignettes’ ... OK * checking examples ... [313s/313s] NOTE Examples with CPU (user + system) or elapsed time > 5s user system elapsed bnns 52.782 1.651 54.447 bnns.default 50.084 1.569 51.675 print.bnns 50.096 1.435 51.538 summary.bnns 49.910 1.480 51.397 predict.bnns 49.494 1.324 50.842 bnns_train 49.336 1.369 50.725 * checking for unstated dependencies in ‘tests’ ... OK * checking tests ... [13m/13m] OK Running ‘testthat.R’ [13m/13m] * checking for unstated dependencies in vignettes ... OK * checking package vignettes ... OK * checking re-building of vignette outputs ... [312s/312s] OK * checking PDF version of manual ... [3s/3s] OK * checking HTML version of manual ... [1s/1s] OK * checking for non-standard things in the check directory ... OK * checking for detritus in the temp directory ... OK * DONE Status: 2 NOTEs